BEGIN:VCALENDAR
VERSION:2.0
PRODID:-//Nakano Moonstep - ECPv6.15.20//NONSGML v1.0//EN
CALSCALE:GREGORIAN
METHOD:PUBLISH
X-ORIGINAL-URL:https://nakano-dynamite.com/moonstep
X-WR-CALDESC:Nakano Moonstep のイベント
REFRESH-INTERVAL;VALUE=DURATION:PT1H
X-Robots-Tag:noindex
X-PUBLISHED-TTL:PT1H
BEGIN:VTIMEZONE
TZID:Asia/Tokyo
BEGIN:STANDARD
TZOFFSETFROM:+0900
TZOFFSETTO:+0900
TZNAME:JST
DTSTART:20240101T000000
END:STANDARD
END:VTIMEZONE
BEGIN:VEVENT
DTSTART;TZID=Asia/Tokyo:20260406T183000
DTEND;TZID=Asia/Tokyo:20260406T220000
DTSTAMP:20260422T192945
CREATED:20260330T093007Z
LAST-MODIFIED:20260330T093007Z
UID:6107-1775500200-1775512800@nakano-dynamite.com
SUMMARY:男塾　中野篇 9時限目
DESCRIPTION:2026.04.06(mon)\nOPEN 18:30 / START 19:00\nADV / DOOR 1500yen\n+1 Drink 600yen\n\n出演：\n豊水真 (LEGEND OF TRUTH)\nタケヒサ (RYDEEN/FVK)\nTK69 (PSYCHEDELIC GRINDER)\nYUGO\n\n男塾監察 presents\n男塾　中野篇 9時限目\n@中野MOONSTEP
URL:https://nakano-dynamite.com/moonstep/event/2026-04-06/
LOCATION:中野MOONSTEP\, 中野区中央5-39-16\, 東京\, 日本
CATEGORIES:2F BAR SPACE LIVE,CRAZY PARTY,LOW CHARGE
ATTACH;FMTTYPE=image/jpeg:https://nakano-dynamite.com/moonstep/wp-content/uploads/2026/03/46.jpg
END:VEVENT
BEGIN:VEVENT
DTSTART;TZID=Asia/Tokyo:20260401T190000
DTEND;TZID=Asia/Tokyo:20260401T220000
DTSTAMP:20260422T192945
CREATED:20260329T054614Z
LAST-MODIFIED:20260329T061000Z
UID:6075-1775070000-1775080800@nakano-dynamite.com
SUMMARY:水曜の園、BAR MOONSTEP -RISING野桑架瑠-
DESCRIPTION:2026.04.01(wed)\nOPEN / START 19:00\nCHARGE FREE!!!\n\n挨拶: 野桑架瑠\n\n湯澤BOYZ/茄子亭/FIRE BOYS/room10.4等で幅広く活躍中のワッツこと野桑架瑠さんの誕生日！\n水曜の園も皆様のおかげで1周年！ 当日は千葉でライヴ後に挨拶に駆けつけて頂きます！\nみんなで色々、祝い散らかしましょう！\n\n\nMOONSTEP presents\n水曜の園、BAR MOONSTEP -RISING野桑架瑠-\n@中野MOONSTEP
URL:https://nakano-dynamite.com/moonstep/event/2026-04-01/
LOCATION:中野MOONSTEP\, 中野区中央5-39-16\, 東京\, 日本
CATEGORIES:2F BAR SPACE LIVE,CRAZY PARTY,FREE PARTY,入場無料
ATTACH;FMTTYPE=image/jpeg:https://nakano-dynamite.com/moonstep/wp-content/uploads/2026/03/41.jpg
END:VEVENT
BEGIN:VEVENT
DTSTART;TZID=Asia/Tokyo:20260322T162000
DTEND;TZID=Asia/Tokyo:20260322T220000
DTSTAMP:20260422T192945
CREATED:20260320T052035Z
LAST-MODIFIED:20260320T052035Z
UID:6050-1774196400-1774216800@nakano-dynamite.com
SUMMARY:頭上
DESCRIPTION:2026.03.21(sat) & 03.22(sun)\nOPEN 16:20\nENTRANCE FREE!!!\n\n出演：\n[DJ 2DAYS]\nMUM\nさ千葉\nKUNbhaka\n［SILKSCREEN 2DAYS］\nSatoshi Ito\n［LIVE DAY1］\nkatakamuii\n［LIVE DAY2］\nOBAKECHANT\n\n\n\nP.M.F & mandala-effect presents\n頭上\n@中野MOONSTEP
URL:https://nakano-dynamite.com/moonstep/event/2026-03-22/
LOCATION:中野MOONSTEP\, 中野区中央5-39-16\, 東京\, 日本
CATEGORIES:2F BAR SPACE LIVE,CRAZY PARTY,DJ PARTY,FREE PARTY,WORKSHOP,入場無料
ATTACH;FMTTYPE=image/jpeg:https://nakano-dynamite.com/moonstep/wp-content/uploads/2026/03/z1.jpg
END:VEVENT
BEGIN:VEVENT
DTSTART;TZID=Asia/Tokyo:20260321T162000
DTEND;TZID=Asia/Tokyo:20260321T220000
DTSTAMP:20260422T192945
CREATED:20260320T051429Z
LAST-MODIFIED:20260320T051429Z
UID:6042-1774110000-1774130400@nakano-dynamite.com
SUMMARY:頭上
DESCRIPTION:2026.03.21(sat) & 03.22(sun)\nOPEN 16:20\nENTRANCE FREE!!!\n\n出演：\n[DJ 2DAYS]\nMUM\nさ千葉\nKUNbhaka\n［SILKSCREEN 2DAYS］\nSatoshi Ito\n［LIVE DAY1］\nkatakamuii\n［LIVE DAY2］\nOBAKECHANT\n\n\n\nP.M.F & mandala-effect presents\n頭上\n@中野MOONSTEP
URL:https://nakano-dynamite.com/moonstep/event/2026-03-21/
LOCATION:中野MOONSTEP\, 中野区中央5-39-16\, 東京\, 日本
CATEGORIES:2F BAR SPACE LIVE,BAR/SNACK NIGHT,CRAZY PARTY,DJ PARTY,FREE PARTY,WORKSHOP,入場無料
ATTACH;FMTTYPE=image/jpeg:https://nakano-dynamite.com/moonstep/wp-content/uploads/2026/03/z1.jpg
END:VEVENT
BEGIN:VEVENT
DTSTART;TZID=Asia/Tokyo:20260224T190000
DTEND;TZID=Asia/Tokyo:20260224T220000
DTSTAMP:20260422T192945
CREATED:20260125T075130Z
LAST-MODIFIED:20260125T075148Z
UID:5901-1771959600-1771970400@nakano-dynamite.com
SUMMARY:SESSION NIGHT
DESCRIPTION:2026.02.24(tue)\nOPEN 19:00CHARGE 1 Drink 600yen\n飛び入り参加歓迎！！2Fでジャムセッション！\nJam session @ MOON STEP Nakano.\nJOIN THE SESSION!!\n\nSESSION NIGHT CREW presents\nSESSION NIGHT\n@中野MOONSTEP
URL:https://nakano-dynamite.com/moonstep/event/2026-02-24/
LOCATION:中野MOONSTEP\, 中野区中央5-39-16\, 東京\, 日本
CATEGORIES:2F BAR SPACE LIVE,CRAZY PARTY,JAM SESSION,LOW CHARGE
ATTACH;FMTTYPE=image/jpeg:https://nakano-dynamite.com/moonstep/wp-content/uploads/2025/09/0-1756014608176.jpg
END:VEVENT
BEGIN:VEVENT
DTSTART;TZID=Asia/Tokyo:20260219T190000
DTEND;TZID=Asia/Tokyo:20260219T220000
DTSTAMP:20260422T192945
CREATED:20260110T081931Z
LAST-MODIFIED:20260211T090800Z
UID:5841-1771527600-1771538400@nakano-dynamite.com
SUMMARY:GIRIGIRI CITY vol.152 20周年祭！！
DESCRIPTION:2026.02.19(thu)\nOPEN / START 19:00\nCHARGE 1000yen (in 1 drink)\n\n出演：\n<LIVE>\nLOWBORN SOUNDSYSTEM\nド・ロドロシテル (掟ポルシェ)\nバロムさん with 佐野麻呂梨王\nアシッド田宮三四郎\n<DJ>\nOCCHIII\n古澤彰（LOWBORN SOUNDSYSTEM）\nTakashi Furusawa\n<お笑い>\nギブ大久保\n\nLOWBORN SOUNDSYSTEM presents\nGIRIGIRI CITY vol.152 20周年祭！！\n@中野MOONSTEP
URL:https://nakano-dynamite.com/moonstep/event/2026-02-19/
LOCATION:中野MOONSTEP\, 中野区中央5-39-16\, 東京\, 日本
CATEGORIES:2F BAR SPACE LIVE,CRAZY PARTY,DJ PARTY,LOW CHARGE
ATTACH;FMTTYPE=image/png:https://nakano-dynamite.com/moonstep/wp-content/uploads/2026/01/GI.png
END:VEVENT
BEGIN:VEVENT
DTSTART;TZID=Asia/Tokyo:20260216T183000
DTEND;TZID=Asia/Tokyo:20260216T220000
DTSTAMP:20260422T192945
CREATED:20260125T053639Z
LAST-MODIFIED:20260125T053639Z
UID:5895-1771266600-1771279200@nakano-dynamite.com
SUMMARY:男塾　中野篇　8限目
DESCRIPTION:2025.02.16(mon)\nOPEN 18:30 / START 19:00\nADV / DOOR 1500yen\n+1 Drink 600yen\n\n出演：\n豊泉真\nTOJO STRUMMER\n中村岳大\n聖里香\n\n男塾監察 presents\n男塾　中野篇　8限目\n@中野MOONSTEP
URL:https://nakano-dynamite.com/moonstep/event/2026-02-16/
LOCATION:中野MOONSTEP\, 中野区中央5-39-16\, 東京\, 日本
CATEGORIES:2F BAR SPACE LIVE,CRAZY PARTY,LOW CHARGE
ATTACH;FMTTYPE=image/jpeg:https://nakano-dynamite.com/moonstep/wp-content/uploads/2026/01/44432205-1769163115390.jpg
END:VEVENT
BEGIN:VEVENT
DTSTART;TZID=Asia/Tokyo:20260213T190000
DTEND;TZID=Asia/Tokyo:20260213T220000
DTSTAMP:20260422T192945
CREATED:20260117T064359Z
LAST-MODIFIED:20260117T064359Z
UID:5892-1771009200-1771020000@nakano-dynamite.com
SUMMARY:DAY OF 213 2026
DESCRIPTION:2026.02.13(fri)\nOPEN / START 19:00\nDOOR only 400yen\n+1 Drink 600yen\n\n出演：\nアノダイズヘッド\nendless summer\n<DJ>\nKUN\n楽\nPOTATO BUDS\n<挨拶>野桑　架瑠\n<FOOD>\nD.L.D.D(魂のペリメニ)\n\nMOONSTEP presents\nDAY OF 213\n@中野MOONSTEP
URL:https://nakano-dynamite.com/moonstep/event/2026-02-13/
LOCATION:中野MOONSTEP\, 中野区中央5-39-16\, 東京\, 日本
CATEGORIES:2F BAR SPACE LIVE,CRAZY PARTY,DJ PARTY,LOW CHARGE
ATTACH;FMTTYPE=image/jpeg:https://nakano-dynamite.com/moonstep/wp-content/uploads/2026/01/213.jpg
END:VEVENT
BEGIN:VEVENT
DTSTART;TZID=Asia/Tokyo:20260206T183000
DTEND;TZID=Asia/Tokyo:20260206T220000
DTSTAMP:20260422T192945
CREATED:20260117T062609Z
LAST-MODIFIED:20260201T170720Z
UID:5886-1770402600-1770415200@nakano-dynamite.com
SUMMARY:【PASS】P.M.F vol.7
DESCRIPTION:【PASS】の表記があるイベントは  \nダイナマイトパスポートで チケ代無料！   \n ドリンクチャージ600円のみで ご入場になれます。\n2026.02.06(fri)\nOPEN / START 18:30\nENTRANCE 1000yen\n+1 Drink 600yen\n\n出演：\n<LIVE>\nTORO\nyokoThema\n\n<DJ’s>\naquarium\nIBJ\nONCE MORE\nLocal Sound\n\n<COLORING BOOKS>\nmandala-effect\n\n<SILKSCREEN>\nSatoshi Ito\n\nShiyu presents\nP.M.F vol.7\n@中野MOONSTEP
URL:https://nakano-dynamite.com/moonstep/event/2026-02-06/
LOCATION:中野MOONSTEP\, 中野区中央5-39-16\, 東京\, 日本
CATEGORIES:2F BAR SPACE LIVE,CRAZY PARTY,DJ PARTY,LOW CHARGE,WORKSHOP
ATTACH;FMTTYPE=image/jpeg:https://nakano-dynamite.com/moonstep/wp-content/uploads/2026/01/0-1768566249344.jpg
END:VEVENT
BEGIN:VEVENT
DTSTART;TZID=Asia/Tokyo:20260123T190000
DTEND;TZID=Asia/Tokyo:20260123T220000
DTSTAMP:20260422T192945
CREATED:20260110T084127Z
LAST-MODIFIED:20260110T084127Z
UID:5852-1769194800-1769205600@nakano-dynamite.com
SUMMARY:MATATABI NIGHT vol.80
DESCRIPTION:2026.01.23(fri)\nOPEN 19:00 / START 19:30\nCHARGE FREE!!!\n\n出演：\n<LIVE>\nLEGEND OF TRUTH\nHAIGAN\n<DJ`s>\nBABIZOmbie\nsic\nMiK\n\nHARRY &　BABI & MOONSTEP presents\nMATATABI NIGHT vol.80\n@中野MOONSTEP
URL:https://nakano-dynamite.com/moonstep/event/2026-01-23/
LOCATION:中野MOONSTEP\, 中野区中央5-39-16\, 東京\, 日本
CATEGORIES:2F BAR SPACE LIVE,CRAZY PARTY,DJ PARTY,FREE PARTY,入場無料
ATTACH;FMTTYPE=image/jpeg:https://nakano-dynamite.com/moonstep/wp-content/uploads/2026/01/MATARA.jpg
END:VEVENT
BEGIN:VEVENT
DTSTART;TZID=Asia/Tokyo:20260121T190000
DTEND;TZID=Asia/Tokyo:20260121T220000
DTSTAMP:20260422T192945
CREATED:20260117T060450Z
LAST-MODIFIED:20260117T060510Z
UID:5873-1769022000-1769032800@nakano-dynamite.com
SUMMARY:水曜の園、BAR MOONSTEP -四暗刻単騎待ち単独公演 【単騎待ち】-
DESCRIPTION:2026.01.21(wed)\nOPEN 19:00\nCHARGE FREE!!!\n\n出演：\nDJ 夢震\n四暗刻単騎待ち\n\n水曜の園 x 夢震 presents\n水曜の園、BAR MOONSTEP -四暗刻単騎待ち単独公演 【単騎待ち】-\n@中野MOONSTEP
URL:https://nakano-dynamite.com/moonstep/event/2026-01-21/
LOCATION:中野MOONSTEP\, 中野区中央5-39-16\, 東京\, 日本
CATEGORIES:2F BAR SPACE LIVE,CRAZY PARTY,DJ PARTY,FREE PARTY,入場無料
ATTACH;FMTTYPE=image/jpeg:https://nakano-dynamite.com/moonstep/wp-content/uploads/2026/01/sui.jpg
END:VEVENT
BEGIN:VEVENT
DTSTART;TZID=Asia/Tokyo:20260116T190000
DTEND;TZID=Asia/Tokyo:20260116T220000
DTSTAMP:20260422T192945
CREATED:20251206T070043Z
LAST-MODIFIED:20251206T070043Z
UID:5782-1768590000-1768600800@nakano-dynamite.com
SUMMARY:UNITED BLOODLINE Vol.1
DESCRIPTION:2026.01.16(fri)\nOPEN 19:00 / START 20:00\nADV 1900yen / DOOR 2400yen\n+1 Drink 600yen\n\n出演：\nROCKCRIMAZ\nSEWER\nDos Quatro\n\nDos Quatro presents\nUNITED BLOODLINE Vol.1\n@中野MOONSTEP
URL:https://nakano-dynamite.com/moonstep/event/2026-01-16/
LOCATION:中野MOONSTEP\, 中野区中央5-39-16\, 東京\, 日本
CATEGORIES:2F BAR SPACE LIVE,CRAZY PARTY,LOW CHARGE
ATTACH;FMTTYPE=image/jpeg:https://nakano-dynamite.com/moonstep/wp-content/uploads/2025/12/DS.jpg
END:VEVENT
BEGIN:VEVENT
DTSTART;TZID=Asia/Tokyo:20260115T193000
DTEND;TZID=Asia/Tokyo:20260115T220000
DTSTAMP:20260422T192945
CREATED:20260106T084559Z
LAST-MODIFIED:20260106T084559Z
UID:5832-1768505400-1768514400@nakano-dynamite.com
SUMMARY:DANCING むほうちたい VOL.7
DESCRIPTION:2026.01.15(thu)\nOPEN 19:30 / START 20:00\nTICKET 2000yen\n+1 Drink 600yen\n\n出演：\nリビドーと悪魔\nRADIOACTIVE\nFRACTURE\n\nFRACTURE presents\nDANCING むほうちたい VOL.7\n@中野MOONSTEP
URL:https://nakano-dynamite.com/moonstep/event/2026-1-15/
LOCATION:中野MOONSTEP\, 中野区中央5-39-16\, 東京\, 日本
CATEGORIES:2F BAR SPACE LIVE,CRAZY PARTY
ATTACH;FMTTYPE=image/jpeg:https://nakano-dynamite.com/moonstep/wp-content/uploads/2026/01/0-1767520928270.jpg
END:VEVENT
BEGIN:VEVENT
DTSTART;TZID=Asia/Tokyo:20251229T190000
DTEND;TZID=Asia/Tokyo:20251229T220000
DTSTAMP:20260422T192945
CREATED:20251206T064721Z
LAST-MODIFIED:20251206T065256Z
UID:5773-1767034800-1767045600@nakano-dynamite.com
SUMMARY:SESSION NIGHT 忘年会
DESCRIPTION:2025.12.29(mon)\nOPEN 19:00\nCHARGE 1 Drink 600yen\n\n\n飛び入り参加歓迎！！2Fでジャムセッション！\nJam session @ MOON STEP Nakano.\nJOIN THE SESSION!!\n \nSESSION NIGHT CREW presents \nSESSION NIGHT 忘年会 \n@中野MOONSTEP
URL:https://nakano-dynamite.com/moonstep/event/2025-12-29/
LOCATION:中野MOONSTEP\, 中野区中央5-39-16\, 東京\, 日本
CATEGORIES:2F BAR SPACE LIVE,BAR/SNACK NIGHT,JAM SESSION,LOW CHARGE
ATTACH;FMTTYPE=image/jpeg:https://nakano-dynamite.com/moonstep/wp-content/uploads/2025/09/0-1756014608176.jpg
END:VEVENT
BEGIN:VEVENT
DTSTART;TZID=Asia/Tokyo:20251226T183000
DTEND;TZID=Asia/Tokyo:20251226T220000
DTSTAMP:20260422T192945
CREATED:20251011T140328Z
LAST-MODIFIED:20251011T140328Z
UID:5612-1766773800-1766786400@nakano-dynamite.com
SUMMARY:A THREE BAND GIG
DESCRIPTION:2025.12.26(fri)\nOPEN 18:30 / START 19:30\nTICKET 2000yen\n+1 Drink 600yen\n\n出演：\nDANCE WITH ME\nGOOD DREAM\nBad Attack\n\nA THREE BAND GIG\n@中野MOONSTEP
URL:https://nakano-dynamite.com/moonstep/event/2025-12-26/
LOCATION:中野MOONSTEP\, 中野区中央5-39-16\, 東京\, 日本
CATEGORIES:2F BAR SPACE LIVE,CRAZY PARTY
ATTACH;FMTTYPE=image/jpeg:https://nakano-dynamite.com/moonstep/wp-content/uploads/2025/10/GOOD.jpg
END:VEVENT
BEGIN:VEVENT
DTSTART;TZID=Asia/Tokyo:20251222T190000
DTEND;TZID=Asia/Tokyo:20251222T220000
DTSTAMP:20260422T192945
CREATED:20251108T073446Z
LAST-MODIFIED:20251108T073446Z
UID:5680-1766430000-1766440800@nakano-dynamite.com
SUMMARY:GIRIGIRI CITY vol.151 ~クリスマスSP~
DESCRIPTION:2025.12.22(mon)\nOPEN / START 19:00\nCHARGE 1000yen (1ドリンク付)\n\n出演：\n<LIVE>\nLOWBORN SOUNDSYSTEM\nemulsion\nディスコロマンス\nk-tanaka\n<DJ's>\nOCCHIII\n古澤彰 (LOWBORN SOUNDSYSTEM)\nTakashi Furusawa\n<お笑い>\nギブ↑大久保\n\nLOWBORN SOUNDSYSTEM presents\nGIRIGIRI CITY vol.151 ~クリスマスSP~\n@中野MOONSTEP
URL:https://nakano-dynamite.com/moonstep/event/2025-12-22/
LOCATION:中野MOONSTEP\, 中野区中央5-39-16\, 東京\, 日本
CATEGORIES:2F BAR SPACE LIVE,CRAZY PARTY,LOW CHARGE
ATTACH;FMTTYPE=image/jpeg:https://nakano-dynamite.com/moonstep/wp-content/uploads/2025/11/giri.jpg
END:VEVENT
BEGIN:VEVENT
DTSTART;TZID=Asia/Tokyo:20251202T183000
DTEND;TZID=Asia/Tokyo:20251202T220000
DTSTAMP:20260422T192945
CREATED:20251115T091859Z
LAST-MODIFIED:20251115T091859Z
UID:5707-1764700200-1764712800@nakano-dynamite.com
SUMMARY:男塾　中野篇 7限目
DESCRIPTION:2025.12.02(tue)\nOPEN 18:30 / START 19:00\nADV / DOOR 1500yen\n+1 Drink 600yen\n\n出演：\nソニー\nとがしのぶゆき\n煩悩頭カズ\n豊泉真\n\n男塾監察 presents\n男塾　中野篇 7限目\n@中野MOONSTEP
URL:https://nakano-dynamite.com/moonstep/event/2025-12-02/
LOCATION:中野MOONSTEP\, 中野区中央5-39-16\, 東京\, 日本
CATEGORIES:2F BAR SPACE LIVE,CRAZY PARTY,LOW CHARGE
ATTACH;FMTTYPE=image/jpeg:https://nakano-dynamite.com/moonstep/wp-content/uploads/2025/11/otoko.jpg
END:VEVENT
BEGIN:VEVENT
DTSTART;TZID=Asia/Tokyo:20251125T184500
DTEND;TZID=Asia/Tokyo:20251125T220000
DTSTAMP:20260422T192945
CREATED:20251101T061740Z
LAST-MODIFIED:20251101T061747Z
UID:5662-1764096300-1764108000@nakano-dynamite.com
SUMMARY:DANCING むほうちたい vol.6
DESCRIPTION:2025.11.25(tue)\nOPEN 18:45 / START 19:15\nTICKET 2000yen\n+1 Drink 600yen\n\n出演：\nB.P.M.Z\nおまえ\nFRACTURE\nGOOD DREAM\n\nFRACTURE presents\nDANCING むほうちたい vol.6\n@中野MOONSTEP
URL:https://nakano-dynamite.com/moonstep/event/2025-11-25/
LOCATION:中野MOONSTEP\, 中野区中央5-39-16\, 東京\, 日本
CATEGORIES:2F BAR SPACE LIVE,CRAZY PARTY,LOW CHARGE
ATTACH;FMTTYPE=image/jpeg:https://nakano-dynamite.com/moonstep/wp-content/uploads/2025/11/fra.jpg
END:VEVENT
BEGIN:VEVENT
DTSTART;TZID=Asia/Tokyo:20251111T183000
DTEND;TZID=Asia/Tokyo:20251111T220000
DTSTAMP:20260422T192945
CREATED:20251026T052057Z
LAST-MODIFIED:20251026T052123Z
UID:5641-1762885800-1762898400@nakano-dynamite.com
SUMMARY:甘い誘惑 #58 〜TxKx69 生誕祭〜
DESCRIPTION:2025.11.11(tue)\nOPEN 18:30 / START 19:00\nTICKET 2100yen (in 1 drink)\n\n出演：\nPSYCHEDELIC GRINDER\nチョコパイン\n<DJ's>\nBABIZOmbie\nハリーと電気羊\n<FREE FOOD>\nチョチロウ (マザーアース)\n\n甘い誘惑 #58 〜TxKx69 生誕祭〜\n@中野MOONSTEP
URL:https://nakano-dynamite.com/moonstep/event/2025-11-11/
LOCATION:中野MOONSTEP\, 中野区中央5-39-16\, 東京\, 日本
CATEGORIES:2F BAR SPACE LIVE,CRAZY PARTY,DJ PARTY,LOW CHARGE
ATTACH;FMTTYPE=image/jpeg:https://nakano-dynamite.com/moonstep/wp-content/uploads/2025/10/TYOKO.jpg
END:VEVENT
BEGIN:VEVENT
DTSTART;TZID=Asia/Tokyo:20251103T143000
DTEND;TZID=Asia/Tokyo:20251103T220000
DTSTAMP:20260422T192945
CREATED:20251026T050440Z
LAST-MODIFIED:20251026T050652Z
UID:5632-1762180200-1762207200@nakano-dynamite.com
SUMMARY:【PASS】SURVIVAL DRIVE vol.3
DESCRIPTION:【PASS】の表記があるイベントは \nダイナマイトパスポートで チケ代無料！   \nドリンクチャージ600円のみで ご入場になれます。\n\n2025.11.03(mon)\nOPEN 14:30 / START 15:00\nTICKET 3000yen\n+1 Drink 600yen\n\n出演：\n<1F LIVE>\nKURUUCREW\nKiima Kariis\nsoccer.\nenola (Indonesia)\npale\nMUT\nAbiuro\n<2F LIVE>\nOKINA\n1/8 計画\nhellill\n<DL's>\nNGYL\nMUM\n<FOOD>\nZAKURO\n<SHOP>\nMRSMARKET\n\nMorishima & Haruna presents\nSURVIVAL DRIVE vol.3\n@中野MOONSTEP
URL:https://nakano-dynamite.com/moonstep/event/2025-11-03/
LOCATION:中野MOONSTEP\, 中野区中央5-39-16\, 東京\, 日本
CATEGORIES:2F BAR SPACE LIVE,CRAZY PARTY,DJ PARTY
ATTACH;FMTTYPE=image/jpeg:https://nakano-dynamite.com/moonstep/wp-content/uploads/2025/10/saba.jpg
END:VEVENT
BEGIN:VEVENT
DTSTART;TZID=Asia/Tokyo:20251029T190000
DTEND;TZID=Asia/Tokyo:20251029T220000
DTSTAMP:20260422T192945
CREATED:20251013T093139Z
LAST-MODIFIED:20251013T093139Z
UID:5626-1761764400-1761775200@nakano-dynamite.com
SUMMARY:水曜の園、BAR MOONSTEP -OQV魂のワンマン 30分一本勝負-
DESCRIPTION:2025.10.29(wed)\nOPEN 19:00 \nCHARGE FREE!!!\n\n出演：\nOQV\n\nMOONSTEP presents\n水曜の園、BAR MOONSTEP -OQV魂のワンマン 30分一本勝負-\n@中野MOONSTEP
URL:https://nakano-dynamite.com/moonstep/event/2025-10-29/
LOCATION:中野MOONSTEP\, 中野区中央5-39-16\, 東京\, 日本
CATEGORIES:2F BAR SPACE LIVE,BAR/SNACK NIGHT,CRAZY PARTY,FREE PARTY,入場無料
ATTACH;FMTTYPE=image/jpeg:https://nakano-dynamite.com/moonstep/wp-content/uploads/2025/10/0-1760341799796.jpg
END:VEVENT
BEGIN:VEVENT
DTSTART;TZID=Asia/Tokyo:20251028T190000
DTEND;TZID=Asia/Tokyo:20251028T220000
DTSTAMP:20260422T192945
CREATED:20250912T085443Z
LAST-MODIFIED:20250912T085443Z
UID:5459-1761678000-1761688800@nakano-dynamite.com
SUMMARY:SESSION NIGHT
DESCRIPTION:2025.10.28(tue)\nOPEN 19:00\nENTRANCE 1 Drink order!\n\n\nSESSION NIGHT CREW presents\nSESSION NIGHT\n@中野MOONSTEP
URL:https://nakano-dynamite.com/moonstep/event/2025-10-28/
LOCATION:中野MOONSTEP\, 中野区中央5-39-16\, 東京\, 日本
CATEGORIES:2F BAR SPACE LIVE,BAR/SNACK NIGHT,CRAZY PARTY
ATTACH;FMTTYPE=image/jpeg:https://nakano-dynamite.com/moonstep/wp-content/uploads/2025/09/0-1756014608176.jpg
END:VEVENT
BEGIN:VEVENT
DTSTART;TZID=Asia/Tokyo:20251022T190000
DTEND;TZID=Asia/Tokyo:20251022T220000
DTSTAMP:20260422T192945
CREATED:20250912T143511Z
LAST-MODIFIED:20250912T143511Z
UID:5477-1761159600-1761170400@nakano-dynamite.com
SUMMARY:水曜の園、BAR MOONSTEP -昇格戦　小久保、中久保、大久保へ WEEP & Schattered 2MAN-
DESCRIPTION:2025.10.22(wed)\nOPEN / START 19:00\nCHARGE FREE!!!\n\n出演：\nWEEP\nSchattered\n<DJ>\nPOTATO BUDS\n\nMOONSTEP presents\n水曜の園、BAR MOONSTEP -昇格戦　小久保、中久保、大久保へ WEEP & Schattered 2MAN-\n@中野MOONSTEP
URL:https://nakano-dynamite.com/moonstep/event/2025-10-22/
LOCATION:中野MOONSTEP\, 中野区中央5-39-16\, 東京\, 日本
CATEGORIES:2F BAR SPACE LIVE,CRAZY PARTY,DJ PARTY,FREE PARTY,入場無料
ATTACH;FMTTYPE=image/jpeg:https://nakano-dynamite.com/moonstep/wp-content/uploads/2025/09/OOKUBO.jpg
END:VEVENT
BEGIN:VEVENT
DTSTART;TZID=Asia/Tokyo:20251020T190000
DTEND;TZID=Asia/Tokyo:20251020T220000
DTSTAMP:20260422T192945
CREATED:20250912T142847Z
LAST-MODIFIED:20250912T142847Z
UID:5473-1760986800-1760997600@nakano-dynamite.com
SUMMARY:GIRIGIRI CITY vol.150 -10月生まれ誕生パーティー！-
DESCRIPTION:2025.10.20(mon)\nOPEN / START 19:00\nCHARGE 1000yen (in 1 Drink)\n\n出演：\n<LIVE>\nLOWBORN SOUNDSYSTEM\nモリカワヤスシ\nサイケデリック道中\nいきあたりばったりボーイズ\n<DJ's>\nOCCHIII\n古澤彰 (LOWBORN SOUNDSYSTEM)\nTakashi Furusawa\n<お笑い>\nギブ↑大久保\n\nLOWBORN SOUNDSYSTEM presents\nGIRIGIRI CITY vol.150 -10月生まれ誕生パーティー！-\n@中野MOONSTEP
URL:https://nakano-dynamite.com/moonstep/event/2025-10-20/
LOCATION:中野MOONSTEP\, 中野区中央5-39-16\, 東京\, 日本
CATEGORIES:2F BAR SPACE LIVE,CRAZY PARTY,DJ PARTY
ATTACH;FMTTYPE=image/jpeg:https://nakano-dynamite.com/moonstep/wp-content/uploads/2025/09/GIRIGIRIGIRI.jpg
END:VEVENT
BEGIN:VEVENT
DTSTART;TZID=Asia/Tokyo:20251010T190000
DTEND;TZID=Asia/Tokyo:20251010T220000
DTSTAMP:20260422T192945
CREATED:20251001T125923Z
LAST-MODIFIED:20251001T125923Z
UID:5547-1760122800-1760133600@nakano-dynamite.com
SUMMARY:MATATABI NIGHT vol.77
DESCRIPTION:2025.10.10(fri)\nOPEN 19:00 / START 19:30\nCHARGE FREE!!!\n\n出演：\ncorresponds to the predececcer\nゼビットC.C\n<DJ's>\nBABIZOmbie\nハリーと電気羊\nDJ Diabetes\n\nHARRY & BABI & MOONSTEP presents\nMATATABI NIGHT vol.77\n@中野MOONSTEP
URL:https://nakano-dynamite.com/moonstep/event/2025-10-10/
LOCATION:中野MOONSTEP\, 中野区中央5-39-16\, 東京\, 日本
CATEGORIES:2F BAR SPACE LIVE,CRAZY PARTY,DJ PARTY,FREE PARTY,入場無料
ATTACH;FMTTYPE=image/jpeg:https://nakano-dynamite.com/moonstep/wp-content/uploads/2025/10/0-1759323195900.jpg
END:VEVENT
BEGIN:VEVENT
DTSTART;TZID=Asia/Tokyo:20250926T190000
DTEND;TZID=Asia/Tokyo:20250926T220000
DTSTAMP:20260422T192945
CREATED:20250822T094320Z
LAST-MODIFIED:20250822T094320Z
UID:5390-1758913200-1758924000@nakano-dynamite.com
SUMMARY:MATATABI NIGHT Vol.76
DESCRIPTION:2025.09.26(fri)\nOPEN 19:00 / START 19:30\nCHARGE FREE!!!\n出演：\nDIET OF DEATH\ncorresponds to the predecessor\n<DJ's>\nBABIZØmbie\n乗り鉄\nAxGx\n\nHARRY & BABI & MOONSTEP presents\nMATATABI NIGHT Vol.76\n@中野MOONSTEP
URL:https://nakano-dynamite.com/moonstep/event/2025-09-26/
LOCATION:中野MOONSTEP\, 中野区中央5-39-16\, 東京\, 日本
CATEGORIES:2F BAR SPACE LIVE,CRAZY PARTY,DJ PARTY,FREE PARTY,入場無料
ATTACH;FMTTYPE=image/jpeg:https://nakano-dynamite.com/moonstep/wp-content/uploads/2025/08/MATATABI76.jpg
END:VEVENT
BEGIN:VEVENT
DTSTART;TZID=Asia/Tokyo:20250918T200000
DTEND;TZID=Asia/Tokyo:20250918T220000
DTSTAMP:20260422T192945
CREATED:20250912T082958Z
LAST-MODIFIED:20250912T083102Z
UID:5444-1758225600-1758232800@nakano-dynamite.com
SUMMARY:Sound Heresies squat Moonstep
DESCRIPTION:2025.09.18(thu)\nOPEN / 20:00\nCHARGE FREE!!!\n\n出演：\nUNSKILLED LAB（Band set)\nRADIOACTIVE\n<DJ>\nSo\n\nUNSKILLED LAB presents\nSound Heresies squat Moonstep\n@中野MOONSTEP
URL:https://nakano-dynamite.com/moonstep/event/2025-09-18/
LOCATION:中野MOONSTEP\, 中野区中央5-39-16\, 東京\, 日本
CATEGORIES:2F BAR SPACE LIVE,CRAZY PARTY,DJ PARTY,FREE PARTY,入場無料
ATTACH;FMTTYPE=image/jpeg:https://nakano-dynamite.com/moonstep/wp-content/uploads/2025/09/0-1757135932968.jpg
END:VEVENT
BEGIN:VEVENT
DTSTART;TZID=Asia/Tokyo:20250917T190000
DTEND;TZID=Asia/Tokyo:20250917T220000
DTSTAMP:20260422T192945
CREATED:20250912T083711Z
LAST-MODIFIED:20250912T083711Z
UID:5449-1758135600-1758146400@nakano-dynamite.com
SUMMARY:水曜の園、BAR MOONSTEP -池間円花に１００００回のありがとうを-
DESCRIPTION:2025.09.17(wed)\nOPEN / START 19:00\nCHARGE FREE!!!\n\n出演：\n<神>\n池間円花\n<通訳>\n拷問\n<挨拶>\n野桑架瑠\n<GOLDFINGER>\n213\n<タイムトラベラー漫談>\n田村清子\n<DJ>\n楽\nたかぎジェ(JasonAndrew)\nMUM\nPOTATO BUDS\n\nMOONSTEP presents\n水曜の園、BAR MOONSTEP -池間円花に１００００回のありがとうを-\n@中野MOONSTEP
URL:https://nakano-dynamite.com/moonstep/event/2025-09-17/
LOCATION:中野MOONSTEP\, 中野区中央5-39-16\, 東京\, 日本
CATEGORIES:2F BAR SPACE LIVE,CRAZY PARTY,DJ PARTY,FREE PARTY
ATTACH;FMTTYPE=image/jpeg:https://nakano-dynamite.com/moonstep/wp-content/uploads/2025/09/0-1757579906210.jpg
END:VEVENT
BEGIN:VEVENT
DTSTART;TZID=Asia/Tokyo:20250827T190000
DTEND;TZID=Asia/Tokyo:20250827T220000
DTSTAMP:20260422T192945
CREATED:20250822T093051Z
LAST-MODIFIED:20250822T093051Z
UID:5387-1756321200-1756332000@nakano-dynamite.com
SUMMARY:水曜の園、BAR MOONSTEP
DESCRIPTION:2025.08.27(fri)\nOPEN 19:00\nCHARGE FREE!!!\n出演：\nPOTATO BUDS\nさ千葉\nZu-kkkker\nRILY cat\nNGYL\nuuu7\nタイムトラベラー漫談　田村清子\n\nMOONSTEP presents\n水曜の園、BAR MOONSTEP\n@中野MOONSTEP
URL:https://nakano-dynamite.com/moonstep/event/2025-08-27/
LOCATION:中野MOONSTEP\, 中野区中央5-39-16\, 東京\, 日本
CATEGORIES:2F BAR SPACE LIVE,CRAZY PARTY,DJ PARTY,FREE PARTY,入場無料
ATTACH;FMTTYPE=image/jpeg:https://nakano-dynamite.com/moonstep/wp-content/uploads/2025/08/jori.jpg
END:VEVENT
BEGIN:VEVENT
DTSTART;TZID=Asia/Tokyo:20250826T190000
DTEND;TZID=Asia/Tokyo:20250826T220000
DTSTAMP:20260422T192945
CREATED:20250721T091838Z
LAST-MODIFIED:20250721T091943Z
UID:5323-1756234800-1756245600@nakano-dynamite.com
SUMMARY:GIRIGIRI CITY vol.149
DESCRIPTION:2025.08.26(tue)\nOPEN / START 19:00\nCHARGE 1000yen (1Drink付)\n\n出演：\n<LIVE>\nLOWBORN SOUNDSYSTEM\nバロムさん\nたぬとわ\n<DJ's>\nOCCHIII\n古澤彰 (LOWBORN SOUNDSYSTEM)\nTakashi Furusawa\nDAIKU INDUSTRIES\n<お笑い>\nギブ↑大久保\n\nLOWBORN SOUNDSYSTEM presents\nGIRIGIRI CITY vol.149\n@中野MOONSTEP
URL:https://nakano-dynamite.com/moonstep/event/2025-08-26/
LOCATION:中野MOONSTEP\, 中野区中央5-39-16\, 東京\, 日本
CATEGORIES:2F BAR SPACE LIVE,CRAZY PARTY,DJ PARTY,LOW CHARGE
ATTACH;FMTTYPE=image/jpeg:https://nakano-dynamite.com/moonstep/wp-content/uploads/2025/07/GIRIGIRI8.jpg
END:VEVENT
END:VCALENDAR