BEGIN:VCALENDAR
VERSION:2.0
PRODID:-//Nakano Moonstep - ECPv6.15.20//NONSGML v1.0//EN
CALSCALE:GREGORIAN
METHOD:PUBLISH
X-ORIGINAL-URL:https://nakano-dynamite.com/moonstep
X-WR-CALDESC:Nakano Moonstep のイベント
REFRESH-INTERVAL;VALUE=DURATION:PT1H
X-Robots-Tag:noindex
X-PUBLISHED-TTL:PT1H
BEGIN:VTIMEZONE
TZID:Asia/Tokyo
BEGIN:STANDARD
TZOFFSETFROM:+0900
TZOFFSETTO:+0900
TZNAME:JST
DTSTART:20230101T000000
END:STANDARD
END:VTIMEZONE
BEGIN:VEVENT
DTSTART;TZID=Asia/Tokyo:20241122T180000
DTEND;TZID=Asia/Tokyo:20241122T220000
DTSTAMP:20260424T224544
CREATED:20241025T092927Z
LAST-MODIFIED:20241121T101905Z
UID:4418-1732298400-1732312800@nakano-dynamite.com
SUMMARY:π paper
DESCRIPTION:2024.11.22(fri)\nOPEN / START 18:00\nTICKET 2400yen\n+1 Drink 600yen\n出演:\nABOS\nBANGLANG\n家畜\n<DJs>\naquarium\nIBJ\nMID PLANTS\nyodel\n床松\n\nMORISHIMA & SHIYUU presents\nπ paper\n@中野MOONSTEP
URL:https://nakano-dynamite.com/moonstep/event/2024-11-22/
LOCATION:中野MOONSTEP\, 中野区中央5-39-16\, 東京\, 日本
CATEGORIES:CRAZY PARTY,DJ PARTY
ATTACH;FMTTYPE=image/jpeg:https://nakano-dynamite.com/moonstep/wp-content/uploads/2024/10/0-1732089741155.jpg
END:VEVENT
BEGIN:VEVENT
DTSTART;TZID=Asia/Tokyo:20241208T163000
DTEND;TZID=Asia/Tokyo:20241208T220000
DTSTAMP:20260424T224544
CREATED:20241109T065130Z
LAST-MODIFIED:20241109T065130Z
UID:4456-1733675400-1733695200@nakano-dynamite.com
SUMMARY:UP&DAMN 2024
DESCRIPTION:2024.12.08(sun)\nOPEN 16:30 / 17:00\nTICKET 3000yen U-23 1500yen \n+1 Drink 600yen\n出演：\nABOS\nFAAFAAZ\nFIGHT IT OUT\nGEVABOW\nGOREFLIX\nSUPER STRUCTURE\nネムレス\nピーポーズ\n偶人\n黒パイプ\npenisboys\n高倉健\n\nflyer:よーぺい(the futures)\n※HIMOは諸事情により、キャンセルとなりました。\n\npenisboys & 高倉健 presents\nUP&DAMN 2024\n@中野MOONSTEP
URL:https://nakano-dynamite.com/moonstep/event/2024-12-08/
LOCATION:中野MOONSTEP\, 中野区中央5-39-16\, 東京\, 日本
ATTACH;FMTTYPE=image/jpeg:https://nakano-dynamite.com/moonstep/wp-content/uploads/2024/11/0-1730991003094.jpg
END:VEVENT
BEGIN:VEVENT
DTSTART;TZID=Asia/Tokyo:20241214T150000
DTEND;TZID=Asia/Tokyo:20241214T220000
DTSTAMP:20260424T224544
CREATED:20241102T053404Z
LAST-MODIFIED:20241102T053404Z
UID:4443-1734188400-1734213600@nakano-dynamite.com
SUMMARY:つづけ！宇宙のボンクラに
DESCRIPTION:2024.12.14(sat)\nOPEN 15:00 / START 15:30\nTICKET 1900yen\n+1 Drink 600yen\n出演：\nABOS\nBUMPED HIS HEAD\nDANMUSH\nNK6\nRYDEEN\nsoldela\nSPEAKEASY\n家畜\nやさぐれ\n  \nOKBOY & 死游 presents\nつづけ！宇宙のボンクラに\n@中野MOONSTEP
URL:https://nakano-dynamite.com/moonstep/event/2024-12-14/
LOCATION:中野MOONSTEP\, 中野区中央5-39-16\, 東京\, 日本
CATEGORIES:CRAZY PARTY,LOW CHARGE
ATTACH;FMTTYPE=image/jpeg:https://nakano-dynamite.com/moonstep/wp-content/uploads/2024/11/0-1730377756324.jpg
END:VEVENT
BEGIN:VEVENT
DTSTART;TZID=Asia/Tokyo:20250216T160000
DTEND;TZID=Asia/Tokyo:20250216T220000
DTSTAMP:20260424T224544
CREATED:20250215T155559Z
LAST-MODIFIED:20250215T155844Z
UID:4782-1739721600-1739743200@nakano-dynamite.com
SUMMARY:SPEAKEASY vol.2 -KOYO&TAKUMI BIRTHDAY SPECIAL-
DESCRIPTION:2025.03.15(sat)\nOPEN 16:00 / START 16:30\nENTRANCE 2000yen\n+1 Drink 600yen\n\n出演：\nABOS\nFPCD\nKILLOUT\nMurakuMo\nSPKEZ\n黄色い喉\n<MC SHOWCASE>\nminami\nXUSHN\n淡梨TANLEE\n<DJ>\nFATONE(太一)\nKC(from RUSHING AGE)\nMIDPLANTS\n\nSPEAKEASY presents\nSPEAKEASY vol.2 -KOYO&TAKUMI BIRTHDAY SPECIAL-\n@中野MOONSTEP
URL:https://nakano-dynamite.com/moonstep/event/2025-03-15/
LOCATION:中野MOONSTEP\, 中野区中央5-39-16\, 東京\, 日本
CATEGORIES:CRAZY PARTY
ATTACH;FMTTYPE=image/jpeg:https://nakano-dynamite.com/moonstep/wp-content/uploads/2025/02/0-1738918877918.jpg
END:VEVENT
BEGIN:VEVENT
DTSTART;TZID=Asia/Tokyo:20250412T170000
DTEND;TZID=Asia/Tokyo:20250412T220000
DTSTAMP:20260424T224544
CREATED:20250224T081030Z
LAST-MODIFIED:20250224T081030Z
UID:4834-1744477200-1744495200@nakano-dynamite.com
SUMMARY:KITASHINJUKU HARDCORE "HARDCORE VIBRATION" Release Live
DESCRIPTION:2025.04.12(sat)\nOPEN 17:00 / START 17:30\nADV / DOOR 2500yen\n+1 Drink 600yen\n出演：\nHIMO\nDANCE WITH ME\n高倉健\nABOS\n☆HISATAKA☆\nセノオGEE\nbonstar\n東金b¥pass\n\nHIMO presents\nKITASHINJUKU HARDCORE "HARDCORE VIBRATION" Release Live\n@中野MOONSTEP
URL:https://nakano-dynamite.com/moonstep/event/2025-04-12/
LOCATION:中野MOONSTEP\, 中野区中央5-39-16\, 東京\, 日本
CATEGORIES:CRAZY PARTY
ATTACH;FMTTYPE=image/jpeg:https://nakano-dynamite.com/moonstep/wp-content/uploads/2025/02/0-1740384436937.jpg
END:VEVENT
BEGIN:VEVENT
DTSTART;TZID=Asia/Tokyo:20260523T170000
DTEND;TZID=Asia/Tokyo:20260523T220000
DTSTAMP:20260424T224544
CREATED:20260307T093414Z
LAST-MODIFIED:20260329T061953Z
UID:6020-1779555600-1779573600@nakano-dynamite.com
SUMMARY:KITASHINJUKU HARDCORE
DESCRIPTION:2026.05.23(sat)\nOPEN 17:00 / START 17:30\nADV 2400yen / DOOR 2900yen\n+1 Drink 600yen\n\n出演：\nHIMO\n☆HISATAKA☆ (大阪)\nPIGMEN\nBLONDnewHALF (神戸)\nぐうたら狂 (神戸)\nNK6\nBuenos Caminos\nABOS\n\nHIMO presents\nKITASHINJUKU HARDCORE\n@中野MOONSTEP
URL:https://nakano-dynamite.com/moonstep/event/2026-05-23/
LOCATION:中野MOONSTEP\, 中野区中央5-39-16\, 東京\, 日本
CATEGORIES:CRAZY PARTY
ATTACH;FMTTYPE=image/jpeg:https://nakano-dynamite.com/moonstep/wp-content/uploads/2026/03/523.jpg
END:VEVENT
END:VCALENDAR