BEGIN:VCALENDAR
VERSION:2.0
PRODID:-//Nakano Moonstep - ECPv6.15.20//NONSGML v1.0//EN
CALSCALE:GREGORIAN
METHOD:PUBLISH
X-WR-CALNAME:Nakano Moonstep
X-ORIGINAL-URL:https://nakano-dynamite.com/moonstep
X-WR-CALDESC:Nakano Moonstep のイベント
REFRESH-INTERVAL;VALUE=DURATION:PT1H
X-Robots-Tag:noindex
X-PUBLISHED-TTL:PT1H
BEGIN:VTIMEZONE
TZID:Asia/Tokyo
BEGIN:STANDARD
TZOFFSETFROM:+0900
TZOFFSETTO:+0900
TZNAME:JST
DTSTART:20220101T000000
END:STANDARD
END:VTIMEZONE
BEGIN:VEVENT
DTSTART;TZID=Asia/Tokyo:20250907T173000
DTEND;TZID=Asia/Tokyo:20250907T220000
DTSTAMP:20260422T093416
CREATED:20250828T085306Z
LAST-MODIFIED:20250828T085306Z
UID:5420-1757266200-1757282400@nakano-dynamite.com
SUMMARY:POP!! 千葉史雄生誕３０周年記念パーティー
DESCRIPTION:2025.09.07(sun)\nOPEN / START 17:30\nTICKET 1400yen\n+1 Drink 600yen\n\n出演：\n<LIVE>\nAND BELIEVE\nHEAD GEAR\nアノダイズヘッド\n湯澤BOYZ\n<DJ’s>\naquarium\nMUM\nONCE MORE\n\nMOONSTEP presents\nPOP!! 千葉史雄生誕３０周年記念パーティー\n@中野MOONSTEP
URL:https://nakano-dynamite.com/moonstep/event/2025-09-07/
LOCATION:中野MOONSTEP\, 中野区中央5-39-16\, 東京\, 日本
CATEGORIES:CRAZY PARTY,DJ PARTY,LOW CHARGE
ATTACH;FMTTYPE=image/jpeg:https://nakano-dynamite.com/moonstep/wp-content/uploads/2025/08/0-1756034825866.jpg
END:VEVENT
BEGIN:VEVENT
DTSTART;TZID=Asia/Tokyo:20241122T180000
DTEND;TZID=Asia/Tokyo:20241122T220000
DTSTAMP:20260422T093416
CREATED:20241025T092927Z
LAST-MODIFIED:20241121T101905Z
UID:4418-1732298400-1732312800@nakano-dynamite.com
SUMMARY:π paper
DESCRIPTION:2024.11.22(fri)\nOPEN / START 18:00\nTICKET 2400yen\n+1 Drink 600yen\n出演:\nABOS\nBANGLANG\n家畜\n<DJs>\naquarium\nIBJ\nMID PLANTS\nyodel\n床松\n\nMORISHIMA & SHIYUU presents\nπ paper\n@中野MOONSTEP
URL:https://nakano-dynamite.com/moonstep/event/2024-11-22/
LOCATION:中野MOONSTEP\, 中野区中央5-39-16\, 東京\, 日本
CATEGORIES:CRAZY PARTY,DJ PARTY
ATTACH;FMTTYPE=image/jpeg:https://nakano-dynamite.com/moonstep/wp-content/uploads/2024/10/0-1732089741155.jpg
END:VEVENT
BEGIN:VEVENT
DTSTART;TZID=Asia/Tokyo:20240712T170000
DTEND;TZID=Asia/Tokyo:20240712T220000
DTSTAMP:20260422T093416
CREATED:20240609T143706Z
LAST-MODIFIED:20240609T143706Z
UID:3977-1720803600-1720821600@nakano-dynamite.com
SUMMARY:ART&CULTURE-今日超気温気持ち良い篇-
DESCRIPTION:2024.07.12(Fri)\nOPEN / START 17:00\nTICKET 1400yen\n+1 Drink 600yen\n\n出演:\n<LIVE>\nTORO\nANGEL\n<DJ>\naquarium\nKUN\nNGYL\nLOCAL SOUND\nMID PLANTS\nさ千葉\nPOTATO BUDS\n\nSHIYUU & AZAMI presents\nART&CULTURE-今日超気温気持ち良い篇-\n@MOONSTEP
URL:https://nakano-dynamite.com/moonstep/event/2024-07-12/
LOCATION:中野MOONSTEP\, 中野区中央5-39-16\, 東京\, 日本
CATEGORIES:2F BAR SPACE LIVE,CRAZY PARTY,DJ PARTY,LOW CHARGE
ATTACH;FMTTYPE=image/jpeg:https://nakano-dynamite.com/moonstep/wp-content/uploads/2024/06/0-1717322926703.jpg
END:VEVENT
BEGIN:VEVENT
DTSTART;TZID=Asia/Tokyo:20240426T183000
DTEND;TZID=Asia/Tokyo:20240426T220000
DTSTAMP:20260422T093416
CREATED:20240319T132533Z
LAST-MODIFIED:20240419T070510Z
UID:3731-1714156200-1714168800@nakano-dynamite.com
SUMMARY:ポリエステルマザーファッカー vol.1
DESCRIPTION:2024.04.26(fri)\nOPEN 18:30 / START 19:00\nDoor 2000yen\n+ 1 Drink\n\n出演:\n<BAND>\nnastie\nTORO\nLook Of Dub\n<MC>\nWALO\nBAZ-LIXON\n<DJ>\nIBJ\nONCE MORE\nMUM\naquarium\nThree-CODE\nYKAY\n<SILKSCREEN>\nSATOSHI ITO\n\nSHIYUU presents\nポリエステルマザーファッカー vol.1\n@中野MOONSTEP
URL:https://nakano-dynamite.com/moonstep/event/2024-04-26/
LOCATION:中野MOONSTEP\, 中野区中央5-39-16\, 東京\, 日本
CATEGORIES:CRAZY PARTY,DJ PARTY
ATTACH;FMTTYPE=image/jpeg:https://nakano-dynamite.com/moonstep/wp-content/uploads/2024/03/0-1709124179107.jpg
END:VEVENT
BEGIN:VEVENT
DTSTART;TZID=Asia/Tokyo:20230722T150000
DTEND;TZID=Asia/Tokyo:20230722T220000
DTSTAMP:20260422T093416
CREATED:20230712T162134Z
LAST-MODIFIED:20230712T162134Z
UID:1408-1690038000-1690063200@nakano-dynamite.com
SUMMARY:LOCAL MARKET VOL.6
DESCRIPTION:2023.07.22(sat)\nOpen / Start 15:00\nCHARGE ￥2000 +1D\n\n[LIVE]\nnomura elico (Live ART)\n伊差川　奨\nfutures\nTRES\nChapa\n\n[DJ]\n林田　陸\nGAMEBOY\nmanaya\nmasayoshi\nFUMI\nAquarium a.k.a 外神田 deepspace\n\n[APPAREL]\nLOCALSKIN\nCHAIN GANG\npong-pong knit\n\n[NAIL]\ntikako\n\n[ART]\nHiroko Ishida\n十字路\n\n[ACCESSORIES]\narcana\n1998 jewel\n\n[MAGAZINE]\nJID\n\n[FOOD]\nSOL TACOS\nノゾエ(CURRY)\n\n[DRINK]\nHomechal\n\n[HENNATATTOO]\n燈\n\n\nLOCALSKIN PRESENTS\nLOCAL MARKET VOL.6\n@中野MOONSTEP
URL:https://nakano-dynamite.com/moonstep/event/2023-07-22/
LOCATION:中野MOONSTEP\, 中野区中央5-39-16\, 東京\, 日本
CATEGORIES:CRAZY PARTY
ATTACH;FMTTYPE=image/jpeg:https://nakano-dynamite.com/moonstep/wp-content/uploads/2023/07/20230722.jpg
END:VEVENT
END:VCALENDAR