BEGIN:VCALENDAR
VERSION:2.0
PRODID:-//Nakano Moonstep - ECPv6.15.20//NONSGML v1.0//EN
CALSCALE:GREGORIAN
METHOD:PUBLISH
X-WR-CALNAME:Nakano Moonstep
X-ORIGINAL-URL:https://nakano-dynamite.com/moonstep
X-WR-CALDESC:Nakano Moonstep のイベント
REFRESH-INTERVAL;VALUE=DURATION:PT1H
X-Robots-Tag:noindex
X-PUBLISHED-TTL:PT1H
BEGIN:VTIMEZONE
TZID:Asia/Tokyo
BEGIN:STANDARD
TZOFFSETFROM:+0900
TZOFFSETTO:+0900
TZNAME:JST
DTSTART:20220101T000000
END:STANDARD
END:VTIMEZONE
BEGIN:VEVENT
DTSTART;TZID=Asia/Tokyo:20230402T173000
DTEND;TZID=Asia/Tokyo:20230402T220000
DTSTAMP:20260421T115846
CREATED:20230323T114639Z
LAST-MODIFIED:20230323T114656Z
UID:1135-1680456600-1680472800@nakano-dynamite.com
SUMMARY:Return of SOUL SEARCH in Tokyo
DESCRIPTION:2023.04.02(sun)\nOPEN 17:30 / START 18:00\nADV￥3500 +1D / DOOR￥4000 +1D\n\nSOUL SEARCH（US）\nETERNAL B\nnervous light of sunday\nBRAVE OUT\nDOMINATE\nBLOW YOUR BRAINS OUT\n\nGOSHI PRESENTS\nReturn of SOUL SEARCH in Tokyo\n@中野MOONSTEP
URL:https://nakano-dynamite.com/moonstep/event/2023-04-02/
LOCATION:中野MOONSTEP\, 中野区中央5-39-16\, 東京\, 日本
CATEGORIES:CRAZY PARTY
ATTACH;FMTTYPE=image/jpeg:https://nakano-dynamite.com/moonstep/wp-content/uploads/2023/03/20230402.jpg
END:VEVENT
END:VCALENDAR