BEGIN:VCALENDAR
VERSION:2.0
PRODID:-//Nakano Moonstep - ECPv6.15.20//NONSGML v1.0//EN
CALSCALE:GREGORIAN
METHOD:PUBLISH
X-WR-CALNAME:Nakano Moonstep
X-ORIGINAL-URL:https://nakano-dynamite.com/moonstep
X-WR-CALDESC:Nakano Moonstep のイベント
REFRESH-INTERVAL;VALUE=DURATION:PT1H
X-Robots-Tag:noindex
X-PUBLISHED-TTL:PT1H
BEGIN:VTIMEZONE
TZID:Asia/Tokyo
BEGIN:STANDARD
TZOFFSETFROM:+0900
TZOFFSETTO:+0900
TZNAME:JST
DTSTART:20220101T000000
END:STANDARD
END:VTIMEZONE
BEGIN:VEVENT
DTSTART;TZID=Asia/Tokyo:20260201T170000
DTEND;TZID=Asia/Tokyo:20260201T220000
DTSTAMP:20260421T125321
CREATED:20260111T053814Z
LAST-MODIFIED:20260111T055456Z
UID:5860-1769965200-1769983200@nakano-dynamite.com
SUMMARY:Hasta la vista!!!
DESCRIPTION:2026.02.01(sun)\nOPEN 17:00 / START 17:30\nCHARGE 3100yen (with 1 Drink)\n\n出演：\nCRUDE\nMUSTANG\nCazU-23\nMAEKAWA EXPLOSION\nYxAxD\nRADIOACTIVE\nCROSSFACE\n\nMAEKAWA EXPLOSION presents\nHasta la vista!!!\n@中野MOONSTEP
URL:https://nakano-dynamite.com/moonstep/event/2026-02-01/
LOCATION:中野MOONSTEP\, 中野区中央5-39-16\, 東京\, 日本
CATEGORIES:CRAZY PARTY
ATTACH;FMTTYPE=image/jpeg:https://nakano-dynamite.com/moonstep/wp-content/uploads/2026/01/mae.jpg
END:VEVENT
BEGIN:VEVENT
DTSTART;TZID=Asia/Tokyo:20251228T143000
DTEND;TZID=Asia/Tokyo:20251228T220000
DTSTAMP:20260421T125321
CREATED:20251112T081706Z
LAST-MODIFIED:20251203T100532Z
UID:5684-1766932200-1766959200@nakano-dynamite.com
SUMMARY:【PASS】BIG FUCKIN' PARTY
DESCRIPTION:【PASS】の表記があるイベントは   \nダイナマイトパスポートで チケ代無料！     \nドリンクチャージ600円のみで ご入場になれます。\n\n2025.12.28(thu)\nOPEN 14:30 / START 15:00\nTICKET 1000yen\n+1 Drink 600yen\n\n出演：\nroom10.4\nCROSSFACE\nEIEFITS\nジャンケンズ\nNK6\nyokoThema\nFLIPOUT A.A\n有刺鉄戦\nmisaki!!\nZん (Zeddon)\n\nMOONSTEP presents\nBIG FUCKIN' PARTY\n@中野MOONSTEP
URL:https://nakano-dynamite.com/moonstep/event/2025-12-28/
LOCATION:中野MOONSTEP\, 中野区中央5-39-16\, 東京\, 日本
CATEGORIES:CRAZY PARTY,LOW CHARGE
ATTACH;FMTTYPE=image/jpeg:https://nakano-dynamite.com/moonstep/wp-content/uploads/2025/11/big.jpg
END:VEVENT
BEGIN:VEVENT
DTSTART;TZID=Asia/Tokyo:20251122T170000
DTEND;TZID=Asia/Tokyo:20251122T220000
DTSTAMP:20260421T125321
CREATED:20250913T061347Z
LAST-MODIFIED:20251001T112141Z
UID:5480-1763830800-1763848800@nakano-dynamite.com
SUMMARY:【PASS】FANG JAPAN TOUR 2025
DESCRIPTION:【PASS】の表記があるイベントは    \nダイナマイトパスポートで チケ代無料！    \nドリンクチャージ600円のみで ご入場になれます。\n\n2025.11.22(sat)\nOPEN 17:00 / START 17:30\nADV 2900yen / DOOR 3400yen\n+1 Drink 600yen\n\n出演：\nFANG\nFLIPOUT A.A\nCROSSFACE\nMAX OVERHEAT\nLAST RIGHT BRIGADE\nFASTener\nNO EXCUSE\n\nMOONSTEP presents\nFANG JAPAN TOUR 2025\n@中野MOONSTEP
URL:https://nakano-dynamite.com/moonstep/event/2025-11-22/
LOCATION:中野MOONSTEP\, 中野区中央5-39-16\, 東京\, 日本
CATEGORIES:CRAZY PARTY
ATTACH;FMTTYPE=image/jpeg:https://nakano-dynamite.com/moonstep/wp-content/uploads/2025/09/fang.jpg
END:VEVENT
BEGIN:VEVENT
DTSTART;TZID=Asia/Tokyo:20241201T180000
DTEND;TZID=Asia/Tokyo:20241201T220000
DTSTAMP:20260421T125321
CREATED:20241005T082341Z
LAST-MODIFIED:20241005T082429Z
UID:4359-1733076000-1733090400@nakano-dynamite.com
SUMMARY:重爆GIG
DESCRIPTION:2024.12.01(sun)\nOPEN 18:00 / START 18:30\nDOOR only 2400yen\n+1 Drink 600yen\n出演：\nROCKET\nCHEERIO\nBACARA\nCROSSFACE\n\nCROSSFACE presents\n重爆GIG\n@中野MOONSTEP
URL:https://nakano-dynamite.com/moonstep/event/2024-12-01/
LOCATION:中野MOONSTEP\, 中野区中央5-39-16\, 東京\, 日本
CATEGORIES:CRAZY PARTY
ATTACH;FMTTYPE=image/jpeg:https://nakano-dynamite.com/moonstep/wp-content/uploads/2024/10/44432205-1726290062040.jpg
END:VEVENT
BEGIN:VEVENT
DTSTART;TZID=Asia/Tokyo:20240324T180000
DTEND;TZID=Asia/Tokyo:20240324T220000
DTSTAMP:20260421T125321
CREATED:20240220T061133Z
LAST-MODIFIED:20240312T072402Z
UID:3643-1711303200-1711317600@nakano-dynamite.com
SUMMARY:重爆GIG
DESCRIPTION:2024.03.24(sun)\nOPEN 18:00 / START 18:30\nadv 2500yen +1D / Door 3000yen +1D\n\n出演:\nCROSSFACE\nガンフロンティア\nNEVER AGAIN\nBACARA\n\n*ORdERの出演は諸事情によりキャンセルとなりました。ご了承お願い致します。\n \nCROSSFACE presents\n重爆GIG\n@中野MOONSTEP\n 
URL:https://nakano-dynamite.com/moonstep/event/2024-03-24/
LOCATION:中野MOONSTEP\, 中野区中央5-39-16\, 東京\, 日本
CATEGORIES:CRAZY PARTY
ATTACH;FMTTYPE=image/jpeg:https://nakano-dynamite.com/moonstep/wp-content/uploads/2024/02/2024-03-24.jpg
END:VEVENT
BEGIN:VEVENT
DTSTART;TZID=Asia/Tokyo:20230820T180000
DTEND;TZID=Asia/Tokyo:20230820T220000
DTSTAMP:20260421T125321
CREATED:20230712T210227Z
LAST-MODIFIED:20230712T210227Z
UID:1442-1692554400-1692568800@nakano-dynamite.com
SUMMARY:JUSTRIGHT vol.LAST
DESCRIPTION:2023.08.20(sun)\nOpen / Start 18:00\nadv 1400yen +1D / door 1900yen +1D\n出演：\nTOKYO MENTAL PICTURES SESSION BAND\nRADIO ACTIVE\nBACARA\nCROSSFACE\nTHE DEAD PAN SPEAKERS\n\n[DJ]\nIZUMI\n\nTOKYO MENTAL PICTURES SESSION BAND PRESENTS\nJUSTRIGHT vol.LAST\n@中野MOONSTEP\n 
URL:https://nakano-dynamite.com/moonstep/event/2023-08-20/
LOCATION:中野MOONSTEP\, 中野区中央5-39-16\, 東京\, 日本
CATEGORIES:CRAZY PARTY
ATTACH;FMTTYPE=image/jpeg:https://nakano-dynamite.com/moonstep/wp-content/uploads/2023/07/20230820.jpg
END:VEVENT
END:VCALENDAR