BEGIN:VCALENDAR
VERSION:2.0
PRODID:-//Nakano Moonstep - ECPv6.15.20//NONSGML v1.0//EN
CALSCALE:GREGORIAN
METHOD:PUBLISH
X-ORIGINAL-URL:https://nakano-dynamite.com/moonstep
X-WR-CALDESC:Nakano Moonstep のイベント
REFRESH-INTERVAL;VALUE=DURATION:PT1H
X-Robots-Tag:noindex
X-PUBLISHED-TTL:PT1H
BEGIN:VTIMEZONE
TZID:Asia/Tokyo
BEGIN:STANDARD
TZOFFSETFROM:+0900
TZOFFSETTO:+0900
TZNAME:JST
DTSTART:20220101T000000
END:STANDARD
END:VTIMEZONE
BEGIN:VEVENT
DTSTART;TZID=Asia/Tokyo:20230318T163000
DTEND;TZID=Asia/Tokyo:20230318T170000
DTSTAMP:20260423T073744
CREATED:20230303T110427Z
LAST-MODIFIED:20230303T110506Z
UID:1100-1679157000-1679158800@nakano-dynamite.com
SUMMARY:CROSSOVER TOP FIGHT vol.1 =RAGING FURY THRASH AGAIN=
DESCRIPTION:2023.03.18(sat)\nopen16:30 / start17:00\nadv.3000yen +1D / door 3500yen +1D\n\nRAGING FURY(大阪)\nDISOBEYED DEMAGOG(横浜)\nROSEROSE(東京)\n\nROSEROSE PRESENTS\nCROSSOVER TOP FIGHT vol.1 =RAGING FURY THRASH AGAIN=\n@中野MOONSTEP
URL:https://nakano-dynamite.com/moonstep/event/2023-03-18/
LOCATION:中野MOONSTEP\, 中野区中央5-39-16\, 東京\, 日本
CATEGORIES:CRAZY PARTY
ATTACH;FMTTYPE=image/jpeg:https://nakano-dynamite.com/moonstep/wp-content/uploads/2023/03/20230318.jpg
END:VEVENT
END:VCALENDAR