BEGIN:VCALENDAR
VERSION:2.0
PRODID:-//Nakano Moonstep - ECPv6.15.20//NONSGML v1.0//EN
CALSCALE:GREGORIAN
METHOD:PUBLISH
X-WR-CALNAME:Nakano Moonstep
X-ORIGINAL-URL:https://nakano-dynamite.com/moonstep
X-WR-CALDESC:Nakano Moonstep のイベント
REFRESH-INTERVAL;VALUE=DURATION:PT1H
X-Robots-Tag:noindex
X-PUBLISHED-TTL:PT1H
BEGIN:VTIMEZONE
TZID:Asia/Tokyo
BEGIN:STANDARD
TZOFFSETFROM:+0900
TZOFFSETTO:+0900
TZNAME:JST
DTSTART:20220101T000000
END:STANDARD
END:VTIMEZONE
BEGIN:VEVENT
DTSTART;TZID=Asia/Tokyo:20260222T150000
DTEND;TZID=Asia/Tokyo:20260222T220000
DTSTAMP:20260420T064015
CREATED:20251124T091254Z
LAST-MODIFIED:20260201T165446Z
UID:5743-1771772400-1771797600@nakano-dynamite.com
SUMMARY:MANIAC vol.4
DESCRIPTION:2026.02.22(sun)\nOPEN 15:00 / START 15:30\nADV 2900yen / 3400yen\n+1 Drink 600yen\n\n出演：\nDARUDEMATIAN\nSEVEN STEP\nFrisBeeDog\nhowling ent\nOWEAK\nThe Mappys\nSPECIAL BAND\n<DJ's>\nAkiwo\n<FOOD>\nまーち\n<PHOTO>\nWho are u?co.澪\n<ACCESSORY>\nThe Secret Base\n\nNOBU & SYN presents\nMANIAC vol.4\n@中野MOONSTEP
URL:https://nakano-dynamite.com/moonstep/event/2026-02-22/
LOCATION:中野MOONSTEP\, 中野区中央5-39-16\, 東京\, 日本
CATEGORIES:CRAZY PARTY,DJ PARTY
ATTACH;FMTTYPE=image/jpeg:https://nakano-dynamite.com/moonstep/wp-content/uploads/2025/11/223.jpg
END:VEVENT
BEGIN:VEVENT
DTSTART;TZID=Asia/Tokyo:20250307T190000
DTEND;TZID=Asia/Tokyo:20250307T220000
DTSTAMP:20260420T064015
CREATED:20250129T121052Z
LAST-MODIFIED:20250129T121109Z
UID:4675-1741374000-1741384800@nakano-dynamite.com
SUMMARY:MONKEY GANG WAR TOKYO INVATION DAY1
DESCRIPTION:2025.03.07(fri)\nOPEN 19:00\nDOOR 3000yen\n+1 Drink 600yen\n出演：\nMONKEY GANG WAR\ntwangysAA\nFrisBeeDog\nYellow Gang\n\nWORLD DOMINATION\,INC. presents\nMONKEY GANG WAR TOKYO INVATION DAY1\n@中野MOONSTEP
URL:https://nakano-dynamite.com/moonstep/event/2025-03-07/
LOCATION:中野MOONSTEP\, 中野区中央5-39-16\, 東京\, 日本
CATEGORIES:CRAZY PARTY
ATTACH;FMTTYPE=image/jpeg:https://nakano-dynamite.com/moonstep/wp-content/uploads/2025/01/44432205-1737803307333.jpg
END:VEVENT
BEGIN:VEVENT
DTSTART;TZID=Asia/Tokyo:20240107T130000
DTEND;TZID=Asia/Tokyo:20240107T220000
DTSTAMP:20260420T064015
CREATED:20231129T003055Z
LAST-MODIFIED:20231129T003055Z
UID:3493-1704632400-1704664800@nakano-dynamite.com
SUMMARY:THE 最高祭4
DESCRIPTION:2024.01.07(sun)\nOpen 13:00 / Start 13:30\nadv 2500yen +1D / door 3000yen +1D\n\n出演：\nAGE OF KID\nALTER BRAIN STRUCTURE\nCAL\nFling Thing\nFrisBeeDog\nOWEAK\nSKINHEAD GIRL\nSOMEOLD\nTNX\n39degrees\n\n【DJ】\n乗り鉄\n4sk(FLYING GORILLAS)\n\n【FOOD】\ncozueat\n\n\nTaichi × James PRESENTS\nTHE 最高祭4\n@中野MOONSTEP\n 
URL:https://nakano-dynamite.com/moonstep/event/2024-01-07/
LOCATION:中野MOONSTEP\, 中野区中央5-39-16\, 東京\, 日本
CATEGORIES:CRAZY PARTY
ATTACH;FMTTYPE=image/jpeg:https://nakano-dynamite.com/moonstep/wp-content/uploads/2023/11/20240107.jpg
END:VEVENT
BEGIN:VEVENT
DTSTART;TZID=Asia/Tokyo:20230223T163000
DTEND;TZID=Asia/Tokyo:20230223T220000
DTSTAMP:20260420T064015
CREATED:20230121T093743Z
LAST-MODIFIED:20230121T093811Z
UID:1015-1677169800-1677189600@nakano-dynamite.com
SUMMARY:MY RULES
DESCRIPTION:2023.02.23(thu)\nOPEN 16:30 / START 17:00\nADV.2500yen + 1D / DOOR 3000yen + 1D\n\nAGE OF KID\nember\nFrisBeeDog\nTHE LET'S GO's!\nMINAMI NiNE\nSUPER COLA\n\n\n\nAGE OF KIDS PRESENTS\nMY RULES\n@中野MOONSTEP\n  \n 
URL:https://nakano-dynamite.com/moonstep/event/2023-02-23/
LOCATION:中野MOONSTEP\, 中野区中央5-39-16\, 東京\, 日本
CATEGORIES:CRAZY PARTY
ATTACH;FMTTYPE=image/jpeg:https://nakano-dynamite.com/moonstep/wp-content/uploads/2023/01/20230223.jpg
END:VEVENT
BEGIN:VEVENT
DTSTART;TZID=Asia/Tokyo:20230108T130000
DTEND;TZID=Asia/Tokyo:20230108T220000
DTSTAMP:20260420T064015
CREATED:20221130T150025Z
LAST-MODIFIED:20230105T055529Z
UID:832-1673182800-1673215200@nakano-dynamite.com
SUMMARY:THE 最高祭3
DESCRIPTION:2023.01.08(sun)\nOPEN 13:00 / START 13:30\nADV 3500yen + 1D / DOOR 3\,000yen + 1D\n\nAGE OF KID\nTHE BELGA\nCAL\nDONT TURN AWAY\nFORMALIN\nFrisBeeDog\nQUICKDEAD\nSKINHEAD GIRL\nSOMEOLD\nSTRIKE AGAin\n0.001day\n \nAGE OF KID x THEBELGA PRESENTS\nTHE 最高祭3\n＠中野MOONSTEP
URL:https://nakano-dynamite.com/moonstep/event/2023-01-08/
LOCATION:中野MOONSTEP\, 中野区中央5-39-16\, 東京\, 日本
ATTACH;FMTTYPE=image/jpeg:https://nakano-dynamite.com/moonstep/wp-content/uploads/2022/12/2023-01-08.jpeg
END:VEVENT
END:VCALENDAR