BEGIN:VCALENDAR
VERSION:2.0
PRODID:-//Nakano Moonstep - ECPv6.15.20//NONSGML v1.0//EN
CALSCALE:GREGORIAN
METHOD:PUBLISH
X-WR-CALNAME:Nakano Moonstep
X-ORIGINAL-URL:https://nakano-dynamite.com/moonstep
X-WR-CALDESC:Nakano Moonstep のイベント
REFRESH-INTERVAL;VALUE=DURATION:PT1H
X-Robots-Tag:noindex
X-PUBLISHED-TTL:PT1H
BEGIN:VTIMEZONE
TZID:Asia/Tokyo
BEGIN:STANDARD
TZOFFSETFROM:+0900
TZOFFSETTO:+0900
TZNAME:JST
DTSTART:20220101T000000
END:STANDARD
END:VTIMEZONE
BEGIN:VEVENT
DTSTART;TZID=Asia/Tokyo:20250404T183000
DTEND;TZID=Asia/Tokyo:20250404T220000
DTSTAMP:20260423T061118
CREATED:20250323T061654Z
LAST-MODIFIED:20250323T061654Z
UID:4907-1743791400-1743804000@nakano-dynamite.com
SUMMARY:SWEAT Japan Tour 2025
DESCRIPTION:2025.04.04(fri)\nOPEN 18:30 / START 19:00\nADV 2900yen / DOOR 3400yen\n+1 Drink 600yen\n\n出演：\nSWEAT (from LOS ANGELES)\nGEVABOW\nFLIPOUT A.A\nAND BELIEVE\nFUCK ON THE BEACH\n\nMOONSTEP presents\nSWEAT Japan Tour 2025\n@中野MOONSTEP
URL:https://nakano-dynamite.com/moonstep/event/2025-04-04/
LOCATION:中野MOONSTEP\, 中野区中央5-39-16\, 東京\, 日本
CATEGORIES:CRAZY PARTY
ATTACH;FMTTYPE=image/jpeg:https://nakano-dynamite.com/moonstep/wp-content/uploads/2025/03/0404.jpg
END:VEVENT
BEGIN:VEVENT
DTSTART;TZID=Asia/Tokyo:20250113T183000
DTEND;TZID=Asia/Tokyo:20250113T220000
DTSTAMP:20260423T061118
CREATED:20250111T083030Z
LAST-MODIFIED:20250111T083030Z
UID:4617-1736793000-1736805600@nakano-dynamite.com
SUMMARY:戦慄のバックファイヤー
DESCRIPTION:2025.01.13(mon)\nOPEN 18:30 / START 19:00\nDOOR only 2000yen\n+1 Drink 600yen\n\n出演：\nEL NUDO\nGEVABOW\nTRES\nBUMPED HIS HEAD\nおまえ\n\nMOONSTEP presents\n戦慄のバックファイヤー\n@中野MOONSTEP
URL:https://nakano-dynamite.com/moonstep/event/2025-01-13/
LOCATION:中野MOONSTEP\, 中野区中央5-39-16\, 東京\, 日本
CATEGORIES:CRAZY PARTY,LOW CHARGE
ATTACH;FMTTYPE=image/jpeg:https://nakano-dynamite.com/moonstep/wp-content/uploads/2025/01/44432205-1736174881471.jpg
END:VEVENT
BEGIN:VEVENT
DTSTART;TZID=Asia/Tokyo:20241208T163000
DTEND;TZID=Asia/Tokyo:20241208T220000
DTSTAMP:20260423T061118
CREATED:20241109T065130Z
LAST-MODIFIED:20241109T065130Z
UID:4456-1733675400-1733695200@nakano-dynamite.com
SUMMARY:UP&DAMN 2024
DESCRIPTION:2024.12.08(sun)\nOPEN 16:30 / 17:00\nTICKET 3000yen U-23 1500yen \n+1 Drink 600yen\n出演：\nABOS\nFAAFAAZ\nFIGHT IT OUT\nGEVABOW\nGOREFLIX\nSUPER STRUCTURE\nネムレス\nピーポーズ\n偶人\n黒パイプ\npenisboys\n高倉健\n\nflyer:よーぺい(the futures)\n※HIMOは諸事情により、キャンセルとなりました。\n\npenisboys & 高倉健 presents\nUP&DAMN 2024\n@中野MOONSTEP
URL:https://nakano-dynamite.com/moonstep/event/2024-12-08/
LOCATION:中野MOONSTEP\, 中野区中央5-39-16\, 東京\, 日本
ATTACH;FMTTYPE=image/jpeg:https://nakano-dynamite.com/moonstep/wp-content/uploads/2024/11/0-1730991003094.jpg
END:VEVENT
BEGIN:VEVENT
DTSTART;TZID=Asia/Tokyo:20231125T160000
DTEND;TZID=Asia/Tokyo:20231125T220000
DTSTAMP:20260423T061118
CREATED:20231024T030411Z
LAST-MODIFIED:20231024T030411Z
UID:1649-1700928000-1700949600@nakano-dynamite.com
SUMMARY:地下のうた vol.31 イェン・ツー・パオ 6th -みんなのうた- レコ発
DESCRIPTION:2023.11.25(sat)\nOpen 16:00 / Start 16:30\nadv 2000yen +1D\n出演：\nイェン・ツー・パオ\nOiDAKi\nGEVABOW\nトースト\nHIMO\nJUALALAI\nMARVELOUS\nMEKARE-KARE\n\n\n\nイェン・ツー・パオ PRESENTS\n地下のうた vol.31 イェン・ツー・パオ 6th -みんなのうた- レコ発\n@中野MOONSTEP
URL:https://nakano-dynamite.com/moonstep/event/2023-11-25/
LOCATION:中野MOONSTEP\, 中野区中央5-39-16\, 東京\, 日本
CATEGORIES:CRAZY PARTY
ATTACH;FMTTYPE=image/jpeg:https://nakano-dynamite.com/moonstep/wp-content/uploads/2023/10/20231125-1.jpg
END:VEVENT
END:VCALENDAR