BEGIN:VCALENDAR
VERSION:2.0
PRODID:-//Nakano Moonstep - ECPv6.15.20//NONSGML v1.0//EN
CALSCALE:GREGORIAN
METHOD:PUBLISH
X-WR-CALNAME:Nakano Moonstep
X-ORIGINAL-URL:https://nakano-dynamite.com/moonstep
X-WR-CALDESC:Nakano Moonstep のイベント
REFRESH-INTERVAL;VALUE=DURATION:PT1H
X-Robots-Tag:noindex
X-PUBLISHED-TTL:PT1H
BEGIN:VTIMEZONE
TZID:Asia/Tokyo
BEGIN:STANDARD
TZOFFSETFROM:+0900
TZOFFSETTO:+0900
TZNAME:JST
DTSTART:20220101T000000
END:STANDARD
END:VTIMEZONE
BEGIN:VEVENT
DTSTART;TZID=Asia/Tokyo:20240313T183000
DTEND;TZID=Asia/Tokyo:20240313T220000
DTSTAMP:20260419T215937
CREATED:20240219T150348Z
LAST-MODIFIED:20240219T150530Z
UID:3608-1710354600-1710367200@nakano-dynamite.com
SUMMARY:Naoki Birthday Party
DESCRIPTION:2024.03.13(wed)\nOPEN 18:30 / START 19:00\nadv. 2000yen\ndoor 2500yen\n+ 1 Drink order 600yen\n\n出演:\n<1F>\nHOW\nGOOD DREAM\nザ・バイキング\n\n<2F>\n伊藤悦士\nリノ\nWhat goes up(acoustic)\nタケアキ\n\nヤスイ presents\nNaoki Birthday Party\n@中野MOONSTEP
URL:https://nakano-dynamite.com/moonstep/event/2024-03-13/
LOCATION:中野MOONSTEP\, 中野区中央5-39-16\, 東京\, 日本
CATEGORIES:CRAZY PARTY
ATTACH;FMTTYPE=image/jpeg:https://nakano-dynamite.com/moonstep/wp-content/uploads/2024/02/20240313.jpg
END:VEVENT
BEGIN:VEVENT
DTSTART;TZID=Asia/Tokyo:20240226T193000
DTEND;TZID=Asia/Tokyo:20240226T220000
DTSTAMP:20260419T215937
CREATED:20240130T124756Z
LAST-MODIFIED:20240130T124756Z
UID:3564-1708975800-1708984800@nakano-dynamite.com
SUMMARY:Miss touch night Vol.1
DESCRIPTION:2024.02.26(mon)\nOpen 19:30 / Start 20:00\ndoor 1000yen +1D\n\n出演：\n9991\n達磨\nGOOD DREAM\n\n\nSHOP:\nHachisu\n\nFOOD:\nZAKURO\n\n\nTHE Ⓜ︎ISALIN × さこちゃん PRESENTS\nMiss touch night Vol.1\n@中野MOONSTEP
URL:https://nakano-dynamite.com/moonstep/event/2024-02-26/
LOCATION:中野MOONSTEP\, 中野区中央5-39-16\, 東京\, 日本
CATEGORIES:2F BAR SPACE LIVE,CRAZY PARTY
ATTACH;FMTTYPE=image/jpeg:https://nakano-dynamite.com/moonstep/wp-content/uploads/2024/01/20240226.jpg
END:VEVENT
BEGIN:VEVENT
DTSTART;TZID=Asia/Tokyo:20230903T160000
DTEND;TZID=Asia/Tokyo:20230903T220000
DTSTAMP:20260419T215937
CREATED:20230806T080043Z
LAST-MODIFIED:20230806T080043Z
UID:1501-1693756800-1693778400@nakano-dynamite.com
SUMMARY:GOOD DREAMS
DESCRIPTION:2023.09.03(sun)\nOpen 16:00 / Start 16:30\nCHARGE 2000yen +1D\n出演：\nタイムレスナッチ(帯広)\n路地裏キャッツ(帯広)\nHOW\nクーズーズ\nkiller Queen\ndoinglife\n三日月爆音団\nGOOD DREAM\n\nMOONSTEP PRESENTS\nGOOD DREAMS\n@中野MOONSTEP
URL:https://nakano-dynamite.com/moonstep/event/2023-09-03/
LOCATION:中野MOONSTEP\, 中野区中央5-39-16\, 東京\, 日本
CATEGORIES:CRAZY PARTY
ATTACH;FMTTYPE=image/jpeg:https://nakano-dynamite.com/moonstep/wp-content/uploads/2023/08/20230903.jpg
END:VEVENT
BEGIN:VEVENT
DTSTART;TZID=Asia/Tokyo:20230422T163000
DTEND;TZID=Asia/Tokyo:20230422T220000
DTSTAMP:20260419T215937
CREATED:20230323T141033Z
LAST-MODIFIED:20230323T141148Z
UID:1170-1682181000-1682200800@nakano-dynamite.com
SUMMARY:CUT-RATE DRUGGIST JAPAN BULLET TOUR 2023
DESCRIPTION:2023.04.22\nOPEN 16:30 / START 17:00\nADV.2500yen +1D / Door 2800yen +1D\n\nCUT-RATE DRUGGIST(from Oakland)\nGOOD DREAM\nMUGWUMPS\nWHAT GOES UP\nAKABANE VULGARS ON STRONG BYPASS\nRASPUTIN\nDOINGLIFE\nTARAIRACCA\n\nハリケーンNEO丸 PRESENTS\nCUT-RATE DRUGGIST JAPAN BULLET TOUR 2023 \n@中野MOONSTEP
URL:https://nakano-dynamite.com/moonstep/event/2023-04-23-night/
LOCATION:中野MOONSTEP\, 中野区中央5-39-16\, 東京\, 日本
CATEGORIES:CRAZY PARTY
ATTACH;FMTTYPE=image/jpeg:https://nakano-dynamite.com/moonstep/wp-content/uploads/2023/03/20230422.jpg
END:VEVENT
BEGIN:VEVENT
DTSTART;TZID=Asia/Tokyo:20230115T163000
DTEND;TZID=Asia/Tokyo:20230115T220000
DTSTAMP:20260419T215937
CREATED:20230108T053408Z
LAST-MODIFIED:20230108T053408Z
UID:900-1673800200-1673820000@nakano-dynamite.com
SUMMARY:ohmypenis 3
DESCRIPTION:  \n2023.01.15(sun)\nOPEN 16:30 / START 17:00\nDOOR 2\,000yen + 1D\npenisboys\n高倉健\nNO VALUE\nTHE GUAYS\nshapeshifter\nGOOD DREAM\nDoomsday\nBISING\n \npenisboys PRESENTS\nohmypenis3\n@中野MOONSTEP
URL:https://nakano-dynamite.com/moonstep/event/2023-01-15/
LOCATION:中野MOONSTEP\, 中野区中央5-39-16\, 東京\, 日本
ATTACH;FMTTYPE=image/jpeg:https://nakano-dynamite.com/moonstep/wp-content/uploads/2023/01/20230115.jpg
END:VEVENT
END:VCALENDAR