BEGIN:VCALENDAR
VERSION:2.0
PRODID:-//Nakano Moonstep - ECPv6.15.20//NONSGML v1.0//EN
CALSCALE:GREGORIAN
METHOD:PUBLISH
X-WR-CALNAME:Nakano Moonstep
X-ORIGINAL-URL:https://nakano-dynamite.com/moonstep
X-WR-CALDESC:Nakano Moonstep のイベント
REFRESH-INTERVAL;VALUE=DURATION:PT1H
X-Robots-Tag:noindex
X-PUBLISHED-TTL:PT1H
BEGIN:VTIMEZONE
TZID:Asia/Tokyo
BEGIN:STANDARD
TZOFFSETFROM:+0900
TZOFFSETTO:+0900
TZNAME:JST
DTSTART:20220101T000000
END:STANDARD
END:VTIMEZONE
BEGIN:VEVENT
DTSTART;TZID=Asia/Tokyo:20250808T180000
DTEND;TZID=Asia/Tokyo:20250808T220000
DTSTAMP:20260421T144627
CREATED:20250709T122220Z
LAST-MODIFIED:20250725T123851Z
UID:5244-1754676000-1754690400@nakano-dynamite.com
SUMMARY:【PASS】集合はムーンステップで
DESCRIPTION:【PASS】の表記があるイベントは  \n ダイナマイトパスポートで チケ代無料！   \nドリンクチャージ600円のみで ご入場になれます。\n\n2025.08.08(fri)\nOPEN 18:00 / START 18:30\nADV 1400yen / DOOR 1900yen\n+1 Drink 600yen\n\n出演：\nおまえ\n裏ドラギャングスタ\nAchin'\nGOOD DREAM\nthe denisons\n\nMOONSTEP presents\n集合はMOONSTEPで\n@中野MOONSTEP
URL:https://nakano-dynamite.com/moonstep/event/2025-08-08/
LOCATION:中野MOONSTEP\, 中野区中央5-39-16\, 東京\, 日本
CATEGORIES:CRAZY PARTY,LOW CHARGE
ATTACH;FMTTYPE=image/jpeg:https://nakano-dynamite.com/moonstep/wp-content/uploads/2025/07/SOSKE.jpg
END:VEVENT
BEGIN:VEVENT
DTSTART;TZID=Asia/Tokyo:20250731T193000
DTEND;TZID=Asia/Tokyo:20250731T220000
DTSTAMP:20260421T144627
CREATED:20250725T092115Z
LAST-MODIFIED:20250725T092115Z
UID:5345-1753990200-1753999200@nakano-dynamite.com
SUMMARY:防風林
DESCRIPTION:2025.07.31(thu)\nOPEN 19:30 / START 20:00\nTICKET 800yen\n+2 Drink 1200yen\n\n出演：\nGOOD DREAM\nAchin'\nMound Crash\n野村秀直 (BAD ATTACK)\n344 (HYPER DISORDER)\nDJ セージーガガ\n\nMorishima & Haruna presents\n防風林\n@中野MOONSTEP
URL:https://nakano-dynamite.com/moonstep/event/2025-07-31/
LOCATION:中野MOONSTEP\, 中野区中央5-39-16\, 東京\, 日本
CATEGORIES:2F BAR SPACE LIVE,CRAZY PARTY,DJ PARTY
ATTACH;FMTTYPE=image/jpeg:https://nakano-dynamite.com/moonstep/wp-content/uploads/2025/07/731.jpg
END:VEVENT
BEGIN:VEVENT
DTSTART;TZID=Asia/Tokyo:20250705T163000
DTEND;TZID=Asia/Tokyo:20250705T220000
DTSTAMP:20260421T144627
CREATED:20250527T105404Z
LAST-MODIFIED:20250527T105404Z
UID:5089-1751733000-1751752800@nakano-dynamite.com
SUMMARY:WATERFALL 『似ていない人/うつくしきもの』 Release Party
DESCRIPTION:2025.07.05(sat)\nOPEN 16:30 / START 17:00\nADV 2400yen / DOOR 2900yen\n+1 Drink 600yen\n\n出演：\nWATERFALL(弘前)\nCalla(弘前)\nThe Back Pain(磐田)\nシャイガンティ\nホワイトルーザー\nGOOD DREAM\nVROOM\nNK6\n\nHARUNA presents\nWATERFALL 『似ていない人/うつくしきもの』 Release Party\n@中野MOONSTEP
URL:https://nakano-dynamite.com/moonstep/event/2025-07-05/
LOCATION:中野MOONSTEP\, 中野区中央5-39-16\, 東京\, 日本
CATEGORIES:CRAZY PARTY
ATTACH;FMTTYPE=image/jpeg:https://nakano-dynamite.com/moonstep/wp-content/uploads/2025/05/haru7.jpg
END:VEVENT
BEGIN:VEVENT
DTSTART;TZID=Asia/Tokyo:20250216T183000
DTEND;TZID=Asia/Tokyo:20250216T220000
DTSTAMP:20260421T144627
CREATED:20250216T073427Z
LAST-MODIFIED:20250216T073427Z
UID:4795-1739730600-1739743200@nakano-dynamite.com
SUMMARY:ハリケーンNEO丸生誕祭
DESCRIPTION:2025.03.05(wed)\nOPEN 18:30 / START 19:00\nADV 1900yen / DOOR 2400yen\n+1 Drink 600yen\n\n出演：\nGOOD DREAM\nTHE バイキング\nFUCKER\n伊藤なみ\nHOW\n死球\n\nMOONSTEP presents\nハリケーンNEO丸生誕祭\n@中野MOONSTEP
URL:https://nakano-dynamite.com/moonstep/event/2025-03-10/
LOCATION:中野MOONSTEP\, 中野区中央5-39-16\, 東京\, 日本
CATEGORIES:CRAZY PARTY,LOW CHARGE
ATTACH;FMTTYPE=image/jpeg:https://nakano-dynamite.com/moonstep/wp-content/uploads/2025/02/0-1739690935187.jpg
END:VEVENT
BEGIN:VEVENT
DTSTART;TZID=Asia/Tokyo:20240929T143000
DTEND;TZID=Asia/Tokyo:20240929T220000
DTSTAMP:20260421T144627
CREATED:20240823T121022Z
LAST-MODIFIED:20240823T121124Z
UID:4207-1727620200-1727647200@nakano-dynamite.com
SUMMARY:BREAK ON THROUGH (to the other SidC)  vol.1
DESCRIPTION:2024.09.29(Sun)\nOPEN 14:30 / START 15:00\nCHARGE 2000yen\n+1 Drink 600yen\n\n出演:\n<LIVE>\nABOS\nAIM\nBOYKOTTT SENTENCE\nELNUDO\nFASTener\nFLIPOUT A.A\nGOOD DREAM\nRUSHING AGE\nyoung forever\n猿芝居\nタケヒサ弾き語り (RYDEEN/F.V.K)\n<DJ>\nRicky\nYUDA\n\nSIC presents\nBREAK ON THROUGH (to the other SidC) vol.1\n@中野MOONSTEP
URL:https://nakano-dynamite.com/moonstep/event/2024-09-29/
LOCATION:中野MOONSTEP\, 中野区中央5-39-16\, 東京\, 日本
CATEGORIES:CRAZY PARTY,DJ PARTY
ATTACH;FMTTYPE=image/jpeg:https://nakano-dynamite.com/moonstep/wp-content/uploads/2024/08/0-1723944623443.jpg
END:VEVENT
BEGIN:VEVENT
DTSTART;TZID=Asia/Tokyo:20240801T190000
DTEND;TZID=Asia/Tokyo:20240801T220000
DTSTAMP:20260421T144627
CREATED:20240716T131218Z
LAST-MODIFIED:20240716T131333Z
UID:4089-1722538800-1722549600@nakano-dynamite.com
SUMMARY:take me down to the hospital
DESCRIPTION:2024.08.01(Thu)\nOPEN 19:00 / START 19:30\nTICKET 1000yen\n+1 Drink 600yen\n出演:\nGOOD DREAM\nTable\n井上エリナ\nAchin'\n\n庄司(Achin') presents\ntake me down to the hospital\n@中野MOONSTEP
URL:https://nakano-dynamite.com/moonstep/event/2024-08-01/
LOCATION:中野MOONSTEP\, 中野区中央5-39-16\, 東京\, 日本
CATEGORIES:2F BAR SPACE LIVE,CRAZY PARTY,LOW CHARGE
ATTACH;FMTTYPE=image/jpeg:https://nakano-dynamite.com/moonstep/wp-content/uploads/2024/07/0-1721058997009-1.jpg
END:VEVENT
BEGIN:VEVENT
DTSTART;TZID=Asia/Tokyo:20240313T183000
DTEND;TZID=Asia/Tokyo:20240313T220000
DTSTAMP:20260421T144627
CREATED:20240219T150348Z
LAST-MODIFIED:20240219T150530Z
UID:3608-1710354600-1710367200@nakano-dynamite.com
SUMMARY:Naoki Birthday Party
DESCRIPTION:2024.03.13(wed)\nOPEN 18:30 / START 19:00\nadv. 2000yen\ndoor 2500yen\n+ 1 Drink order 600yen\n\n出演:\n<1F>\nHOW\nGOOD DREAM\nザ・バイキング\n\n<2F>\n伊藤悦士\nリノ\nWhat goes up(acoustic)\nタケアキ\n\nヤスイ presents\nNaoki Birthday Party\n@中野MOONSTEP
URL:https://nakano-dynamite.com/moonstep/event/2024-03-13/
LOCATION:中野MOONSTEP\, 中野区中央5-39-16\, 東京\, 日本
CATEGORIES:CRAZY PARTY
ATTACH;FMTTYPE=image/jpeg:https://nakano-dynamite.com/moonstep/wp-content/uploads/2024/02/20240313.jpg
END:VEVENT
BEGIN:VEVENT
DTSTART;TZID=Asia/Tokyo:20240226T193000
DTEND;TZID=Asia/Tokyo:20240226T220000
DTSTAMP:20260421T144627
CREATED:20240130T124756Z
LAST-MODIFIED:20240130T124756Z
UID:3564-1708975800-1708984800@nakano-dynamite.com
SUMMARY:Miss touch night Vol.1
DESCRIPTION:2024.02.26(mon)\nOpen 19:30 / Start 20:00\ndoor 1000yen +1D\n\n出演：\n9991\n達磨\nGOOD DREAM\n\n\nSHOP:\nHachisu\n\nFOOD:\nZAKURO\n\n\nTHE Ⓜ︎ISALIN × さこちゃん PRESENTS\nMiss touch night Vol.1\n@中野MOONSTEP
URL:https://nakano-dynamite.com/moonstep/event/2024-02-26/
LOCATION:中野MOONSTEP\, 中野区中央5-39-16\, 東京\, 日本
CATEGORIES:2F BAR SPACE LIVE,CRAZY PARTY
ATTACH;FMTTYPE=image/jpeg:https://nakano-dynamite.com/moonstep/wp-content/uploads/2024/01/20240226.jpg
END:VEVENT
BEGIN:VEVENT
DTSTART;TZID=Asia/Tokyo:20230903T160000
DTEND;TZID=Asia/Tokyo:20230903T220000
DTSTAMP:20260421T144627
CREATED:20230806T080043Z
LAST-MODIFIED:20230806T080043Z
UID:1501-1693756800-1693778400@nakano-dynamite.com
SUMMARY:GOOD DREAMS
DESCRIPTION:2023.09.03(sun)\nOpen 16:00 / Start 16:30\nCHARGE 2000yen +1D\n出演：\nタイムレスナッチ(帯広)\n路地裏キャッツ(帯広)\nHOW\nクーズーズ\nkiller Queen\ndoinglife\n三日月爆音団\nGOOD DREAM\n\nMOONSTEP PRESENTS\nGOOD DREAMS\n@中野MOONSTEP
URL:https://nakano-dynamite.com/moonstep/event/2023-09-03/
LOCATION:中野MOONSTEP\, 中野区中央5-39-16\, 東京\, 日本
CATEGORIES:CRAZY PARTY
ATTACH;FMTTYPE=image/jpeg:https://nakano-dynamite.com/moonstep/wp-content/uploads/2023/08/20230903.jpg
END:VEVENT
BEGIN:VEVENT
DTSTART;TZID=Asia/Tokyo:20230422T163000
DTEND;TZID=Asia/Tokyo:20230422T220000
DTSTAMP:20260421T144627
CREATED:20230323T141033Z
LAST-MODIFIED:20230323T141148Z
UID:1170-1682181000-1682200800@nakano-dynamite.com
SUMMARY:CUT-RATE DRUGGIST JAPAN BULLET TOUR 2023
DESCRIPTION:2023.04.22\nOPEN 16:30 / START 17:00\nADV.2500yen +1D / Door 2800yen +1D\n\nCUT-RATE DRUGGIST(from Oakland)\nGOOD DREAM\nMUGWUMPS\nWHAT GOES UP\nAKABANE VULGARS ON STRONG BYPASS\nRASPUTIN\nDOINGLIFE\nTARAIRACCA\n\nハリケーンNEO丸 PRESENTS\nCUT-RATE DRUGGIST JAPAN BULLET TOUR 2023 \n@中野MOONSTEP
URL:https://nakano-dynamite.com/moonstep/event/2023-04-23-night/
LOCATION:中野MOONSTEP\, 中野区中央5-39-16\, 東京\, 日本
CATEGORIES:CRAZY PARTY
ATTACH;FMTTYPE=image/jpeg:https://nakano-dynamite.com/moonstep/wp-content/uploads/2023/03/20230422.jpg
END:VEVENT
BEGIN:VEVENT
DTSTART;TZID=Asia/Tokyo:20230115T163000
DTEND;TZID=Asia/Tokyo:20230115T220000
DTSTAMP:20260421T144627
CREATED:20230108T053408Z
LAST-MODIFIED:20230108T053408Z
UID:900-1673800200-1673820000@nakano-dynamite.com
SUMMARY:ohmypenis 3
DESCRIPTION:  \n2023.01.15(sun)\nOPEN 16:30 / START 17:00\nDOOR 2\,000yen + 1D\npenisboys\n高倉健\nNO VALUE\nTHE GUAYS\nshapeshifter\nGOOD DREAM\nDoomsday\nBISING\n \npenisboys PRESENTS\nohmypenis3\n@中野MOONSTEP
URL:https://nakano-dynamite.com/moonstep/event/2023-01-15/
LOCATION:中野MOONSTEP\, 中野区中央5-39-16\, 東京\, 日本
ATTACH;FMTTYPE=image/jpeg:https://nakano-dynamite.com/moonstep/wp-content/uploads/2023/01/20230115.jpg
END:VEVENT
END:VCALENDAR