BEGIN:VCALENDAR
VERSION:2.0
PRODID:-//Nakano Moonstep - ECPv6.15.20//NONSGML v1.0//EN
CALSCALE:GREGORIAN
METHOD:PUBLISH
X-WR-CALNAME:Nakano Moonstep
X-ORIGINAL-URL:https://nakano-dynamite.com/moonstep
X-WR-CALDESC:Nakano Moonstep のイベント
REFRESH-INTERVAL;VALUE=DURATION:PT1H
X-Robots-Tag:noindex
X-PUBLISHED-TTL:PT1H
BEGIN:VTIMEZONE
TZID:Asia/Tokyo
BEGIN:STANDARD
TZOFFSETFROM:+0900
TZOFFSETTO:+0900
TZNAME:JST
DTSTART:20220101T000000
END:STANDARD
END:VTIMEZONE
BEGIN:VEVENT
DTSTART;TZID=Asia/Tokyo:20231011T180000
DTEND;TZID=Asia/Tokyo:20231011T220000
DTSTAMP:20260420T152119
CREATED:20231006T064535Z
LAST-MODIFIED:20231006T064535Z
UID:1603-1697047200-1697061600@nakano-dynamite.com
SUMMARY:Blank Canvas
DESCRIPTION:2023.10.01(wed)\nOPEN19:00/START 19:30\nCHARGE FREE!\n\nDJ:\nMUM\nGUN\nkaen_bin\n\nPERFORMANCE:\n劇団たんぽぽ\n\nHARUNA PRESENTS\nBlank Canvas\n@中野MOONSTEP\n 
URL:https://nakano-dynamite.com/moonstep/event/2023-10-01-2/
LOCATION:中野MOONSTEP\, 中野区中央5-39-16\, 東京\, 日本
CATEGORIES:2F BAR SPACE LIVE,CRAZY PARTY,DJ PARTY
ATTACH;FMTTYPE=image/jpeg:https://nakano-dynamite.com/moonstep/wp-content/uploads/2023/10/20231011.jpg
END:VEVENT
END:VCALENDAR