BEGIN:VCALENDAR
VERSION:2.0
PRODID:-//Nakano Moonstep - ECPv6.15.20//NONSGML v1.0//EN
CALSCALE:GREGORIAN
METHOD:PUBLISH
X-WR-CALNAME:Nakano Moonstep
X-ORIGINAL-URL:https://nakano-dynamite.com/moonstep
X-WR-CALDESC:Nakano Moonstep のイベント
REFRESH-INTERVAL;VALUE=DURATION:PT1H
X-Robots-Tag:noindex
X-PUBLISHED-TTL:PT1H
BEGIN:VTIMEZONE
TZID:Asia/Tokyo
BEGIN:STANDARD
TZOFFSETFROM:+0900
TZOFFSETTO:+0900
TZNAME:JST
DTSTART:20220101T000000
END:STANDARD
END:VTIMEZONE
BEGIN:VEVENT
DTSTART;TZID=Asia/Tokyo:20251214T173000
DTEND;TZID=Asia/Tokyo:20251214T220000
DTSTAMP:20260421T102601
CREATED:20250923T102716Z
LAST-MODIFIED:20250923T102716Z
UID:5520-1765733400-1765749600@nakano-dynamite.com
SUMMARY:INTO THE PANDEMONIUM Vol.1 -Heteropsy 1st Album "Embalming" release retual-
DESCRIPTION:2025.12.14(sun)\nOPEN 17:30 / START 18:00\nADV 2400yen / DOOR 2900yen\n+1 Drink 600yen\n\n出演：\nHETEROPSY\nCOFFINS\nVIEW FROM THE SOYUZ\n\nHETEROPSY presents\nINTO THE PANDEMONIUM Vol.1 -Heteropsy 1st Album "Embalming" release retual-\n@中野MOONSTEP
URL:https://nakano-dynamite.com/moonstep/event/2025-12-14/
LOCATION:中野MOONSTEP\, 中野区中央5-39-16\, 東京\, 日本
CATEGORIES:CRAZY PARTY
ATTACH;FMTTYPE=image/jpeg:https://nakano-dynamite.com/moonstep/wp-content/uploads/2025/09/DESU.jpg
END:VEVENT
BEGIN:VEVENT
DTSTART;TZID=Asia/Tokyo:20250330T170000
DTEND;TZID=Asia/Tokyo:20250330T220000
DTSTAMP:20260421T102601
CREATED:20250207T110008Z
LAST-MODIFIED:20250222T112543Z
UID:4721-1743354000-1743372000@nakano-dynamite.com
SUMMARY:【PASS】savage
DESCRIPTION:【PASS】の表記があるイベントは\nダイナマイトパスポートでチケ代無料！\nドリンクチャージ600円のみでご入場になれます。\n2025.03.30(sun)\nOPEN 17:00\nADV 1400yen / DOOR 1900yen \n+1 Drink 600yen\n出演：\n<LIVE>\nHeteropsy\nKING KILL\nNoLA\nPale\nTYRANT\nVICE CITY SLAVE\n<DJ>\naquarium\ny2n\nMUM\n床松\n<Tequila Girl>\nナカムラモモカ\n\nAzami presents\nsavage\n@中野MOONSTEP
URL:https://nakano-dynamite.com/moonstep/event/2025-03-30/
LOCATION:中野MOONSTEP\, 中野区中央5-39-16\, 東京\, 日本
CATEGORIES:CRAZY PARTY,DJ PARTY
ATTACH;FMTTYPE=image/jpeg:https://nakano-dynamite.com/moonstep/wp-content/uploads/2025/02/0-1738666305948.jpg
END:VEVENT
BEGIN:VEVENT
DTSTART;TZID=Asia/Tokyo:20250224T170000
DTEND;TZID=Asia/Tokyo:20250224T220000
DTSTAMP:20260421T102601
CREATED:20250129T115216Z
LAST-MODIFIED:20250129T115216Z
UID:4663-1740416400-1740434400@nakano-dynamite.com
SUMMARY:Conan Japan tour 2025
DESCRIPTION:2025.02.24(mon)\nOPEN 17:00 / START 17:30\nADV 5400yen DOOR 5900yen\n+1 Drink 600yen\n出演：\nConan\nHeteropsy\nBelmadigula\n\nCKS PRODUCTION & SWAMP BOOKING presents\nConan Japan tour 2025\n@中野MOONSTEP
URL:https://nakano-dynamite.com/moonstep/event/2025-02-24/
LOCATION:中野MOONSTEP\, 中野区中央5-39-16\, 東京\, 日本
ATTACH;FMTTYPE=image/jpeg:https://nakano-dynamite.com/moonstep/wp-content/uploads/2025/01/Ggr84_LbEAAXo0p.jpg
END:VEVENT
BEGIN:VEVENT
DTSTART;TZID=Asia/Tokyo:20240526T160000
DTEND;TZID=Asia/Tokyo:20240526T220000
DTSTAMP:20260421T102601
CREATED:20240507T095834Z
LAST-MODIFIED:20240523T135654Z
UID:3893-1716739200-1716760800@nakano-dynamite.com
SUMMARY:abiuro x Green Tripe x Heteropsy 3-way split ゛Doom Dragon Rising゛Release show
DESCRIPTION:2024.05.26(sun)\nOPEN 16:00 / START 16:20\nDOOR only 2500yen\n+ 1 Drink order\n\n出演:\nAbiuro\nGreen Tripe\nHeteropsy\nHYLKO\nMUGANO\nOtherside\nSESTEAR\n六根 ROCCON\n\n\n\nabiuro presents\nabiuro x Green Tripe x Heteropsy 3-way split ゛Doom Dragon Rising゛Release show\n@中野MOONSTEP
URL:https://nakano-dynamite.com/moonstep/event/2024-05-26/
LOCATION:中野MOONSTEP\, 中野区中央5-39-16\, 東京\, 日本
CATEGORIES:CRAZY PARTY
ATTACH;FMTTYPE=image/jpeg:https://nakano-dynamite.com/moonstep/wp-content/uploads/2024/05/GM-PKPGaAAAoRNV.jpg
END:VEVENT
BEGIN:VEVENT
DTSTART;TZID=Asia/Tokyo:20230729T170000
DTEND;TZID=Asia/Tokyo:20230729T220000
DTSTAMP:20260421T102601
CREATED:20230712T170127Z
LAST-MODIFIED:20230712T211741Z
UID:1417-1690650000-1690668000@nakano-dynamite.com
SUMMARY:DIEnamiteGIG WHITE HORSE JAPAN TOUR
DESCRIPTION:2023.07.29(sat)\nOpen 17:00 / Start 17:50\nadv 3000yen +1D / door 3500yen +1D\nU23 2400yen +1D\n出演：\nWHITE HORSE(AUS)\nDxIxE\nBELMADIGULA\nHeteropsy\n高倉健\nLIKE WEEDS\n\nMOONSTEP PRESENTS\nDIEnamiteGIG WHITE HORSE JAPAN TOUR\n@中野MOONSTEP
URL:https://nakano-dynamite.com/moonstep/event/2023-07-29/
LOCATION:中野MOONSTEP\, 中野区中央5-39-16\, 東京\, 日本
CATEGORIES:CRAZY PARTY
ATTACH;FMTTYPE=image/jpeg:https://nakano-dynamite.com/moonstep/wp-content/uploads/2023/07/20230729.jpg
END:VEVENT
END:VCALENDAR