BEGIN:VCALENDAR
VERSION:2.0
PRODID:-//Nakano Moonstep - ECPv6.15.20//NONSGML v1.0//EN
CALSCALE:GREGORIAN
METHOD:PUBLISH
X-WR-CALNAME:Nakano Moonstep
X-ORIGINAL-URL:https://nakano-dynamite.com/moonstep
X-WR-CALDESC:Nakano Moonstep のイベント
REFRESH-INTERVAL;VALUE=DURATION:PT1H
X-Robots-Tag:noindex
X-PUBLISHED-TTL:PT1H
BEGIN:VTIMEZONE
TZID:Asia/Tokyo
BEGIN:STANDARD
TZOFFSETFROM:+0900
TZOFFSETTO:+0900
TZNAME:JST
DTSTART:20220101T000000
END:STANDARD
END:VTIMEZONE
BEGIN:VEVENT
DTSTART;TZID=Asia/Tokyo:20230812T173000
DTEND;TZID=Asia/Tokyo:20230812T220000
DTSTAMP:20260424T230013
CREATED:20230712T204313Z
LAST-MODIFIED:20230712T204313Z
UID:1438-1691861400-1691877600@nakano-dynamite.com
SUMMARY:FAST LIFE vol.2 KILLOUT "SPIRIT OF 83" release show in TOKYO
DESCRIPTION:2023.08.12(sat)\nOpen 17:30 / Start 18:00\nadv 2000yen +1D / door 2500yen +1D\n出演：\nKILLOUT\nETERNAL B\nhorsehead nebula\nnervous light of sunday\nDOZEONE\nDOMINATE\n[DJ]\nm28\nhiroyuki\ntakesu\n\nLB59 PRESENTS\nFAST LIFE vol.2\n@中野MOONSTEP
URL:https://nakano-dynamite.com/moonstep/event/2023-08-12/
LOCATION:中野MOONSTEP\, 中野区中央5-39-16\, 東京\, 日本
CATEGORIES:CRAZY PARTY
ATTACH;FMTTYPE=image/jpeg:https://nakano-dynamite.com/moonstep/wp-content/uploads/2023/07/20230812.jpg
END:VEVENT
BEGIN:VEVENT
DTSTART;TZID=Asia/Tokyo:20230119T183000
DTEND;TZID=Asia/Tokyo:20230119T220000
DTSTAMP:20260424T230013
CREATED:20230108T060808Z
LAST-MODIFIED:20230108T062005Z
UID:912-1674153000-1674165600@nakano-dynamite.com
SUMMARY:妖怪月歩き
DESCRIPTION:2023.01.19(thu)\nOPEN 18:30 / 19:00\nDOOR 1000yen +1D\n\nHiroyuki(The No.13)\nTAGU(PUNiK)\n中村岳大\nNUCH-LIVRE\nダーハマ\n \nHiroyuki(The No.13) PRESENTS \n妖怪月歩き \n@中野MOONSTEP
URL:https://nakano-dynamite.com/moonstep/event/2023-01-19/
LOCATION:中野MOONSTEP\, 中野区中央5-39-16\, 東京\, 日本
CATEGORIES:2F BAR SPACE LIVE
ATTACH;FMTTYPE=image/jpeg:https://nakano-dynamite.com/moonstep/wp-content/uploads/2023/01/2023-01-19-1.jpg
END:VEVENT
END:VCALENDAR