BEGIN:VCALENDAR
VERSION:2.0
PRODID:-//Nakano Moonstep - ECPv6.15.20//NONSGML v1.0//EN
CALSCALE:GREGORIAN
METHOD:PUBLISH
X-ORIGINAL-URL:https://nakano-dynamite.com/moonstep
X-WR-CALDESC:Nakano Moonstep のイベント
REFRESH-INTERVAL;VALUE=DURATION:PT1H
X-Robots-Tag:noindex
X-PUBLISHED-TTL:PT1H
BEGIN:VTIMEZONE
TZID:Asia/Tokyo
BEGIN:STANDARD
TZOFFSETFROM:+0900
TZOFFSETTO:+0900
TZNAME:JST
DTSTART:20230101T000000
END:STANDARD
END:VTIMEZONE
BEGIN:VEVENT
DTSTART;TZID=Asia/Tokyo:20260329T173000
DTEND;TZID=Asia/Tokyo:20260329T220000
DTSTAMP:20260423T100639
CREATED:20260209T110008Z
LAST-MODIFIED:20260209T071442Z
UID:5950-1774805400-1774821600@nakano-dynamite.com
SUMMARY:greentripe Presents.  1st Album”desert kief trip” release gig
DESCRIPTION:2026.03.29(sun)\nOPEN 17:30 / START 18:00\nADV 2900yen / DOOR 3400yen\n+1 Drink 600yen\n\n出演：\ngreentripe (guest guitar: Ikuma Kawabe from Dhidalah)\nNEPENTHES\n老人の仕事\nHylko\n\ngreentripe Presents. \n1st Album”desert kief trip” release gig\n@中野MOONSTEP\n 
URL:https://nakano-dynamite.com/moonstep/event/2026-03-29/
LOCATION:中野MOONSTEP\, 中野区中央5-39-16\, 東京\, 日本
CATEGORIES:CRAZY PARTY
ATTACH;FMTTYPE=image/jpeg:https://nakano-dynamite.com/moonstep/wp-content/uploads/2026/02/977C99AB-43D2-41E0-8AB4-F59E80769C0A.jpg
END:VEVENT
BEGIN:VEVENT
DTSTART;TZID=Asia/Tokyo:20251113T183000
DTEND;TZID=Asia/Tokyo:20251113T220000
DTSTAMP:20260423T100639
CREATED:20251026T052718Z
LAST-MODIFIED:20251026T052718Z
UID:5645-1763058600-1763071200@nakano-dynamite.com
SUMMARY:HEAVY METAL GIG
DESCRIPTION:2025.11.13(thu)\nOPEN 18:30 / START 19:00\nADV 2900yen / DOOR 3400yen\n+1 Drink 600yen\n\n出演：\nBARBARION (Australia)\nCHASE THE TOP\n穴虎69\nHYLKO\n\nMOONSTEP presents\nHEAVY METAL GIG\n@中野MOONSTEP
URL:https://nakano-dynamite.com/moonstep/event/2025-11-13/
LOCATION:中野MOONSTEP\, 中野区中央5-39-16\, 東京\, 日本
CATEGORIES:CRAZY PARTY
END:VEVENT
BEGIN:VEVENT
DTSTART;TZID=Asia/Tokyo:20240526T160000
DTEND;TZID=Asia/Tokyo:20240526T220000
DTSTAMP:20260423T100639
CREATED:20240507T095834Z
LAST-MODIFIED:20240523T135654Z
UID:3893-1716739200-1716760800@nakano-dynamite.com
SUMMARY:abiuro x Green Tripe x Heteropsy 3-way split ゛Doom Dragon Rising゛Release show
DESCRIPTION:2024.05.26(sun)\nOPEN 16:00 / START 16:20\nDOOR only 2500yen\n+ 1 Drink order\n\n出演:\nAbiuro\nGreen Tripe\nHeteropsy\nHYLKO\nMUGANO\nOtherside\nSESTEAR\n六根 ROCCON\n\n\n\nabiuro presents\nabiuro x Green Tripe x Heteropsy 3-way split ゛Doom Dragon Rising゛Release show\n@中野MOONSTEP
URL:https://nakano-dynamite.com/moonstep/event/2024-05-26/
LOCATION:中野MOONSTEP\, 中野区中央5-39-16\, 東京\, 日本
CATEGORIES:CRAZY PARTY
ATTACH;FMTTYPE=image/jpeg:https://nakano-dynamite.com/moonstep/wp-content/uploads/2024/05/GM-PKPGaAAAoRNV.jpg
END:VEVENT
END:VCALENDAR