BEGIN:VCALENDAR
VERSION:2.0
PRODID:-//Nakano Moonstep - ECPv6.15.20//NONSGML v1.0//EN
CALSCALE:GREGORIAN
METHOD:PUBLISH
X-WR-CALNAME:Nakano Moonstep
X-ORIGINAL-URL:https://nakano-dynamite.com/moonstep
X-WR-CALDESC:Nakano Moonstep のイベント
REFRESH-INTERVAL;VALUE=DURATION:PT1H
X-Robots-Tag:noindex
X-PUBLISHED-TTL:PT1H
BEGIN:VTIMEZONE
TZID:Asia/Tokyo
BEGIN:STANDARD
TZOFFSETFROM:+0900
TZOFFSETTO:+0900
TZNAME:JST
DTSTART:20240101T000000
END:STANDARD
END:VTIMEZONE
BEGIN:VEVENT
DTSTART;TZID=Asia/Tokyo:20250118T180000
DTEND;TZID=Asia/Tokyo:20250118T220000
DTSTAMP:20260426T031508
CREATED:20241213T092537Z
LAST-MODIFIED:20241215T065051Z
UID:4541-1737223200-1737237600@nakano-dynamite.com
SUMMARY:UNIQUE to MOON vol.1
DESCRIPTION:2025.01.18(sat)\nOPEN 18:00 / START 18:30\nADV 3000yen / DOOR 3500yen\n+1 Drink 600yen\n出演：\nNUMB\nMEXICAN AGE\nWAR/ZIT\nSPEAKEASY\nJasonAndrew\n\nMOONSTEP presents\nUNIQUE to MOON vol.1\n@中野MOONSTEP
URL:https://nakano-dynamite.com/moonstep/event/2025-01-18/
LOCATION:中野MOONSTEP\, 中野区中央5-39-16\, 東京\, 日本
CATEGORIES:CRAZY PARTY
ATTACH;FMTTYPE=image/jpeg:https://nakano-dynamite.com/moonstep/wp-content/uploads/2024/12/44432205-1733491413258-1.jpg
END:VEVENT
END:VCALENDAR