BEGIN:VCALENDAR
VERSION:2.0
PRODID:-//Nakano Moonstep - ECPv6.15.20//NONSGML v1.0//EN
CALSCALE:GREGORIAN
METHOD:PUBLISH
X-WR-CALNAME:Nakano Moonstep
X-ORIGINAL-URL:https://nakano-dynamite.com/moonstep
X-WR-CALDESC:Nakano Moonstep のイベント
REFRESH-INTERVAL;VALUE=DURATION:PT1H
X-Robots-Tag:noindex
X-PUBLISHED-TTL:PT1H
BEGIN:VTIMEZONE
TZID:Asia/Tokyo
BEGIN:STANDARD
TZOFFSETFROM:+0900
TZOFFSETTO:+0900
TZNAME:JST
DTSTART:20230101T000000
END:STANDARD
END:VTIMEZONE
BEGIN:VEVENT
DTSTART;TZID=Asia/Tokyo:20240601T180000
DTEND;TZID=Asia/Tokyo:20240601T220000
DTSTAMP:20260419T215915
CREATED:20240420T051723Z
LAST-MODIFIED:20240420T051812Z
UID:3826-1717264800-1717279200@nakano-dynamite.com
SUMMARY:THE MAKAI ~激情讃歌~
DESCRIPTION:2024.06.01(sat)\nOPEN 18:00 / START 18:30\nAdv 1500yen / Door 2000yen\n+1 Drink 600yen\n\n出演：\nTHE MAKAI\nKIBON₂U\n\nTHE MAKAI presents\nTHE MAKAI ~激情讃歌~\n@中野MOONSTEP\n\n\n 
URL:https://nakano-dynamite.com/moonstep/event/2024-06-01/
LOCATION:中野MOONSTEP\, 中野区中央5-39-16\, 東京\, 日本
ATTACH;FMTTYPE=image/jpeg:https://nakano-dynamite.com/moonstep/wp-content/uploads/2024/04/20240601.jpg
END:VEVENT
END:VCALENDAR