BEGIN:VCALENDAR
VERSION:2.0
PRODID:-//Nakano Moonstep - ECPv6.15.20//NONSGML v1.0//EN
CALSCALE:GREGORIAN
METHOD:PUBLISH
X-WR-CALNAME:Nakano Moonstep
X-ORIGINAL-URL:https://nakano-dynamite.com/moonstep
X-WR-CALDESC:Nakano Moonstep のイベント
REFRESH-INTERVAL;VALUE=DURATION:PT1H
X-Robots-Tag:noindex
X-PUBLISHED-TTL:PT1H
BEGIN:VTIMEZONE
TZID:Asia/Tokyo
BEGIN:STANDARD
TZOFFSETFROM:+0900
TZOFFSETTO:+0900
TZNAME:JST
DTSTART:20220101T000000
END:STANDARD
END:VTIMEZONE
BEGIN:VEVENT
DTSTART;TZID=Asia/Tokyo:20230109T183000
DTEND;TZID=Asia/Tokyo:20230109T220000
DTSTAMP:20260422T104258
CREATED:20230105T054901Z
LAST-MODIFIED:20230109T030827Z
UID:885-1673289000-1673301600@nakano-dynamite.com
SUMMARY:ZUP
DESCRIPTION:2023.01.09(mon)\nOPEN 18:30 / START 19:00\nDOOR 2\,000yen + 1D\n\nEastasia\nGlans\nKiima Karis\nCARTHIEFSCHOOL\n\n\nMOONSTEP PRESENTS\nZUP\n@中野MOONSTEP
URL:https://nakano-dynamite.com/moonstep/event/2023-01-09/
LOCATION:中野MOONSTEP\, 中野区中央5-39-16\, 東京\, 日本
CATEGORIES:2F BAR SPACE LIVE
ATTACH;FMTTYPE=image/jpeg:https://nakano-dynamite.com/moonstep/wp-content/uploads/2023/01/20230109.jpg
END:VEVENT
END:VCALENDAR