BEGIN:VCALENDAR
VERSION:2.0
PRODID:-//Nakano Moonstep - ECPv6.15.20//NONSGML v1.0//EN
CALSCALE:GREGORIAN
METHOD:PUBLISH
X-WR-CALNAME:Nakano Moonstep
X-ORIGINAL-URL:https://nakano-dynamite.com/moonstep
X-WR-CALDESC:Nakano Moonstep のイベント
REFRESH-INTERVAL;VALUE=DURATION:PT1H
X-Robots-Tag:noindex
X-PUBLISHED-TTL:PT1H
BEGIN:VTIMEZONE
TZID:Asia/Tokyo
BEGIN:STANDARD
TZOFFSETFROM:+0900
TZOFFSETTO:+0900
TZNAME:JST
DTSTART:20220101T000000
END:STANDARD
END:VTIMEZONE
BEGIN:VEVENT
DTSTART;TZID=Asia/Tokyo:20241116T190000
DTEND;TZID=Asia/Tokyo:20241116T220000
DTSTAMP:20260422T080949
CREATED:20241016T081631Z
LAST-MODIFIED:20241016T081631Z
UID:4377-1731783600-1731794400@nakano-dynamite.com
SUMMARY:TURNING POINT 17
DESCRIPTION:2024.11.16(sat)\nOPEN 19:00\nDOOR 3000yen\n+1 Drink 600yen\n出演：\nthe slowmotions\nRAPPA\nKRIEGSHOG\nFAMILYMAN\nLimited Express (has gone?)\nVLADIVOSTOK POWDER GENOCIDE\nDJ EBI / SEN\nFOOD zakuro\n\nthe slowmotions presents\nTURNING POINT 17\n@中野MOONSTEP
URL:https://nakano-dynamite.com/moonstep/event/2024-11-16/
LOCATION:中野MOONSTEP\, 中野区中央5-39-16\, 東京\, 日本
CATEGORIES:CRAZY PARTY
ATTACH;FMTTYPE=image/jpeg:https://nakano-dynamite.com/moonstep/wp-content/uploads/2024/10/44432205-1728723000423.jpg
END:VEVENT
BEGIN:VEVENT
DTSTART;TZID=Asia/Tokyo:20240413T173000
DTEND;TZID=Asia/Tokyo:20240413T220000
DTSTAMP:20260422T080949
CREATED:20240319T121512Z
LAST-MODIFIED:20240319T121512Z
UID:3715-1713029400-1713045600@nakano-dynamite.com
SUMMARY:DAIEI SPRAY "CAN'T TRUSS IT C(7inch)" RELEASE PARTY
DESCRIPTION:2024.04.13(sat)\nOPEN 17:30 / START 18:00\nadv 2400yen +1D / Door 2700yen +1D\nUnder 23 age 1000 +1D\n\n出演:\nACADEMY FIGHT SONG\nLIMITED EXPRESS(HAS GONE?)\nWETNAP\nWHAT GOES UP\nDAIEI SPRAY\n\nDAIEI SPRAY presents\nDAIEI SPRAY "CAN'T TRUSS IT C(7inch)" RELEASE PARTY\n@中野MOONSTEP
URL:https://nakano-dynamite.com/moonstep/event/2024-04-13/
LOCATION:中野MOONSTEP\, 中野区中央5-39-16\, 東京\, 日本
CATEGORIES:CRAZY PARTY
ATTACH;FMTTYPE=image/jpeg:https://nakano-dynamite.com/moonstep/wp-content/uploads/2024/03/44432205-1707196105136.jpg
END:VEVENT
BEGIN:VEVENT
DTSTART;TZID=Asia/Tokyo:20230505T143000
DTEND;TZID=Asia/Tokyo:20230505T220000
DTSTAMP:20260422T080949
CREATED:20230429T113213Z
LAST-MODIFIED:20230429T113213Z
UID:1237-1683297000-1683324000@nakano-dynamite.com
SUMMARY:風雲ハリケーン祭
DESCRIPTION:2023.05.05(fri)\nOpen 14:30 / Start 15:00\nCHARGE 2400yen +1D\n\n痴漢シェフ\nFLIPOUT A.A\nLimited Express (has gone?)\nPISS MOAT\nDEAD CHANT(韓国)\nSOBUT\nFLOATERS\npenisboys\nHEXO\n\nハリケーンNEO丸 PRESENTS\n風雲ハリケーン祭\n@中野MOONSTEP
URL:https://nakano-dynamite.com/moonstep/event/2023-05-05/
LOCATION:中野MOONSTEP\, 中野区中央5-39-16\, 東京\, 日本
CATEGORIES:CRAZY PARTY
ATTACH;FMTTYPE=image/jpeg:https://nakano-dynamite.com/moonstep/wp-content/uploads/2023/04/20230505.jpg
END:VEVENT
END:VCALENDAR