BEGIN:VCALENDAR
VERSION:2.0
PRODID:-//Nakano Moonstep - ECPv6.15.20//NONSGML v1.0//EN
CALSCALE:GREGORIAN
METHOD:PUBLISH
X-WR-CALNAME:Nakano Moonstep
X-ORIGINAL-URL:https://nakano-dynamite.com/moonstep
X-WR-CALDESC:Nakano Moonstep のイベント
REFRESH-INTERVAL;VALUE=DURATION:PT1H
X-Robots-Tag:noindex
X-PUBLISHED-TTL:PT1H
BEGIN:VTIMEZONE
TZID:Asia/Tokyo
BEGIN:STANDARD
TZOFFSETFROM:+0900
TZOFFSETTO:+0900
TZNAME:JST
DTSTART:20220101T000000
END:STANDARD
END:VTIMEZONE
BEGIN:VEVENT
DTSTART;TZID=Asia/Tokyo:20250807T180000
DTEND;TZID=Asia/Tokyo:20250807T220000
DTSTAMP:20260424T033556
CREATED:20250701T083335Z
LAST-MODIFIED:20250725T130003Z
UID:5215-1754589600-1754604000@nakano-dynamite.com
SUMMARY:BLOODAXE TOUR SANCTION / MISSING LINK - JAPAN TOUR 2025
DESCRIPTION:2025.08.07(thu)\nOPEN 18:00 / START 18:30\nADV 5800yen / DOOR 6800yen\n+1 Drink 600yen\n\n出演：\nSANCTION\nMISSING LINK\nNUMB\nLOYAL TO THE GRAVE\nYENFOR\nTorture Smile\n\nBLOODAXE TOUR presents\n BLOODAXE TOUR SANCTION / MISSING LINK - JAPAN TOUR 2025\n@中野MOONSTEP
URL:https://nakano-dynamite.com/moonstep/event/2025-08-07/
LOCATION:中野MOONSTEP\, 中野区中央5-39-16\, 東京\, 日本
CATEGORIES:CRAZY PARTY
ATTACH;FMTTYPE=image/jpeg:https://nakano-dynamite.com/moonstep/wp-content/uploads/2025/07/kob.jpg
END:VEVENT
BEGIN:VEVENT
DTSTART;TZID=Asia/Tokyo:20240721T170000
DTEND;TZID=Asia/Tokyo:20240721T220000
DTSTAMP:20260424T033556
CREATED:20240614T084855Z
LAST-MODIFIED:20240619T154852Z
UID:3985-1721581200-1721599200@nakano-dynamite.com
SUMMARY:Dead guy JAPAN TOUR 2024
DESCRIPTION:2024.07.21(Sun)\nOPEN 17:00 / 17:30\nADV. 4800yen / DOOR 5800yen\n+1 Drink 600yen\n\n出演：\nDead guy\nPALM\nLOYAL TO THE GRAVE\notus\n\nBLOODAXE presents\nDead guy JAPAN TOUR 2024\n@中野MOONSTEP
URL:https://nakano-dynamite.com/moonstep/event/2024-07-21/
LOCATION:中野MOONSTEP\, 中野区中央5-39-16\, 東京\, 日本
CATEGORIES:CRAZY PARTY
ATTACH;FMTTYPE=image/jpeg:https://nakano-dynamite.com/moonstep/wp-content/uploads/2024/06/0-1718282319422.jpg
END:VEVENT
BEGIN:VEVENT
DTSTART;TZID=Asia/Tokyo:20230427T173000
DTEND;TZID=Asia/Tokyo:20230427T220000
DTSTAMP:20260424T033556
CREATED:20230323T143920Z
LAST-MODIFIED:20230323T144346Z
UID:1181-1682616600-1682632800@nakano-dynamite.com
SUMMARY:RETRIBUTE TOUR 2023 -CANDY(US)&EKULU(US) JAPAN TOUR2023
DESCRIPTION:2023.04.27(thu)\nOPEN 17:30 START: 18:00\nAdv. 4500yen Door. 5000yen (+Drink fee)\n\nCANDY(US)\nEKULU(US)\nCOFFINS\nLOYAL TO THE GRAVE\nHORSEHEAD NEBULA\n\nRETRIBUTE RECORDS presents\n[RETRIBUTE TOUR 2023 -CANDY(US)&EKULU(US) JAPAN TOUR2023]\n@中野MOONSTEP
URL:https://nakano-dynamite.com/moonstep/event/2023-04-27/
LOCATION:中野MOONSTEP\, 中野区中央5-39-16\, 東京\, 日本
CATEGORIES:CRAZY PARTY
ATTACH;FMTTYPE=image/jpeg:https://nakano-dynamite.com/moonstep/wp-content/uploads/2023/03/20230427.jpg
END:VEVENT
END:VCALENDAR