BEGIN:VCALENDAR
VERSION:2.0
PRODID:-//Nakano Moonstep - ECPv6.15.20//NONSGML v1.0//EN
CALSCALE:GREGORIAN
METHOD:PUBLISH
X-WR-CALNAME:Nakano Moonstep
X-ORIGINAL-URL:https://nakano-dynamite.com/moonstep
X-WR-CALDESC:Nakano Moonstep のイベント
REFRESH-INTERVAL;VALUE=DURATION:PT1H
X-Robots-Tag:noindex
X-PUBLISHED-TTL:PT1H
BEGIN:VTIMEZONE
TZID:Asia/Tokyo
BEGIN:STANDARD
TZOFFSETFROM:+0900
TZOFFSETTO:+0900
TZNAME:JST
DTSTART:20220101T000000
END:STANDARD
END:VTIMEZONE
BEGIN:VEVENT
DTSTART;TZID=Asia/Tokyo:20260329T173000
DTEND;TZID=Asia/Tokyo:20260329T220000
DTSTAMP:20260422T103635
CREATED:20260209T110008Z
LAST-MODIFIED:20260209T071442Z
UID:5950-1774805400-1774821600@nakano-dynamite.com
SUMMARY:greentripe Presents.  1st Album”desert kief trip” release gig
DESCRIPTION:2026.03.29(sun)\nOPEN 17:30 / START 18:00\nADV 2900yen / DOOR 3400yen\n+1 Drink 600yen\n\n出演：\ngreentripe (guest guitar: Ikuma Kawabe from Dhidalah)\nNEPENTHES\n老人の仕事\nHylko\n\ngreentripe Presents. \n1st Album”desert kief trip” release gig\n@中野MOONSTEP\n 
URL:https://nakano-dynamite.com/moonstep/event/2026-03-29/
LOCATION:中野MOONSTEP\, 中野区中央5-39-16\, 東京\, 日本
CATEGORIES:CRAZY PARTY
ATTACH;FMTTYPE=image/jpeg:https://nakano-dynamite.com/moonstep/wp-content/uploads/2026/02/977C99AB-43D2-41E0-8AB4-F59E80769C0A.jpg
END:VEVENT
BEGIN:VEVENT
DTSTART;TZID=Asia/Tokyo:20240615T160000
DTEND;TZID=Asia/Tokyo:20240615T220000
DTSTAMP:20260422T103635
CREATED:20240422T080001Z
LAST-MODIFIED:20240507T133554Z
UID:3882-1718467200-1718488800@nakano-dynamite.com
SUMMARY:U TAKE ORB. Vol.11
DESCRIPTION:2024.06.15(Sat)\nOPEN / START 16:00\nADV. ¥2500 / DOOR ¥3000\n+1 Drink 600yen\n\n出演：\n1F\n<LIVE>\nQuetzalcoatl\nNepenthes\n9991\nRevenant\nBuenos Caminos\nMasira\n\n2F\n<LIVE>\nQuO (粋響)\n<DJ>\nLocal Sound (LOCAL MARKET)\nThree-CODE (HAT BRAINS)\nMarcus (BLAST STAR)\nKenjiii(音圖太家)\nMUM\nONCE MORE\n \nQuetzalcoatl presents\nU TAKE ORB. Vol.11\n@中野MOONSTEP
URL:https://nakano-dynamite.com/moonstep/event/2024-06-15/
LOCATION:中野MOONSTEP\, 中野区中央5-39-16\, 東京\, 日本
CATEGORIES:2F BAR SPACE LIVE,CRAZY PARTY,DJ PARTY
ATTACH;FMTTYPE=image/jpeg:https://nakano-dynamite.com/moonstep/wp-content/uploads/2024/04/0-1712889935747.jpg
END:VEVENT
BEGIN:VEVENT
DTSTART;TZID=Asia/Tokyo:20231223T180000
DTEND;TZID=Asia/Tokyo:20231223T220000
DTSTAMP:20260422T103635
CREATED:20231029T102258Z
LAST-MODIFIED:20231029T102258Z
UID:1686-1703354400-1703368800@nakano-dynamite.com
SUMMARY:NEVER BEFORE Year end Japan Tour 2023
DESCRIPTION:2023.12.23(sat)\nOpen 18:00 / Start 18:30\nadv. 2400yen +1D / door 2900yen +1D\n\n出演：\nNEVER BEFORE(北京)\nNEPENTHES\n老人の仕事\nSithter
URL:https://nakano-dynamite.com/moonstep/event/2023-12-23/
LOCATION:中野MOONSTEP\, 中野区中央5-39-16\, 東京\, 日本
CATEGORIES:CRAZY PARTY
ATTACH;FMTTYPE=image/jpeg:https://nakano-dynamite.com/moonstep/wp-content/uploads/2023/10/20231223.jpg
END:VEVENT
BEGIN:VEVENT
DTSTART;TZID=Asia/Tokyo:20230520T190000
DTEND;TZID=Asia/Tokyo:20230520T220000
DTSTAMP:20260422T103635
CREATED:20230430T122842Z
LAST-MODIFIED:20230430T122842Z
UID:1264-1684609200-1684620000@nakano-dynamite.com
SUMMARY:U TAKE ORB vol.8
DESCRIPTION:2023.05.20(sat)\nOpen 19:00 / Start 19:30\n\nAdv￥2500 +1D / Door￥3000 +1D\n\nQuetzalcoatl\nBrionics\nNepenthes\nLife\nNoizegoat\nAbos\nOtus\n\n[DJ] Once / More Kenn\n\nQuetalcoatl PRESENTS\nU TAKE ORB vol.8\n@中野MOONSTEP
URL:https://nakano-dynamite.com/moonstep/event/2023-05-20/
LOCATION:中野MOONSTEP\, 中野区中央5-39-16\, 東京\, 日本
CATEGORIES:CRAZY PARTY
ATTACH;FMTTYPE=image/jpeg:https://nakano-dynamite.com/moonstep/wp-content/uploads/2023/04/20230520.jpg
END:VEVENT
END:VCALENDAR