BEGIN:VCALENDAR
VERSION:2.0
PRODID:-//Nakano Moonstep - ECPv6.15.20//NONSGML v1.0//EN
CALSCALE:GREGORIAN
METHOD:PUBLISH
X-ORIGINAL-URL:https://nakano-dynamite.com/moonstep
X-WR-CALDESC:Nakano Moonstep のイベント
REFRESH-INTERVAL;VALUE=DURATION:PT1H
X-Robots-Tag:noindex
X-PUBLISHED-TTL:PT1H
BEGIN:VTIMEZONE
TZID:Asia/Tokyo
BEGIN:STANDARD
TZOFFSETFROM:+0900
TZOFFSETTO:+0900
TZNAME:JST
DTSTART:20240101T000000
END:STANDARD
END:VTIMEZONE
BEGIN:VEVENT
DTSTART;TZID=Asia/Tokyo:20250208T180000
DTEND;TZID=Asia/Tokyo:20250208T220000
DTSTAMP:20260425T230012
CREATED:20241227T104953Z
LAST-MODIFIED:20250207T153134Z
UID:4578-1739037600-1739052000@nakano-dynamite.com
SUMMARY:KNOW YOUR RIGHTS
DESCRIPTION:2025.02.08(sat)\nOPEN 18:00\nADV / DOOR 2500yen\n23歳以下 1000yen\n+1 Drink 600yen\n18歳以下ドリンク代のみ！\n出演：\nNUMBERTWO\nTHE LAST PINT(伊勢)\nRAW DISTRACTIONS\n+1 more band\n<DJ>\nITA(NAT Records)\nKAZUKI(Record Shop A-Z)\n\nNUMBERTWO presents\nKNOW YOUR RIGHTS\n@中野MOONSTEP
URL:https://nakano-dynamite.com/moonstep/event/2025-02-08/
LOCATION:中野MOONSTEP\, 中野区中央5-39-16\, 東京\, 日本
CATEGORIES:CRAZY PARTY,DJ PARTY
ATTACH;FMTTYPE=image/jpeg:https://nakano-dynamite.com/moonstep/wp-content/uploads/2024/12/44432205-1734676211506.jpg
END:VEVENT
BEGIN:VEVENT
DTSTART;TZID=Asia/Tokyo:20260408T190000
DTEND;TZID=Asia/Tokyo:20260408T220000
DTSTAMP:20260425T230012
CREATED:20260313T144059Z
LAST-MODIFIED:20260329T061215Z
UID:6034-1775674800-1775685600@nakano-dynamite.com
SUMMARY:KNOW YOUR RIGHTS -PLASTIC TONES JAPAN TOUR "POWER POP PROPAGANDA"-
DESCRIPTION:2026.04.08(wed)\nOPEN 19:00 / START 20:00\nTICKET 2500yen / U-25 1500yen / U-18 Drink charge only ※身分証明書の提示をお願いします。\n+1 Drink 600yen\n\n出演：\nPLASTIC TONES\nHAZY SOUR CHERRY\nNUMBERTWO\n<DJ>\nFifi\nHiroshi\n\nNUMBERTWO presents\nKNOW YOUR RIGHTS -PLASTIC TONES JAPAN TOUR "POWER POP PROPAGANDA"-\n@中野MOONSTEP
URL:https://nakano-dynamite.com/moonstep/event/2026-04-08/
LOCATION:中野MOONSTEP\, 中野区中央5-39-16\, 東京\, 日本
CATEGORIES:CRAZY PARTY,DJ PARTY
ATTACH;FMTTYPE=image/jpeg:https://nakano-dynamite.com/moonstep/wp-content/uploads/2026/03/48.jpg
END:VEVENT
END:VCALENDAR