BEGIN:VCALENDAR
VERSION:2.0
PRODID:-//Nakano Moonstep - ECPv6.15.20//NONSGML v1.0//EN
CALSCALE:GREGORIAN
METHOD:PUBLISH
X-WR-CALNAME:Nakano Moonstep
X-ORIGINAL-URL:https://nakano-dynamite.com/moonstep
X-WR-CALDESC:Nakano Moonstep のイベント
REFRESH-INTERVAL;VALUE=DURATION:PT1H
X-Robots-Tag:noindex
X-PUBLISHED-TTL:PT1H
BEGIN:VTIMEZONE
TZID:Asia/Tokyo
BEGIN:STANDARD
TZOFFSETFROM:+0900
TZOFFSETTO:+0900
TZNAME:JST
DTSTART:20220101T000000
END:STANDARD
END:VTIMEZONE
BEGIN:VEVENT
DTSTART;TZID=Asia/Tokyo:20231014T180000
DTEND;TZID=Asia/Tokyo:20231014T223000
DTSTAMP:20260422T102049
CREATED:20230911T081114Z
LAST-MODIFIED:20230927T024014Z
UID:1560-1697306400-1697322600@nakano-dynamite.com
SUMMARY:Kingsway Flyers JAPAN TOUR
DESCRIPTION:2023.10.14(sun)\nOpen 18:00 / Start 18:30\ndoor 3000yen +1D\n\n出演:\nKingsway Flyers\nMATTER\nRASPUTIN(feat.ハリケーンNEO丸)\nDOINGLIFE\nFISHERMANS\n\n\nMOONSTEP PRESENTS\nKingsway Flyers JAPAN TOUR\n@中野MOONSTEP
URL:https://nakano-dynamite.com/moonstep/event/2023-10-14/
LOCATION:中野MOONSTEP\, 中野区中央5-39-16\, 東京\, 日本
CATEGORIES:CRAZY PARTY
ATTACH;FMTTYPE=image/jpeg:https://nakano-dynamite.com/moonstep/wp-content/uploads/2023/09/20231014.jpg
END:VEVENT
BEGIN:VEVENT
DTSTART;TZID=Asia/Tokyo:20230608T180000
DTEND;TZID=Asia/Tokyo:20230608T220000
DTSTAMP:20260422T102049
CREATED:20230604T062229Z
LAST-MODIFIED:20230604T062229Z
UID:1323-1686247200-1686261600@nakano-dynamite.com
SUMMARY:Iman's League Japan Tour 2023
DESCRIPTION:2023.06.08(thu)\nOpen 18:00 / Start 18:30\nCHARGE 2400yen +1D\n\n出演：\nIman's League (Singapore)\nPETA (Garlic Boys)\nHOW\nRASPUTIN -acoustic-\nおまえ\n平成寅吉 (クーズーズ、ギョビリーズ！) \n\nMOONSTEP PRESENTS\nIman's League Japan Tour 2023\n@中野MOONSTEP
URL:https://nakano-dynamite.com/moonstep/event/2023-06-08/
LOCATION:中野MOONSTEP\, 中野区中央5-39-16\, 東京\, 日本
CATEGORIES:CRAZY PARTY
ATTACH;FMTTYPE=image/png:https://nakano-dynamite.com/moonstep/wp-content/uploads/2023/06/20230608.png
END:VEVENT
BEGIN:VEVENT
DTSTART;TZID=Asia/Tokyo:20230422T163000
DTEND;TZID=Asia/Tokyo:20230422T220000
DTSTAMP:20260422T102049
CREATED:20230323T141033Z
LAST-MODIFIED:20230323T141148Z
UID:1170-1682181000-1682200800@nakano-dynamite.com
SUMMARY:CUT-RATE DRUGGIST JAPAN BULLET TOUR 2023
DESCRIPTION:2023.04.22\nOPEN 16:30 / START 17:00\nADV.2500yen +1D / Door 2800yen +1D\n\nCUT-RATE DRUGGIST(from Oakland)\nGOOD DREAM\nMUGWUMPS\nWHAT GOES UP\nAKABANE VULGARS ON STRONG BYPASS\nRASPUTIN\nDOINGLIFE\nTARAIRACCA\n\nハリケーンNEO丸 PRESENTS\nCUT-RATE DRUGGIST JAPAN BULLET TOUR 2023 \n@中野MOONSTEP
URL:https://nakano-dynamite.com/moonstep/event/2023-04-23-night/
LOCATION:中野MOONSTEP\, 中野区中央5-39-16\, 東京\, 日本
CATEGORIES:CRAZY PARTY
ATTACH;FMTTYPE=image/jpeg:https://nakano-dynamite.com/moonstep/wp-content/uploads/2023/03/20230422.jpg
END:VEVENT
END:VCALENDAR