BEGIN:VCALENDAR
VERSION:2.0
PRODID:-//Nakano Moonstep - ECPv6.15.20//NONSGML v1.0//EN
CALSCALE:GREGORIAN
METHOD:PUBLISH
X-ORIGINAL-URL:https://nakano-dynamite.com/moonstep
X-WR-CALDESC:Nakano Moonstep のイベント
REFRESH-INTERVAL;VALUE=DURATION:PT1H
X-Robots-Tag:noindex
X-PUBLISHED-TTL:PT1H
BEGIN:VTIMEZONE
TZID:Asia/Tokyo
BEGIN:STANDARD
TZOFFSETFROM:+0900
TZOFFSETTO:+0900
TZNAME:JST
DTSTART:20230101T000000
END:STANDARD
END:VTIMEZONE
BEGIN:VEVENT
DTSTART;TZID=Asia/Tokyo:20260319T190000
DTEND;TZID=Asia/Tokyo:20260319T220000
DTSTAMP:20260423T163806
CREATED:20260307T091008Z
LAST-MODIFIED:20260307T091008Z
UID:6017-1773946800-1773957600@nakano-dynamite.com
SUMMARY:MATATABI NIGHT vol.82
DESCRIPTION:2026.03.19(thu)\nOPEN 19:00 / START 19:30\nCHARGE FREE!!!\n\n出演：\n<BAND'S>\nWHITE RABBIT\nMother-B\n<DJ's>\nBABIZØmbie\nハリーと電気羊\nSean Dose!\n\nHARRY & BABI & MOONSTEP presents\nMATATABI NIGHT vol.82\n@中野MOONSTEP
URL:https://nakano-dynamite.com/moonstep/event/2026-03-19/
LOCATION:中野MOONSTEP\, 中野区中央5-39-16\, 東京\, 日本
CATEGORIES:CRAZY PARTY,DJ PARTY,FREE PARTY,入場無料
ATTACH;FMTTYPE=image/jpeg:https://nakano-dynamite.com/moonstep/wp-content/uploads/2026/03/MATATA.jpg
END:VEVENT
BEGIN:VEVENT
DTSTART;TZID=Asia/Tokyo:20241227T140000
DTEND;TZID=Asia/Tokyo:20241227T220000
DTSTAMP:20260423T163806
CREATED:20241116T085744Z
LAST-MODIFIED:20241116T085849Z
UID:4468-1735308000-1735336800@nakano-dynamite.com
SUMMARY:Parasites on Helium XXXI
DESCRIPTION:2024.12.27(fri)\nOPEN / START 14:00\nADV 3000yen / DOOR 3500yen \n+1 Drink 600yen\n出演：\n<LIVE>\nDead Ringer\nGloptin & RisaRipa\nWater Maze\nMisato Winchester\nStompin Riffraffs\nParis Death Hilton\nLil U Rich\nSally & The Reward\n<DJ>\nHang the DJ\nBABIZOmbie\nSean Dose!\nHaseman\nBogFrog\nArale\nShaka\nK\n\nMartin presents\nParasites on Helium XXXI\n@中野MOONSTEP
URL:https://nakano-dynamite.com/moonstep/event/2024-12-27/
LOCATION:中野MOONSTEP\, 中野区中央5-39-16\, 東京\, 日本
CATEGORIES:CRAZY PARTY,DJ PARTY
ATTACH;FMTTYPE=image/jpeg:https://nakano-dynamite.com/moonstep/wp-content/uploads/2024/11/0-1731391873974.jpg
END:VEVENT
END:VCALENDAR