BEGIN:VCALENDAR
VERSION:2.0
PRODID:-//Nakano Moonstep - ECPv6.15.20//NONSGML v1.0//EN
CALSCALE:GREGORIAN
METHOD:PUBLISH
X-WR-CALNAME:Nakano Moonstep
X-ORIGINAL-URL:https://nakano-dynamite.com/moonstep
X-WR-CALDESC:Nakano Moonstep のイベント
REFRESH-INTERVAL;VALUE=DURATION:PT1H
X-Robots-Tag:noindex
X-PUBLISHED-TTL:PT1H
BEGIN:VTIMEZONE
TZID:Asia/Tokyo
BEGIN:STANDARD
TZOFFSETFROM:+0900
TZOFFSETTO:+0900
TZNAME:JST
DTSTART:20240101T000000
END:STANDARD
END:VTIMEZONE
BEGIN:VEVENT
DTSTART;TZID=Asia/Tokyo:20250725T080000
DTEND;TZID=Asia/Tokyo:20250725T170000
DTSTAMP:20260422T113121
CREATED:20250725T090847Z
LAST-MODIFIED:20250725T090847Z
UID:5343-1753430400-1753462800@nakano-dynamite.com
SUMMARY:SESSION NIGHT
DESCRIPTION:2025.08.25(mon)\nOPEN 19:00\nENTRANCE 1 Drink 600yen\n\n\nSESSION NIGHT CREW presents\nSESSION NIGHT\n@中野MOONSTEP
URL:https://nakano-dynamite.com/moonstep/event/2025-08-25/
CATEGORIES:2F BAR SPACE LIVE,CRAZY PARTY,JAM SESSION
ATTACH;FMTTYPE=image/png:https://nakano-dynamite.com/moonstep/wp-content/uploads/2024/11/セッション.png
END:VEVENT
END:VCALENDAR