BEGIN:VCALENDAR
VERSION:2.0
PRODID:-//Nakano Moonstep - ECPv6.15.20//NONSGML v1.0//EN
CALSCALE:GREGORIAN
METHOD:PUBLISH
X-WR-CALNAME:Nakano Moonstep
X-ORIGINAL-URL:https://nakano-dynamite.com/moonstep
X-WR-CALDESC:Nakano Moonstep のイベント
REFRESH-INTERVAL;VALUE=DURATION:PT1H
X-Robots-Tag:noindex
X-PUBLISHED-TTL:PT1H
BEGIN:VTIMEZONE
TZID:Asia/Tokyo
BEGIN:STANDARD
TZOFFSETFROM:+0900
TZOFFSETTO:+0900
TZNAME:JST
DTSTART:20220101T000000
END:STANDARD
END:VTIMEZONE
BEGIN:VEVENT
DTSTART;TZID=Asia/Tokyo:20230128T183000
DTEND;TZID=Asia/Tokyo:20230128T220000
DTSTAMP:20260422T071818
CREATED:20230108T123018Z
LAST-MODIFIED:20230108T123018Z
UID:942-1674930600-1674943200@nakano-dynamite.com
SUMMARY:SMASH YOUR FACE VS ROCKY & THE SWEDEN
DESCRIPTION:2023.01.28(sat)\nOPEN 18:30 / START 19:00\nADV.2500yen + 1D / DOOR 3000yen + 1D\n\nSMASH YOUR FACE\nROCKY & THE SWEDEN\n\nopening act:\n刑/鉄\n\n\n\nSMASH YOUR FACE PRESENTS\nSMASH YOUR FACE vs ROCKY & THE SWEDEN\n@中野MOONSTEP
URL:https://nakano-dynamite.com/moonstep/event/2023-01-28/
LOCATION:中野MOONSTEP\, 中野区中央5-39-16\, 東京\, 日本
ATTACH;FMTTYPE=image/jpeg:https://nakano-dynamite.com/moonstep/wp-content/uploads/2023/01/20230128.jpg
END:VEVENT
END:VCALENDAR