BEGIN:VCALENDAR
VERSION:2.0
PRODID:-//Nakano Moonstep - ECPv6.15.20//NONSGML v1.0//EN
CALSCALE:GREGORIAN
METHOD:PUBLISH
X-WR-CALNAME:Nakano Moonstep
X-ORIGINAL-URL:https://nakano-dynamite.com/moonstep
X-WR-CALDESC:Nakano Moonstep のイベント
REFRESH-INTERVAL;VALUE=DURATION:PT1H
X-Robots-Tag:noindex
X-PUBLISHED-TTL:PT1H
BEGIN:VTIMEZONE
TZID:Asia/Tokyo
BEGIN:STANDARD
TZOFFSETFROM:+0900
TZOFFSETTO:+0900
TZNAME:JST
DTSTART:20220101T000000
END:STANDARD
END:VTIMEZONE
BEGIN:VEVENT
DTSTART;TZID=Asia/Tokyo:20240930T173000
DTEND;TZID=Asia/Tokyo:20240930T220000
DTSTAMP:20260424T043402
CREATED:20240903T145548Z
LAST-MODIFIED:20240903T145722Z
UID:4228-1727717400-1727733600@nakano-dynamite.com
SUMMARY:DIPLOID ASIA TOUR
DESCRIPTION:2024.09.30(Mon)\nOPEN 17:30 / START 18:00\nADV 1900yen / DOOR 2400yen\n+1 Drink 600yen\n\n出演：\nDIPLOID (AUS)\n施餓鬼\nPale\nroom10.4\nsoccer.\n心臓レコード\nDJ 床松\n\nMOONSTEP presents\nDIPLOID ASIA TOUR\n@中野MOONSTEP
URL:https://nakano-dynamite.com/moonstep/event/2024-09-30/
LOCATION:中野MOONSTEP\, 中野区中央5-39-16\, 東京\, 日本
CATEGORIES:CRAZY PARTY
ATTACH;FMTTYPE=image/jpeg:https://nakano-dynamite.com/moonstep/wp-content/uploads/2024/09/0-1725006190329.jpg
END:VEVENT
BEGIN:VEVENT
DTSTART;TZID=Asia/Tokyo:20231111T150000
DTEND;TZID=Asia/Tokyo:20231111T220000
DTSTAMP:20260424T043402
CREATED:20231006T072931Z
LAST-MODIFIED:20231006T072931Z
UID:1616-1699714800-1699740000@nakano-dynamite.com
SUMMARY:UNGULATES FESTIVAL AUTUMN 2023
DESCRIPTION:2023.11.11(sat)\nOpen / Start 15:00\nadv 3500yen +1D / door 4500yen +1D\nstudent 1000yen\n出演：\nRest Ashore(USA)\nWorst Party Ever\nas a sketch pad\nsoccer.\nJapanese Football\n7th Jet Balloon\n音速ばばあ\nLacrima\nyu’re\nLaget’s Jam Stack\nSidenerds\n\nFOOD:\nva nguoi bao ve\n\n\n\nungulates PRESENTS\nUNGULATES FESTIVAL AUTUMN 2023\n@中野MOONSTEP
URL:https://nakano-dynamite.com/moonstep/event/2023-11-11/
LOCATION:東京
CATEGORIES:CRAZY PARTY
ATTACH;FMTTYPE=image/jpeg:https://nakano-dynamite.com/moonstep/wp-content/uploads/2023/10/2023-11-11.jpg
END:VEVENT
END:VCALENDAR