BEGIN:VCALENDAR
VERSION:2.0
PRODID:-//Nakano Moonstep - ECPv6.15.20//NONSGML v1.0//EN
CALSCALE:GREGORIAN
METHOD:PUBLISH
X-WR-CALNAME:Nakano Moonstep
X-ORIGINAL-URL:https://nakano-dynamite.com/moonstep
X-WR-CALDESC:Nakano Moonstep のイベント
REFRESH-INTERVAL;VALUE=DURATION:PT1H
X-Robots-Tag:noindex
X-PUBLISHED-TTL:PT1H
BEGIN:VTIMEZONE
TZID:Asia/Tokyo
BEGIN:STANDARD
TZOFFSETFROM:+0900
TZOFFSETTO:+0900
TZNAME:JST
DTSTART:20220101T000000
END:STANDARD
END:VTIMEZONE
BEGIN:VEVENT
DTSTART;TZID=Asia/Tokyo:20250125T180000
DTEND;TZID=Asia/Tokyo:20250125T220000
DTSTAMP:20260421T222553
CREATED:20250111T082449Z
LAST-MODIFIED:20250111T082449Z
UID:4614-1737828000-1737842400@nakano-dynamite.com
SUMMARY:Don't Thank Me\, Spank Me! JAPAN TOUR 2025
DESCRIPTION:2025.01.25(sat)\nOPEN 18:00\nADV 2400yen / DOOR 2900yen\n+1 Drink 600yen\n\n出演：\nDon't Thank Me\, Spank Me!\nSTOMPIN'RIFFRAFFS\nShinmura Tetsuya\nTropical Death\nyokoThema\n\nMOONSTEP presents\nDon't Thank Me\, Spank Me! JAPAN TOUR 2025\n@中野MOONSTEP
URL:https://nakano-dynamite.com/moonstep/event/2025-01-25/
LOCATION:中野MOONSTEP\, 中野区中央5-39-16\, 東京\, 日本
CATEGORIES:CRAZY PARTY
ATTACH;FMTTYPE=image/jpeg:https://nakano-dynamite.com/moonstep/wp-content/uploads/2025/01/44432205-1735649958141.jpg
END:VEVENT
BEGIN:VEVENT
DTSTART;TZID=Asia/Tokyo:20231020T183000
DTEND;TZID=Asia/Tokyo:20231020T220000
DTSTAMP:20260421T222553
CREATED:20231006T065414Z
LAST-MODIFIED:20231006T065414Z
UID:1608-1697826600-1697839200@nakano-dynamite.com
SUMMARY:THE BLACK DOLPHINS TOUR
DESCRIPTION:2023.10.20(fri)\nOpen 18:30 / Start 19:00\nadv 2400yen +1D / door 2900yen +1D\n出演：\nTHE BLACK DOLPHINS\nSTOMPIN' RIFFRAFFS\nデッドバンビーズ\nAKABANE VULGARS ON STRONG BYPASS\nRADIOACTIVE\n\n\nMOONSTEP PRESENTS\nTHE BLACK DOLPHINS TOUR\n@中野MOONSTEP\n\n 
URL:https://nakano-dynamite.com/moonstep/event/2023-10-20/
LOCATION:中野MOONSTEP\, 中野区中央5-39-16\, 東京\, 日本
CATEGORIES:CRAZY PARTY
ATTACH;FMTTYPE=image/jpeg:https://nakano-dynamite.com/moonstep/wp-content/uploads/2023/10/20231020.jpg
END:VEVENT
END:VCALENDAR