BEGIN:VCALENDAR
VERSION:2.0
PRODID:-//Nakano Moonstep - ECPv6.15.20//NONSGML v1.0//EN
CALSCALE:GREGORIAN
METHOD:PUBLISH
X-WR-CALNAME:Nakano Moonstep
X-ORIGINAL-URL:https://nakano-dynamite.com/moonstep
X-WR-CALDESC:Nakano Moonstep のイベント
REFRESH-INTERVAL;VALUE=DURATION:PT1H
X-Robots-Tag:noindex
X-PUBLISHED-TTL:PT1H
BEGIN:VTIMEZONE
TZID:Asia/Tokyo
BEGIN:STANDARD
TZOFFSETFROM:+0900
TZOFFSETTO:+0900
TZNAME:JST
DTSTART:20220101T000000
END:STANDARD
END:VTIMEZONE
BEGIN:VEVENT
DTSTART;TZID=Asia/Tokyo:20250824T170000
DTEND;TZID=Asia/Tokyo:20250824T220000
DTSTAMP:20260422T100033
CREATED:20250709T120143Z
LAST-MODIFIED:20250709T120206Z
UID:5235-1756054800-1756072800@nakano-dynamite.com
SUMMARY:1st EP "START TODAY" Tour Final & New Single "PERFECT DAY" Release Party!!!
DESCRIPTION:2025.08.24(sun)\nOPEN 17:00 / START 17:30\nADV 2500yen / DOOR 3000yen\n+1 Drink 600yen\n\n出演：\nHYPER DISORDER\nTAKE BACK THE BEERS!\nSTRIKE AGAIN\nNINJA BOYZ\nSTEP BY STEP\nMound Crash\n\nHYPER DISORDER presents\n1st EP "START TODAY" Tour Final & New Single "PERFECT DAY" Release Party!!!\n@中野MOONSTEP
URL:https://nakano-dynamite.com/moonstep/event/2025-08-24/
LOCATION:中野MOONSTEP\, 中野区中央5-39-16\, 東京\, 日本
CATEGORIES:CRAZY PARTY
ATTACH;FMTTYPE=image/jpeg:https://nakano-dynamite.com/moonstep/wp-content/uploads/2025/07/hyper.jpg
END:VEVENT
BEGIN:VEVENT
DTSTART;TZID=Asia/Tokyo:20250406T153000
DTEND;TZID=Asia/Tokyo:20250406T220000
DTSTAMP:20260422T100033
CREATED:20250129T123839Z
LAST-MODIFIED:20250328T081917Z
UID:4689-1743953400-1743976800@nakano-dynamite.com
SUMMARY:CARNITAS
DESCRIPTION:  \n2025.04.06(sat)\nOPEN 15:30 / START 16:00\nADV 3000yen / DOOR 3500yen\n+1 Drink 600yen\n出演：\nOWEAK\nMEXICAN AGE\nTAKE BACK THE BEERS!\nEF\nBad Attack\nWAVE HAZE\nDEAD STOCK\nRatchild\nHOW\n<FOOD>\nTACOLAN\n\nOWEAK & MEXICAN AGE presents\nCARNITAS\n@中野MOOSNTEP\n 
URL:https://nakano-dynamite.com/moonstep/event/2025-04-06/
LOCATION:中野MOONSTEP\, 中野区中央5-39-16\, 東京\, 日本
CATEGORIES:CRAZY PARTY
ATTACH;FMTTYPE=image/jpeg:https://nakano-dynamite.com/moonstep/wp-content/uploads/2025/01/44432205-1736230035124.jpg
END:VEVENT
BEGIN:VEVENT
DTSTART;TZID=Asia/Tokyo:20231210T000000
DTEND;TZID=Asia/Tokyo:20231210T235959
DTSTAMP:20260422T100033
CREATED:20231128T122755Z
LAST-MODIFIED:20231128T122755Z
UID:3445-1702166400-1702252799@nakano-dynamite.com
SUMMARY:LIVE IN A DIVE -20th YEARS SP!!-
DESCRIPTION:CAA2023.11.29(wed)\nOpen 15:00 / Start 15:30\nadv 2800yen +1D\n\n出演：\nTNX\nBAD ATTACKBAD \nHDYSHITBAD \nMEXICAN AGE\nNEUTRAL\nOWEAK\nQUICKDEAD\nTAKE BACK THE BEERS!\nTORNADO\n東京ノビーズ\nTOO CLOSE TO SEE\nVDX\nZagon with bringing band\nX IBARAKI \n\nTNX PRESENTS\nLIVE IN A DIVE -20th YEAR SP!!\n@中野MOONSTEP\n 
URL:https://nakano-dynamite.com/moonstep/event/2023-12-10/
LOCATION:中野MOONSTEP\, 中野区中央5-39-16\, 東京\, 日本
CATEGORIES:CRAZY PARTY
ATTACH;FMTTYPE=image/jpeg:https://nakano-dynamite.com/moonstep/wp-content/uploads/2023/11/20231210.jpg
END:VEVENT
END:VCALENDAR