BEGIN:VCALENDAR
VERSION:2.0
PRODID:-//Nakano Moonstep - ECPv6.15.20//NONSGML v1.0//EN
CALSCALE:GREGORIAN
METHOD:PUBLISH
X-WR-CALNAME:Nakano Moonstep
X-ORIGINAL-URL:https://nakano-dynamite.com/moonstep
X-WR-CALDESC:Nakano Moonstep のイベント
REFRESH-INTERVAL;VALUE=DURATION:PT1H
X-Robots-Tag:noindex
X-PUBLISHED-TTL:PT1H
BEGIN:VTIMEZONE
TZID:Asia/Tokyo
BEGIN:STANDARD
TZOFFSETFROM:+0900
TZOFFSETTO:+0900
TZNAME:JST
DTSTART:20220101T000000
END:STANDARD
END:VTIMEZONE
BEGIN:VEVENT
DTSTART;TZID=Asia/Tokyo:20230819T180000
DTEND;TZID=Asia/Tokyo:20230819T220000
DTSTAMP:20260422T072711
CREATED:20230726T092957Z
LAST-MODIFIED:20230803T063837Z
UID:1487-1692468000-1692482400@nakano-dynamite.com
SUMMARY:The VERTIGOS 「LIVE TODAY ONLY」 Album release show
DESCRIPTION:2023.08.19(sat) Open 18:00 / Start 18:30 CHARGE 2500yen +1D \n出演：\nDeathro\nTexaco Leather man\nThe Last Survivor\nG.A.T.E.S\nThe VERTIGOS\n\n\nThe VERTIGOS PRESENTS\n「LIVE TODAY ONLY」 Album release show\n@中野MOONSTEP
URL:https://nakano-dynamite.com/moonstep/event/2023-08-19/
LOCATION:中野MOONSTEP\, 中野区中央5-39-16\, 東京\, 日本
CATEGORIES:CRAZY PARTY
ATTACH;FMTTYPE=image/jpeg:https://nakano-dynamite.com/moonstep/wp-content/uploads/2023/07/20230819-1.jpg
END:VEVENT
END:VCALENDAR