BEGIN:VCALENDAR
VERSION:2.0
PRODID:-//Nakano Moonstep - ECPv6.15.20//NONSGML v1.0//EN
CALSCALE:GREGORIAN
METHOD:PUBLISH
X-WR-CALNAME:Nakano Moonstep
X-ORIGINAL-URL:https://nakano-dynamite.com/moonstep
X-WR-CALDESC:Nakano Moonstep のイベント
REFRESH-INTERVAL;VALUE=DURATION:PT1H
X-Robots-Tag:noindex
X-PUBLISHED-TTL:PT1H
BEGIN:VTIMEZONE
TZID:Asia/Tokyo
BEGIN:STANDARD
TZOFFSETFROM:+0900
TZOFFSETTO:+0900
TZNAME:JST
DTSTART:20230101T000000
END:STANDARD
END:VTIMEZONE
BEGIN:VEVENT
DTSTART;TZID=Asia/Tokyo:20241215T173000
DTEND;TZID=Asia/Tokyo:20241215T220000
DTSTAMP:20260422T090433
CREATED:20241102T052724Z
LAST-MODIFIED:20241130T042620Z
UID:4439-1734283800-1734300000@nakano-dynamite.com
SUMMARY:BUZZY KIDS TOUR
DESCRIPTION:2024.12.15(sun)\nOPEN 17:30 / START 18:00\nADV 2500yen / DOOR 3000yen\n+1 Drink 600yen\n出演：\nThe Dahlia\nember\nTHE SENSATIONS\nAGE OF KID\n\nThe Dahlia presents\nBUZZY KIDS TOUR\n@中野MOONSTEP
URL:https://nakano-dynamite.com/moonstep/event/2024-12-15/
LOCATION:中野MOONSTEP\, 中野区中央5-39-16\, 東京\, 日本
CATEGORIES:CRAZY PARTY
ATTACH;FMTTYPE=image/jpeg:https://nakano-dynamite.com/moonstep/wp-content/uploads/2024/11/44432205-1730358919164.jpg
END:VEVENT
BEGIN:VEVENT
DTSTART;TZID=Asia/Tokyo:20250201T180000
DTEND;TZID=Asia/Tokyo:20250201T220000
DTSTAMP:20260422T090433
CREATED:20241201T074123Z
LAST-MODIFIED:20241201T074123Z
UID:4528-1738432800-1738447200@nakano-dynamite.com
SUMMARY:...WHATEVER THAT MEANS JAPAN TOUR 2025
DESCRIPTION:2025.02.01(sat)\nOPEN 18:00 / START 18:30\nENTRANCE 3000yen\n+1 Drink 600yen\n出演：\n...WHATEVER THAT MEANS (from SOUTH KOREA)\nTHE FANGS\nNinja Boyz\nTHE SENSATIONS\nBLASTER KID\nMEXICAN AGE\n\nMOONSTEP presents\n...WHATEVER THAT MEANS JAPAN TOUR 2025\n@中野MOONSTEP
URL:https://nakano-dynamite.com/moonstep/event/2025-02-01/
LOCATION:中野MOONSTEP\, 中野区中央5-39-16\, 東京\, 日本
CATEGORIES:CRAZY PARTY
ATTACH;FMTTYPE=image/jpeg:https://nakano-dynamite.com/moonstep/wp-content/uploads/2024/12/2025-02-01.jpg
END:VEVENT
BEGIN:VEVENT
DTSTART;TZID=Asia/Tokyo:20250420T180000
DTEND;TZID=Asia/Tokyo:20250420T220000
DTSTAMP:20260422T090433
CREATED:20250205T090144Z
LAST-MODIFIED:20250419T073343Z
UID:4741-1745172000-1745186400@nakano-dynamite.com
SUMMARY:SOUL ALIVE
DESCRIPTION:2025.04.20(sun)\nOPEN 18:00 / START 18:30\nADV 3400yen / DOOR 3900yen \n+1 Drink 600yen\n出演：\nSPREAD\nTHE DISASTER POINTS\nTHE CHINA WIFE MOTORS\nSTOMPIN'BIRD\nTHE SENSATIONS\n\nSPREAD & THE DISASTER POINTS presents\nSOUL ALIVE\n@中野MOONSTEP
URL:https://nakano-dynamite.com/moonstep/event/2025-04-20/
LOCATION:中野MOONSTEP\, 中野区中央5-39-16\, 東京\, 日本
CATEGORIES:CRAZY PARTY
ATTACH;FMTTYPE=image/jpeg:https://nakano-dynamite.com/moonstep/wp-content/uploads/2025/02/0-1738156018609.jpg
END:VEVENT
END:VCALENDAR