BEGIN:VCALENDAR
VERSION:2.0
PRODID:-//Nakano Moonstep - ECPv6.15.20//NONSGML v1.0//EN
CALSCALE:GREGORIAN
METHOD:PUBLISH
X-ORIGINAL-URL:https://nakano-dynamite.com/moonstep
X-WR-CALDESC:Nakano Moonstep のイベント
REFRESH-INTERVAL;VALUE=DURATION:PT1H
X-Robots-Tag:noindex
X-PUBLISHED-TTL:PT1H
BEGIN:VTIMEZONE
TZID:Asia/Tokyo
BEGIN:STANDARD
TZOFFSETFROM:+0900
TZOFFSETTO:+0900
TZNAME:JST
DTSTART:20220101T000000
END:STANDARD
END:VTIMEZONE
BEGIN:VEVENT
DTSTART;TZID=Asia/Tokyo:20260314T170000
DTEND;TZID=Asia/Tokyo:20260314T220000
DTSTAMP:20260423T213708
CREATED:20260201T172834Z
LAST-MODIFIED:20260201T172936Z
UID:5929-1773507600-1773525600@nakano-dynamite.com
SUMMARY:TURNING POINT 21
DESCRIPTION:2026.03.14(sat)\nOPEN 17:00 / START 17:30\nDOOR 3000yen\n+1 Drink 600yen\n\n出演：\nBLACK GANION\nJABARA.\nKLONNS\nFAMILYMAN\nWAR/ZIT\nthe slowmotions\n<DJs>\nKUBΦTA (SLIGHT SLAPPERS)\nRAMAN (RAW DISTRACTIONS/ESPERANZA)\nAZUSA (STAGNATION/Ｃ /ESPERANZA)\n\nthe slowmotions presents\nTURNING POINT 21\n@中野MOONSTEP
URL:https://nakano-dynamite.com/moonstep/event/2026-03-14-2/
LOCATION:中野MOONSTEP\, 中野区中央5-39-16\, 東京\, 日本
CATEGORIES:CRAZY PARTY
ATTACH;FMTTYPE=image/jpeg:https://nakano-dynamite.com/moonstep/wp-content/uploads/2026/02/314.jpg
END:VEVENT
BEGIN:VEVENT
DTSTART;TZID=Asia/Tokyo:20251108T173000
DTEND;TZID=Asia/Tokyo:20251108T220000
DTSTAMP:20260423T213708
CREATED:20251011T060724Z
LAST-MODIFIED:20251028T110558Z
UID:5574-1762623000-1762639200@nakano-dynamite.com
SUMMARY:【PASS】TURNING POINT #20
DESCRIPTION:【PASS】の表記があるイベントは \nダイナマイトパスポートで チケ代無料！   \nドリンクチャージ600円のみで ご入場になれます。\n\n2025.11.08(sat)\nOPEN 17:30\nDOOR 3000yen\n+1 Drink 600yen\n\n出演：\nREDNECKS\nFORWARD\nZONE\nKRIEGSHÖG\nthe slowmotions\nDj sen (PILEDRIVER)\n\nthe slowmotions presents\nTURNING POINT #20\n@中野MOONSTEP
URL:https://nakano-dynamite.com/moonstep/event/2025-11-08/
LOCATION:中野MOONSTEP\, 中野区中央5-39-16\, 東京\, 日本
CATEGORIES:CRAZY PARTY,DJ PARTY
ATTACH;FMTTYPE=image/jpeg:https://nakano-dynamite.com/moonstep/wp-content/uploads/2025/10/0-1759634852440.jpg
END:VEVENT
BEGIN:VEVENT
DTSTART;TZID=Asia/Tokyo:20250823T170000
DTEND;TZID=Asia/Tokyo:20250823T220000
DTSTAMP:20260423T213708
CREATED:20250620T101503Z
LAST-MODIFIED:20250620T103438Z
UID:5193-1755968400-1755986400@nakano-dynamite.com
SUMMARY:TURNING POINT 19
DESCRIPTION:2025.08.23(sat)\nOPEN 17:00 / START 17:30\nDOOR 3000yen\n+1 Drink 600yen\n出演：\nthe slowmotions\nSLIGHT SLAPPERS\nSOLVENT COBALT\nKLONNS\nSTAGNATION\nUMBRO\n\n<DJ's>\nSHIGA-CHANG\nMATSUORDER（ex.EXPOSE）\n\nthe slowmotions presents\nTURNING POINT 19\n@中野MOONSTEP
URL:https://nakano-dynamite.com/moonstep/event/2025-08-23/
LOCATION:中野MOONSTEP\, 中野区中央5-39-16\, 東京\, 日本
CATEGORIES:CRAZY PARTY,DJ PARTY
ATTACH;FMTTYPE=image/jpeg:https://nakano-dynamite.com/moonstep/wp-content/uploads/2025/06/0-1750141527726.jpg
END:VEVENT
BEGIN:VEVENT
DTSTART;TZID=Asia/Tokyo:20250615T170000
DTEND;TZID=Asia/Tokyo:20250615T220000
DTSTAMP:20260423T213708
CREATED:20250505T074940Z
LAST-MODIFIED:20250505T075004Z
UID:5016-1750006800-1750024800@nakano-dynamite.com
SUMMARY:U TAKE ORB vol.13 -FEVER WEEDER "ONE BUDS THREE THOUSAND" Release show-
DESCRIPTION:2025.06.15(sun)\nOPEN 17:00 / START 17:30\nTICKET 2400yen\n+1 Drink 600yen\n\n出演：\nFever Weeder\nF.V.K.\nG.A.T.E.S\nThe Slowmotions\nQuetzalcoatl\n<DJ's>\nMarcus (Blaststar)\nHayato (45 Revolution / Sic)\nThree-code (Hat Brains)\n\nQuetzalcoatl presents\nU TAKE ORB vol.13 -FEVER WEEDER "ONE BUDS THREE THOUSAND" Release show-\n@中野MOONSTEP
URL:https://nakano-dynamite.com/moonstep/event/2025-06-15/
LOCATION:中野MOONSTEP\, 中野区中央5-39-16\, 東京\, 日本
CATEGORIES:CRAZY PARTY
ATTACH;FMTTYPE=image/jpeg:https://nakano-dynamite.com/moonstep/wp-content/uploads/2025/05/44432205-1746345751327.jpg
END:VEVENT
BEGIN:VEVENT
DTSTART;TZID=Asia/Tokyo:20250505T163000
DTEND;TZID=Asia/Tokyo:20250505T220000
DTSTAMP:20260423T213708
CREATED:20250408T134711Z
LAST-MODIFIED:20250408T134711Z
UID:4961-1746462600-1746482400@nakano-dynamite.com
SUMMARY:TURNING POINT 18
DESCRIPTION:2025.05.05(mon)\nOPEN 16:30 / START 17:00\nDOOR 2400yen\n+1 Drink 600yen\n\n出演：\nBLACK AND WHITE\nPEST\nHAT TRICKERS\nFAMILYMAN\nthe slowmotions\n<DJ>\nRAMAN\nSO\n\nTHE SLOWMOTIONS presents\nTURNING POINT 18\n@中野MOONSTEP
URL:https://nakano-dynamite.com/moonstep/event/2025-05-05/
LOCATION:中野MOONSTEP\, 中野区中央5-39-16\, 東京\, 日本
CATEGORIES:CRAZY PARTY,DJ PARTY
ATTACH;FMTTYPE=image/jpeg:https://nakano-dynamite.com/moonstep/wp-content/uploads/2025/04/turning-point.jpg
END:VEVENT
BEGIN:VEVENT
DTSTART;TZID=Asia/Tokyo:20250417T193000
DTEND;TZID=Asia/Tokyo:20250417T220000
DTSTAMP:20260423T213708
CREATED:20250204T132320Z
LAST-MODIFIED:20250217T070903Z
UID:4727-1744918200-1744927200@nakano-dynamite.com
SUMMARY:【PASS】THE KNOCKERS &ノッカーズあつし単品名もないツアー2025 東京MOONSTEP編
DESCRIPTION:【PASS】の表記があるイベントは\nダイナマイトパスポートで\nチケ代無料！\nドリンクチャージ600円のみで\nご入場になれます。\n2025.04.17(thu)\nOPEN 19:30 / START 20:00\nADV 1000yen(先約15枚限定) / DOOR 2400yen\n+1 Drink 600yen\n早割予約↓\nmoonstep.nakano@gmail.com\n※限定15枚です。\n件名に「4月17日早割予約」、\n本文にカタカナフルネームを記載してください。\n予約が確定した15名様に\n予約完了の返信メールが届きます。\n出演：\nTHE KNOCKERS\nthe slowmotions\nyokoThema\n <DJ>\nハリケーンNEO丸\n\nMOONSTEP presents\nTHE KNOCKERS &ノッカーズあつし単品名もないツアー2025 東京MOONSTEP編\n@中野MOONSTEP
URL:https://nakano-dynamite.com/moonstep/event/2025-04-17/
LOCATION:中野MOONSTEP\, 中野区中央5-39-16\, 東京\, 日本
CATEGORIES:CRAZY PARTY,LOW CHARGE
ATTACH;FMTTYPE=image/jpeg:https://nakano-dynamite.com/moonstep/wp-content/uploads/2025/02/44432205-1738588697847.jpg
END:VEVENT
BEGIN:VEVENT
DTSTART;TZID=Asia/Tokyo:20241116T190000
DTEND;TZID=Asia/Tokyo:20241116T220000
DTSTAMP:20260423T213708
CREATED:20241016T081631Z
LAST-MODIFIED:20241016T081631Z
UID:4377-1731783600-1731794400@nakano-dynamite.com
SUMMARY:TURNING POINT 17
DESCRIPTION:2024.11.16(sat)\nOPEN 19:00\nDOOR 3000yen\n+1 Drink 600yen\n出演：\nthe slowmotions\nRAPPA\nKRIEGSHOG\nFAMILYMAN\nLimited Express (has gone?)\nVLADIVOSTOK POWDER GENOCIDE\nDJ EBI / SEN\nFOOD zakuro\n\nthe slowmotions presents\nTURNING POINT 17\n@中野MOONSTEP
URL:https://nakano-dynamite.com/moonstep/event/2024-11-16/
LOCATION:中野MOONSTEP\, 中野区中央5-39-16\, 東京\, 日本
CATEGORIES:CRAZY PARTY
ATTACH;FMTTYPE=image/jpeg:https://nakano-dynamite.com/moonstep/wp-content/uploads/2024/10/44432205-1728723000423.jpg
END:VEVENT
BEGIN:VEVENT
DTSTART;TZID=Asia/Tokyo:20240623T153000
DTEND;TZID=Asia/Tokyo:20240623T220000
DTSTAMP:20260423T213708
CREATED:20240507T133039Z
LAST-MODIFIED:20240507T133246Z
UID:3915-1719156600-1719180000@nakano-dynamite.com
SUMMARY:TURNING POINT 16
DESCRIPTION:2024.06.23(sun)\nOPEN 15:30 / START 16:00\nDOOR 3000yen\n+1 drink 600yen\n\n出演：\n<BAND>\nTHE SLOWMOTIONS\nSKYMARS\nLIFE\nSTAGNATION\nDISKRIMINADOS\nTHE LAST SURVIVORS\n\n<DJ>\nSO\nYWK1\nTony Monju( from NDA )\n\n\nthe slowmotions presents\nTURNING POINT 16\n@中野MOONSTEP
URL:https://nakano-dynamite.com/moonstep/event/2024-06-23/
LOCATION:中野MOONSTEP\, 中野区中央5-39-16\, 東京\, 日本
CATEGORIES:CRAZY PARTY
ATTACH;FMTTYPE=image/jpeg:https://nakano-dynamite.com/moonstep/wp-content/uploads/2024/05/44432205-1714728622568.jpg
END:VEVENT
BEGIN:VEVENT
DTSTART;TZID=Asia/Tokyo:20240210T170000
DTEND;TZID=Asia/Tokyo:20240210T220000
DTSTAMP:20260423T213708
CREATED:20240128T051049Z
LAST-MODIFIED:20240128T051049Z
UID:3544-1707584400-1707602400@nakano-dynamite.com
SUMMARY:TURNING POINT 15
DESCRIPTION:2024.02.10(sat)\nOpen 17:00 / Start 17:30\ndoor 3000yen +1D\n\n出演：\nRAPPA\nKRIEGSHOG\nSLEEPERS\nRADIOACTIVE\nFAMILY MAN\nTHE SLOWMOTIONS\nDJ:\nHAYATO(45REVOLUTION)\nYOSHIAKI“Neggy”NEGISHI (NEPENTHES)\n\nFOOD:\nDININGざくろ\n\nTHE SLOWMOTIONS PRESENTS\nTURNING POINT 15\n@中野MOONSTEP\n 
URL:https://nakano-dynamite.com/moonstep/event/2024-02-10/
LOCATION:中野MOONSTEP\, 中野区中央5-39-16\, 東京\, 日本
CATEGORIES:CRAZY PARTY
ATTACH;FMTTYPE=image/jpeg:https://nakano-dynamite.com/moonstep/wp-content/uploads/2024/01/20240210.jpg
END:VEVENT
BEGIN:VEVENT
DTSTART;TZID=Asia/Tokyo:20240127T173000
DTEND;TZID=Asia/Tokyo:20240127T220000
DTSTAMP:20260423T213708
CREATED:20231229T081126Z
LAST-MODIFIED:20231229T081126Z
UID:3519-1706376600-1706392800@nakano-dynamite.com
SUMMARY:VIOLENT HEIGHTS 8
DESCRIPTION:2024.01.27(sat)\nOpen 17:30 / Start 18:00\nadv 2500yen +1D / door 3000yen +1D\n\n出演：\nCreepout\nBayonets\nBside approach\nThe Slowmotions\nStandout\nSpeakeasy\n\nDJ:\nHayato (45revolution)\nKTGW ( And Believe)\n\nCreepout PRESENTS\nVIOLENT HEIGHTS 8\n@中野MOONSTEP
URL:https://nakano-dynamite.com/moonstep/event/2024-01-27/
LOCATION:中野MOONSTEP\, 中野区中央5-39-16\, 東京\, 日本
CATEGORIES:CRAZY PARTY
ATTACH;FMTTYPE=image/jpeg:https://nakano-dynamite.com/moonstep/wp-content/uploads/2023/12/20240127.jpg
END:VEVENT
BEGIN:VEVENT
DTSTART;TZID=Asia/Tokyo:20231119T170000
DTEND;TZID=Asia/Tokyo:20231119T220000
DTSTAMP:20260423T213708
CREATED:20231006T074549Z
LAST-MODIFIED:20231006T074549Z
UID:1624-1700413200-1700431200@nakano-dynamite.com
SUMMARY:TURNING POINT 14
DESCRIPTION:2023.11.19(sat)\nOpen 17:00 / Start 17:30\nadv 3000yen +1D\n出演：\nTHE SLOWMOTIONS\nSICKz （水戸)\nTHE TRASH\nSLIP HEAD BUTT\nBILLI\nRAW DISTRACTIONS\n\nDJ:\nSATOSHI (SOLVENT COBALT) \n\nFOOD:\nまぁぼう\n\n\nTHE SLOWMOTIONS PRESENTS\nTURNING POINT 14\n@中野MOONSTEP
URL:https://nakano-dynamite.com/moonstep/event/2023-11-19/
LOCATION:中野MOONSTEP\, 中野区中央5-39-16\, 東京\, 日本
CATEGORIES:CRAZY PARTY
ATTACH;FMTTYPE=image/jpeg:https://nakano-dynamite.com/moonstep/wp-content/uploads/2023/10/20231119.jpg
END:VEVENT
BEGIN:VEVENT
DTSTART;TZID=Asia/Tokyo:20231021T150000
DTEND;TZID=Asia/Tokyo:20231021T220000
DTSTAMP:20260423T213708
CREATED:20230803T065002Z
LAST-MODIFIED:20230803T065022Z
UID:1495-1697900400-1697925600@nakano-dynamite.com
SUMMARY:THE AVENGERS JAPAN TOUR
DESCRIPTION:2023.10.21(sat)\nOpen 15:00 / Start 16:00\nadv 5000yen +1D / door 6000yen +1D\n出演：\nTHE AVENGERS \nCH3\nTHE VAXXINES\nTHE SLOWMOTIONS\nPROM\nCRADLE TO GRAVE\nVINDICTIVES\n\nMOONSTEP PRESENTS\nTHE AVENGERS JAPAN TOUR\n@中野MOONSTEP
URL:https://nakano-dynamite.com/moonstep/event/20231021/
LOCATION:東京
CATEGORIES:CRAZY PARTY
ATTACH;FMTTYPE=image/jpeg:https://nakano-dynamite.com/moonstep/wp-content/uploads/2023/08/20231021.jpg
END:VEVENT
BEGIN:VEVENT
DTSTART;TZID=Asia/Tokyo:20230701T163000
DTEND;TZID=Asia/Tokyo:20230701T220000
DTSTAMP:20260423T213708
CREATED:20230609T123319Z
LAST-MODIFIED:20230609T124937Z
UID:1374-1688229000-1688248800@nakano-dynamite.com
SUMMARY:TURNING POINT 13
DESCRIPTION:2023.07.01(sat)\nOpen 16:30 / Start 17:00\nCHARGE 3200yen +1D\n\n出演：\nTHE SLOWMOTIONS\nNAKED YEGGS (仙台)\nORDER (豊田) \nPILEDRIVER Acoustic (横浜)\nBAREBONES\nJABARA.\n\nDJ:\nEBI\nAZUSA\nRAMAN\n\n\n\n\nTHE SLOWMOTIONS PRESENTS\nTURNING POINT 13\n@中野MOONSTEP
URL:https://nakano-dynamite.com/moonstep/event/2023-07-01/
LOCATION:中野MOONSTEP\, 中野区中央5-39-16\, 東京\, 日本
CATEGORIES:CRAZY PARTY
ATTACH;FMTTYPE=image/jpeg:https://nakano-dynamite.com/moonstep/wp-content/uploads/2023/06/20230701.jpg
END:VEVENT
BEGIN:VEVENT
DTSTART;TZID=Asia/Tokyo:20230511T190000
DTEND;TZID=Asia/Tokyo:20230511T220000
DTSTAMP:20260423T213708
CREATED:20230429T132648Z
LAST-MODIFIED:20230429T132648Z
UID:1248-1683831600-1683842400@nakano-dynamite.com
SUMMARY:DELETÄR 「KANG BARRICADE JAPAN TOUR」
DESCRIPTION:2023.05.11(thu)\nOpen 19:00 / Start 19:30\n\nAdv￥2500 +1D / Door￥2800 +1D\n\n\nDELETÄR\nSTAGNATION\nThe slowmotions\nRADIOACTIVE\nUNARM\n\nMOONSTEP PRESENTS\nDELETÄR 「KANG BARRICADE JAPAN TOUR」\n@中野MOONSTEP
URL:https://nakano-dynamite.com/moonstep/event/2023-05-11/
LOCATION:中野MOONSTEP\, 中野区中央5-39-16\, 東京\, 日本
CATEGORIES:CRAZY PARTY
ATTACH;FMTTYPE=image/jpeg:https://nakano-dynamite.com/moonstep/wp-content/uploads/2023/04/20230511.jpg
END:VEVENT
BEGIN:VEVENT
DTSTART;TZID=Asia/Tokyo:20230414T183000
DTEND;TZID=Asia/Tokyo:20230414T220000
DTSTAMP:20260423T213708
CREATED:20230323T124817Z
LAST-MODIFIED:20230323T124840Z
UID:1152-1681497000-1681509600@nakano-dynamite.com
SUMMARY:CUT-RATE DRUGGIST JAPAN BULLET TOUR 2023
DESCRIPTION:2023.04.14(fri)\nOPEN 18:30 / START 19:00\nADV.2500yen +1D / Door 3000yen +1D\n\nCUT-RATE DRUGGIST(OAKLAND\, CA)\nteensmoker\nthe slowmotions \nWET BLACK\nVINDICTIVES\n\nMOONSTEP PRESENTS\nCUT-RATE DRUGGIST JAPAN BULLET TOUR 2023\n@中野MOONSTEP
URL:https://nakano-dynamite.com/moonstep/event/2023-04-14/
LOCATION:中野MOONSTEP\, 中野区中央5-39-16\, 東京\, 日本
CATEGORIES:CRAZY PARTY
ATTACH;FMTTYPE=image/jpeg:https://nakano-dynamite.com/moonstep/wp-content/uploads/2023/03/20230414.jpg
END:VEVENT
BEGIN:VEVENT
DTSTART;TZID=Asia/Tokyo:20230401T153000
DTEND;TZID=Asia/Tokyo:20230401T220000
DTSTAMP:20260423T213708
CREATED:20230323T111112Z
LAST-MODIFIED:20230323T111129Z
UID:1131-1680363000-1680386400@nakano-dynamite.com
SUMMARY:TURNING POINT 12
DESCRIPTION:  \n2023.04.01(sat)\nopen15:30 / start16:00\ndoor only 3000yen +1D\n\nBANDS\n▪️THE SLOWMOTIONS\n▪️DINGO（札幌)\n▪️DEEP COUNT\n▪️JABARA.\n▪️KRIEGSHOG\n▪️SLIP HEAD BUTT\n▪️ABERRATE\nDJ \n▪️SEN（PILE DRIVER)\n▪️RAMAN(RAW DISTRACTIONS \, ESPERANZA)\n \nthe slowmotions PRESENTS\nTURNING POINT 12\n@中野MOONSTEP\n 
URL:https://nakano-dynamite.com/moonstep/event/2023-04-01/
LOCATION:中野MOONSTEP\, 中野区中央5-39-16\, 東京\, 日本
CATEGORIES:CRAZY PARTY
ATTACH;FMTTYPE=image/jpeg:https://nakano-dynamite.com/moonstep/wp-content/uploads/2023/03/20230401.jpg
END:VEVENT
END:VCALENDAR