BEGIN:VCALENDAR
VERSION:2.0
PRODID:-//Nakano Moonstep - ECPv6.15.20//NONSGML v1.0//EN
CALSCALE:GREGORIAN
METHOD:PUBLISH
X-WR-CALNAME:Nakano Moonstep
X-ORIGINAL-URL:https://nakano-dynamite.com/moonstep
X-WR-CALDESC:Nakano Moonstep のイベント
REFRESH-INTERVAL;VALUE=DURATION:PT1H
X-Robots-Tag:noindex
X-PUBLISHED-TTL:PT1H
BEGIN:VTIMEZONE
TZID:Asia/Tokyo
BEGIN:STANDARD
TZOFFSETFROM:+0900
TZOFFSETTO:+0900
TZNAME:JST
DTSTART:20220101T000000
END:STANDARD
END:VTIMEZONE
BEGIN:VEVENT
DTSTART;TZID=Asia/Tokyo:20250214T170000
DTEND;TZID=Asia/Tokyo:20250214T220000
DTSTAMP:20260422T015309
CREATED:20250129T114326Z
LAST-MODIFIED:20250129T115532Z
UID:4658-1739552400-1739570400@nakano-dynamite.com
SUMMARY:PUNK DOWN FEST vol.2
DESCRIPTION:2025.02.14(fri)\nOPEN 17:00 / START 18:00\nADV 2000yen DOOR 2500yen\n+1 Drink 600yen\n出演：\nTHE DIGITAL CITY JUNKIES\n+桃尻東京テレビジョン+\nTHE NEGATIVE MIND DISTORTION\nザ・シンナーズ\n-MILXNAKE-\nTHERMOSTAD\n\nHate Grin × Muscle Bar Jp presents\nPUNKDOWNFEST vol.2\n@中野MOONSTEP
URL:https://nakano-dynamite.com/moonstep/event/2025-02-14/
LOCATION:中野MOONSTEP\, 中野区中央5-39-16\, 東京\, 日本
CATEGORIES:CRAZY PARTY
ATTACH;FMTTYPE=image/jpeg:https://nakano-dynamite.com/moonstep/wp-content/uploads/2025/01/0-1737544541922.jpg
END:VEVENT
BEGIN:VEVENT
DTSTART;TZID=Asia/Tokyo:20230319T160000
DTEND;TZID=Asia/Tokyo:20230319T170000
DTSTAMP:20260422T015309
CREATED:20230303T112030Z
LAST-MODIFIED:20230303T112105Z
UID:1104-1679241600-1679245200@nakano-dynamite.com
SUMMARY:カープスプリング　爆音ペナントレースvol.4 2023
DESCRIPTION:2023.03.19(sun)\nOPEN 16:00 / START 16:30\nTicket 2500yen +1D\n\nTHE☆バリュー兄弟\nジタンのけむり\nBUZZHOUSE\nTHERMOSTAD\n細谷とエア子(CAMP)\nシェイプアップボーイズ\nYASU(MOONSTOMP)\nハリケーンNEO丸\n末包恭介(末包昇大/兄)\nトミー神田(THE COLTS / THE MACKSHOW)\n\nTHE☆バリュー兄弟 PRESENTS\nカープスプリング　爆音ペナントレースvol.4 2023\n@中野MOONSTEP\n 
URL:https://nakano-dynamite.com/moonstep/event/2023-03-19/
LOCATION:中野MOONSTEP\, 中野区中央5-39-16\, 東京\, 日本
CATEGORIES:CRAZY PARTY
ATTACH;FMTTYPE=image/jpeg:https://nakano-dynamite.com/moonstep/wp-content/uploads/2023/03/20230319-1.jpg
END:VEVENT
END:VCALENDAR