BEGIN:VCALENDAR
VERSION:2.0
PRODID:-//Nakano Moonstep - ECPv6.15.20//NONSGML v1.0//EN
CALSCALE:GREGORIAN
METHOD:PUBLISH
X-ORIGINAL-URL:https://nakano-dynamite.com/moonstep
X-WR-CALDESC:Nakano Moonstep のイベント
REFRESH-INTERVAL;VALUE=DURATION:PT1H
X-Robots-Tag:noindex
X-PUBLISHED-TTL:PT1H
BEGIN:VTIMEZONE
TZID:Asia/Tokyo
BEGIN:STANDARD
TZOFFSETFROM:+0900
TZOFFSETTO:+0900
TZNAME:JST
DTSTART:20240101T000000
END:STANDARD
END:VTIMEZONE
BEGIN:VEVENT
DTSTART;TZID=Asia/Tokyo:20250608T160000
DTEND;TZID=Asia/Tokyo:20250608T220000
DTSTAMP:20260422T103745
CREATED:20250419T070653Z
LAST-MODIFIED:20250514T103306Z
UID:4976-1749398400-1749420000@nakano-dynamite.com
SUMMARY:【PASS】PMF vol.6
DESCRIPTION:【PASS】の表記があるイベントは \nダイナマイトパスポートで チケ代無料！ \nドリンクチャージ600円のみで ご入場になれます。\n\n2025.06.08(sun)\nOPEN / START 16:30\nTICKET 1900yen\n+1 Drink 600yen\n出演：\n<LIVE>\nBUMPED HIS HEAD\nLook Of Dub\nSLANG BOOGIE\nTHE DEAD PAN SPEAKERS\nTORO\n池永正二 (あらかじめ決められた恋人たちへ)\n天狗ロッカーズ\n<DJ>\nAquarium\nKC\nMUM\nONCEMORE\n床松 \n<SILKSCREEN>\nSatoshi Ito\n\nshiyu presents\nPMF vol.6\n@中野MOONSTEP
URL:https://nakano-dynamite.com/moonstep/event/2025-06-08/
LOCATION:中野MOONSTEP\, 中野区中央5-39-16\, 東京\, 日本
CATEGORIES:CRAZY PARTY,DJ PARTY,LOW CHARGE
ATTACH;FMTTYPE=image/jpeg:https://nakano-dynamite.com/moonstep/wp-content/uploads/2025/04/0-1745045998632.jpg
END:VEVENT
BEGIN:VEVENT
DTSTART;TZID=Asia/Tokyo:20250821T180000
DTEND;TZID=Asia/Tokyo:20250821T220000
DTSTAMP:20260422T103745
CREATED:20250709T121442Z
LAST-MODIFIED:20250709T121442Z
UID:5241-1755799200-1755813600@nakano-dynamite.com
SUMMARY:JAKE MORTON JAPAN TOUR
DESCRIPTION:2025.08.21(thu)\nOPEN / START 18:00\nTICKET 1400yen / U-22 FREE!!!\n+1 Drink 600yen\n\n出演：\nJAKE MORTON\nANGEL\nQHØQ\nTORO\n兄兄\n<DJ's>\n咳をしても山田\n瞬足\n\nMOONSTEP presents\nJAKE MORTON JAPAN TOUR\n@中野MOONSTEP
URL:https://nakano-dynamite.com/moonstep/event/2025-08-21/
LOCATION:中野MOONSTEP\, 中野区中央5-39-16\, 東京\, 日本
CATEGORIES:CRAZY PARTY,DJ PARTY,LOW CHARGE
ATTACH;FMTTYPE=image/jpeg:https://nakano-dynamite.com/moonstep/wp-content/uploads/2025/07/JAKE.jpg
END:VEVENT
BEGIN:VEVENT
DTSTART;TZID=Asia/Tokyo:20250913T170000
DTEND;TZID=Asia/Tokyo:20250913T220000
DTSTAMP:20260422T103745
CREATED:20250815T094213Z
LAST-MODIFIED:20250815T094213Z
UID:5378-1757782800-1757800800@nakano-dynamite.com
SUMMARY:BOUNCE AROUND TOKYO -PEG LEG LOVE JAPAN TOUR 2025-
DESCRIPTION:2025.09.13(sat)\nOPEN 17:00 / START 17:30\nADV 2500yen / DOOR 3000yen\n+1 Drink 600yen\n\n出演：\nPEG LEG LOVE (LA)\nPUNKUBOIZ\nRADIOACTIVE\n天狗ロッカーズ\nTORO\nTHE DEAD PAN SPEAKERS\n<DJ's>\nMASA & MITTUU (MIlitant Ites)\nVOW (1049♡)\nONCE MORE\n\nTHE DEAD PAN SPEAKERS presents\nBOUNCE AROUND TOKYO -PEG LEG LOVE JAPAN TOUR 2025-\n@中野MOONSTEP
URL:https://nakano-dynamite.com/moonstep/event/2025-09-13/
LOCATION:中野MOONSTEP\, 中野区中央5-39-16\, 東京\, 日本
CATEGORIES:CRAZY PARTY
ATTACH;FMTTYPE=image/jpeg:https://nakano-dynamite.com/moonstep/wp-content/uploads/2025/08/0-1753967332779.jpg
END:VEVENT
BEGIN:VEVENT
DTSTART;TZID=Asia/Tokyo:20260206T183000
DTEND;TZID=Asia/Tokyo:20260206T220000
DTSTAMP:20260422T103745
CREATED:20260117T062609Z
LAST-MODIFIED:20260201T170720Z
UID:5886-1770402600-1770415200@nakano-dynamite.com
SUMMARY:【PASS】P.M.F vol.7
DESCRIPTION:【PASS】の表記があるイベントは  \nダイナマイトパスポートで チケ代無料！   \n ドリンクチャージ600円のみで ご入場になれます。\n2026.02.06(fri)\nOPEN / START 18:30\nENTRANCE 1000yen\n+1 Drink 600yen\n\n出演：\n<LIVE>\nTORO\nyokoThema\n\n<DJ’s>\naquarium\nIBJ\nONCE MORE\nLocal Sound\n\n<COLORING BOOKS>\nmandala-effect\n\n<SILKSCREEN>\nSatoshi Ito\n\nShiyu presents\nP.M.F vol.7\n@中野MOONSTEP
URL:https://nakano-dynamite.com/moonstep/event/2026-02-06/
LOCATION:中野MOONSTEP\, 中野区中央5-39-16\, 東京\, 日本
CATEGORIES:2F BAR SPACE LIVE,CRAZY PARTY,DJ PARTY,LOW CHARGE,WORKSHOP
ATTACH;FMTTYPE=image/jpeg:https://nakano-dynamite.com/moonstep/wp-content/uploads/2026/01/0-1768566249344.jpg
END:VEVENT
BEGIN:VEVENT
DTSTART;TZID=Asia/Tokyo:20260502T180000
DTEND;TZID=Asia/Tokyo:20260502T220000
DTSTAMP:20260422T103745
CREATED:20260409T074227Z
LAST-MODIFIED:20260409T074227Z
UID:6114-1777744800-1777759200@nakano-dynamite.com
SUMMARY:IN DA HOUSE
DESCRIPTION:2026.05.02(sat)\nOPEN 18:00 / START 19:00 \nCHARGE 2000yen (INCLUDE 1 Drink)\n\n出演：\n前川エクスプロージョン\n有刺鉄戦 \nべラーノ・コウ&狙撃\nP-iPLE\nTORO\nYxAxD\nHi-Nomady\nthe dast.\nDJ daddy-o-Nov\n\n...and more\n\n前川エクスプロージョン presents\nIN DA HOUSE\n@中野MOONSTEP
URL:https://nakano-dynamite.com/moonstep/event/2026-05-02/
LOCATION:中野MOONSTEP\, 中野区中央5-39-16\, 東京\, 日本
CATEGORIES:CRAZY PARTY,DJ PARTY,LOW CHARGE
ATTACH;FMTTYPE=image/jpeg:https://nakano-dynamite.com/moonstep/wp-content/uploads/2026/04/52.jpg
END:VEVENT
END:VCALENDAR