BEGIN:VCALENDAR
VERSION:2.0
PRODID:-//Nakano Moonstep - ECPv6.15.20//NONSGML v1.0//EN
CALSCALE:GREGORIAN
METHOD:PUBLISH
X-WR-CALNAME:Nakano Moonstep
X-ORIGINAL-URL:https://nakano-dynamite.com/moonstep
X-WR-CALDESC:Nakano Moonstep のイベント
REFRESH-INTERVAL;VALUE=DURATION:PT1H
X-Robots-Tag:noindex
X-PUBLISHED-TTL:PT1H
BEGIN:VTIMEZONE
TZID:Asia/Tokyo
BEGIN:STANDARD
TZOFFSETFROM:+0900
TZOFFSETTO:+0900
TZNAME:JST
DTSTART:20220101T000000
END:STANDARD
END:VTIMEZONE
BEGIN:VEVENT
DTSTART;TZID=Asia/Tokyo:20250113T183000
DTEND;TZID=Asia/Tokyo:20250113T220000
DTSTAMP:20260421T144312
CREATED:20250111T083030Z
LAST-MODIFIED:20250111T083030Z
UID:4617-1736793000-1736805600@nakano-dynamite.com
SUMMARY:戦慄のバックファイヤー
DESCRIPTION:2025.01.13(mon)\nOPEN 18:30 / START 19:00\nDOOR only 2000yen\n+1 Drink 600yen\n\n出演：\nEL NUDO\nGEVABOW\nTRES\nBUMPED HIS HEAD\nおまえ\n\nMOONSTEP presents\n戦慄のバックファイヤー\n@中野MOONSTEP
URL:https://nakano-dynamite.com/moonstep/event/2025-01-13/
LOCATION:中野MOONSTEP\, 中野区中央5-39-16\, 東京\, 日本
CATEGORIES:CRAZY PARTY,LOW CHARGE
ATTACH;FMTTYPE=image/jpeg:https://nakano-dynamite.com/moonstep/wp-content/uploads/2025/01/44432205-1736174881471.jpg
END:VEVENT
BEGIN:VEVENT
DTSTART;TZID=Asia/Tokyo:20241108T183000
DTEND;TZID=Asia/Tokyo:20241108T220000
DTSTAMP:20260421T144312
CREATED:20241025T091442Z
LAST-MODIFIED:20241025T091442Z
UID:4415-1731090600-1731103200@nakano-dynamite.com
SUMMARY:MATATABI NIGHT
DESCRIPTION:2024.11.08(fri)\nOPEN / START 18:30\nENTRANCE FREE!!! 入場無料だっちゃ！\n出演:\nCUT-RATE DRAGGIST (OAKLAND)\nLEGEND OF TRUTH\nFLIPOUT A.A\nTRES\n<DJs>\nKUN\nH.C.DIE\nBABIZOMBIE\n\nHARRY & BABI & NEO丸 presents\nMATATABI NIGHT\n@中野MOONSTEP
URL:https://nakano-dynamite.com/moonstep/event/2024-11-08/
LOCATION:中野MOONSTEP\, 中野区中央5-39-16\, 東京\, 日本
CATEGORIES:CRAZY PARTY,DJ PARTY,FREE PARTY,入場無料
ATTACH;FMTTYPE=image/jpeg:https://nakano-dynamite.com/moonstep/wp-content/uploads/2024/10/44432205-1729689003108.jpg
END:VEVENT
BEGIN:VEVENT
DTSTART;TZID=Asia/Tokyo:20240506T160000
DTEND;TZID=Asia/Tokyo:20240506T220000
DTSTAMP:20260421T144312
CREATED:20240416T090204Z
LAST-MODIFIED:20240419T070440Z
UID:3804-1715011200-1715032800@nakano-dynamite.com
SUMMARY:FLY ME TO THE MOON
DESCRIPTION:2024.05.06(mon)\nOPEN 16:00 / START 16:20\nADV 2400yen / DOOR 2900yen\n+1 Drink 600yen\n\n出演:\nZん from Shizuoka\n天獄\nNK6\n0.001DAY\nYanni459(Butcher in the Fog) from UK\nTRES\nWITHOUT SYSTEM\n\n\n\n\nMOONSTEP presents\nFLY ME TO THE MOON\n@中野MOONSTEP
URL:https://nakano-dynamite.com/moonstep/event/2024-05-06/
LOCATION:中野MOONSTEP\, 中野区中央5-39-16\, 東京\, 日本
CATEGORIES:CRAZY PARTY
ATTACH;FMTTYPE=image/jpeg:https://nakano-dynamite.com/moonstep/wp-content/uploads/2024/04/44432205-1712956590179.jpg
END:VEVENT
BEGIN:VEVENT
DTSTART;TZID=Asia/Tokyo:20231022T180000
DTEND;TZID=Asia/Tokyo:20231022T220000
DTSTAMP:20260421T144312
CREATED:20230927T030711Z
LAST-MODIFIED:20230927T030711Z
UID:1575-1697997600-1698012000@nakano-dynamite.com
SUMMARY:GOOD WORLD PARTY vol.2
DESCRIPTION:2023.10.22(sun)\nOpen / Start \nCHARGE\n出演：\nAND BELIEVE\nUNDONE\nHOW\nTRES\nザ・バイキング\n\nDJ:\nOK BOY\nKATO\n\nVEGAN FOODS:\nNAOKI\n\nMOONSTEP PRESENTS\nGOOD WORLD PARTY vol.2\n@中野MOONSTEP
URL:https://nakano-dynamite.com/moonstep/event/2023-10-22/
LOCATION:中野MOONSTEP\, 中野区中央5-39-16\, 東京\, 日本
CATEGORIES:CRAZY PARTY
ATTACH;FMTTYPE=image/jpeg:https://nakano-dynamite.com/moonstep/wp-content/uploads/2023/09/20231022.jpg
END:VEVENT
BEGIN:VEVENT
DTSTART;TZID=Asia/Tokyo:20230916T150000
DTEND;TZID=Asia/Tokyo:20230916T220000
DTSTAMP:20260421T144312
CREATED:20230905T080750Z
LAST-MODIFIED:20230905T080750Z
UID:1543-1694876400-1694901600@nakano-dynamite.com
SUMMARY:LOCAL MARKET VOL.7
DESCRIPTION:2023.09.16(sat)\nOpen / Start 15:00\nCHARGE ￥2000 +1D\n[LIVE]\nbambiclub\nfutures\nTRES\nSOBUT\nChapa×JAYPAY\n[DJ]\nLOCAL SOUND\nmasayoshi\nFUMI\nazele\n死門\nThree-CODE\nQuO DJ Set(粋響)\nRILY cat\nDJ店長\nZu-kkkker\n\n［APPREL］\nLOCAL SKIN\nCHAIN GANG\nescalate\nマチルダ\n\n［ACCESSORIES］\n1998 jewel\narcana\nAMER ROSIER\nWelcome\,aliens\n玉串\n\n［NAIL］\ntikako\n\n［ART］\n c-clamp\n\n［FOOD］\nSOLTACOS\nSanta Muerte Tacos\n\n［CHILL］\nKiNGCHiLL.CBD\n\nLOCALSKIN PRESENTS\nLOCAL MARKET VOL.7\n@中野MOONSTEP
URL:https://nakano-dynamite.com/moonstep/event/2023-09-16/
LOCATION:中野MOONSTEP\, 中野区中央5-39-16\, 東京\, 日本
CATEGORIES:CRAZY PARTY
ATTACH;FMTTYPE=image/jpeg:https://nakano-dynamite.com/moonstep/wp-content/uploads/2023/09/20230916.jpg
END:VEVENT
BEGIN:VEVENT
DTSTART;TZID=Asia/Tokyo:20230722T150000
DTEND;TZID=Asia/Tokyo:20230722T220000
DTSTAMP:20260421T144312
CREATED:20230712T162134Z
LAST-MODIFIED:20230712T162134Z
UID:1408-1690038000-1690063200@nakano-dynamite.com
SUMMARY:LOCAL MARKET VOL.6
DESCRIPTION:2023.07.22(sat)\nOpen / Start 15:00\nCHARGE ￥2000 +1D\n\n[LIVE]\nnomura elico (Live ART)\n伊差川　奨\nfutures\nTRES\nChapa\n\n[DJ]\n林田　陸\nGAMEBOY\nmanaya\nmasayoshi\nFUMI\nAquarium a.k.a 外神田 deepspace\n\n[APPAREL]\nLOCALSKIN\nCHAIN GANG\npong-pong knit\n\n[NAIL]\ntikako\n\n[ART]\nHiroko Ishida\n十字路\n\n[ACCESSORIES]\narcana\n1998 jewel\n\n[MAGAZINE]\nJID\n\n[FOOD]\nSOL TACOS\nノゾエ(CURRY)\n\n[DRINK]\nHomechal\n\n[HENNATATTOO]\n燈\n\n\nLOCALSKIN PRESENTS\nLOCAL MARKET VOL.6\n@中野MOONSTEP
URL:https://nakano-dynamite.com/moonstep/event/2023-07-22/
LOCATION:中野MOONSTEP\, 中野区中央5-39-16\, 東京\, 日本
CATEGORIES:CRAZY PARTY
ATTACH;FMTTYPE=image/jpeg:https://nakano-dynamite.com/moonstep/wp-content/uploads/2023/07/20230722.jpg
END:VEVENT
BEGIN:VEVENT
DTSTART;TZID=Asia/Tokyo:20230630T183000
DTEND;TZID=Asia/Tokyo:20230630T220000
DTSTAMP:20260421T144312
CREATED:20230609T121735Z
LAST-MODIFIED:20230609T122121Z
UID:1369-1688149800-1688162400@nakano-dynamite.com
SUMMARY:ザ・バイキング　ヒトシ生誕祭
DESCRIPTION:2023.06.30(fri)\nOpen 18:30 / Start 19:00\nCHARGE 2400yen +1D\n\n出演：\nTRES\n六根\nRYDEEN\nNK6\nザ・バイキング \n\nDJ:\nMAU\nmeg\n\nFOOD:\nササノのごはん\n\n\n\n\nザ・バイキング PRESENTS\nザ・バイキング　ヒトシ生誕祭\n@中野MOONSTEP
URL:https://nakano-dynamite.com/moonstep/event/2023-06-30/
LOCATION:中野MOONSTEP\, 中野区中央5-39-16\, 東京\, 日本
CATEGORIES:CRAZY PARTY
ATTACH;FMTTYPE=image/jpeg:https://nakano-dynamite.com/moonstep/wp-content/uploads/2023/06/20230630.jpg
END:VEVENT
BEGIN:VEVENT
DTSTART;TZID=Asia/Tokyo:20230615T183000
DTEND;TZID=Asia/Tokyo:20230615T220000
DTSTAMP:20260421T144312
CREATED:20230604T152727Z
LAST-MODIFIED:20230604T153637Z
UID:1343-1686853800-1686866400@nakano-dynamite.com
SUMMARY:またたびNIGHT vol.46
DESCRIPTION:2023.06.15(fri)\nOPEN18:30/START 19:00\nCHARGE FREE\n\nBands：\nLEGEND OF TRUTH\nTRES\n\nDJ：\nBABIZOmbie\nMiK\nM.A.U\n\n\nHARRY & BABI & MOONSTEP PRESENTS\nまたたびナイト46\n@中野MOONSTEP
URL:https://nakano-dynamite.com/moonstep/event/2023-06-15/
LOCATION:中野MOONSTEP\, 中野区中央5-39-16\, 東京\, 日本
CATEGORIES:CRAZY PARTY
ATTACH;FMTTYPE=image/jpeg:https://nakano-dynamite.com/moonstep/wp-content/uploads/2023/06/20230615.jpg
END:VEVENT
BEGIN:VEVENT
DTSTART;TZID=Asia/Tokyo:20230502T190000
DTEND;TZID=Asia/Tokyo:20230502T220000
DTSTAMP:20260421T144312
CREATED:20230429T094130Z
LAST-MODIFIED:20230429T094138Z
UID:1226-1683054000-1683064800@nakano-dynamite.com
SUMMARY:Neztava
DESCRIPTION:2023.05.02(tue)\nOPEN / START 19:00\nCHARGE 1000yen +1D\n\nAct \n前説 スーパームチオ\nJohn Hawkwood's Blackfoot Sun…\n(From St Louis MO)\nM.Kozminski(From Denton TX)\nTRES\nギョビリーズ\n\nNezta音圖太Kenjiii PRESENTS\nNeztava\n@中野MOONSTEP
URL:https://nakano-dynamite.com/moonstep/event/2023-05-02/
LOCATION:中野MOONSTEP\, 中野区中央5-39-16\, 東京\, 日本
CATEGORIES:2F BAR SPACE LIVE,CRAZY PARTY,DJ PARTY,LOW CHARGE
ATTACH;FMTTYPE=image/jpeg:https://nakano-dynamite.com/moonstep/wp-content/uploads/2023/04/20230502.jpg
END:VEVENT
END:VCALENDAR