BEGIN:VCALENDAR
VERSION:2.0
PRODID:-//Nakano Moonstep - ECPv6.15.20//NONSGML v1.0//EN
CALSCALE:GREGORIAN
METHOD:PUBLISH
X-WR-CALNAME:Nakano Moonstep
X-ORIGINAL-URL:https://nakano-dynamite.com/moonstep
X-WR-CALDESC:Nakano Moonstep のイベント
REFRESH-INTERVAL;VALUE=DURATION:PT1H
X-Robots-Tag:noindex
X-PUBLISHED-TTL:PT1H
BEGIN:VTIMEZONE
TZID:Asia/Tokyo
BEGIN:STANDARD
TZOFFSETFROM:+0900
TZOFFSETTO:+0900
TZNAME:JST
DTSTART:20230101T000000
END:STANDARD
END:VTIMEZONE
BEGIN:VEVENT
DTSTART;TZID=Asia/Tokyo:20250316T173000
DTEND;TZID=Asia/Tokyo:20250316T220000
DTSTAMP:20260424T091410
CREATED:20250204T120814Z
LAST-MODIFIED:20250204T120918Z
UID:4713-1742146200-1742162400@nakano-dynamite.com
SUMMARY:Dead silent spring
DESCRIPTION:2025.03.16(sun)\nOPEN / 17:30 / START 18:00\nADV 2400yen / DOOR 3000yen \n+1 Drink 600yen\n出演：\nLANGUID(Edmonton)\nENZYME(Melborne)\nCONTRAST ATTITUDE\nFORWARD\nEIEFITS\nUMBRO\nLiFE\n\nliFE presents\nDead silent spring\n@中野MOONSTEP
URL:https://nakano-dynamite.com/moonstep/event/2025-03-16/
LOCATION:中野MOONSTEP\, 中野区中央5-39-16\, 東京\, 日本
CATEGORIES:CRAZY PARTY
ATTACH;FMTTYPE=image/jpeg:https://nakano-dynamite.com/moonstep/wp-content/uploads/2025/02/GiG8u46bgAALtgm.jpg
END:VEVENT
BEGIN:VEVENT
DTSTART;TZID=Asia/Tokyo:20241229T143000
DTEND;TZID=Asia/Tokyo:20241229T220000
DTSTAMP:20260424T091410
CREATED:20241106T140745Z
LAST-MODIFIED:20241106T140745Z
UID:4452-1735482600-1735509600@nakano-dynamite.com
SUMMARY:BIG FUCKIN PARTY
DESCRIPTION:2024.12.29(sun)\nOPEN 14:30 / START 15:00\nDOOR 1000yen\n+1 Drink 600yen\n出演：\n9991\nTHE VERTIGOS\nSPEAKEASY\nHAT TRICKERS\nUMBRO\nWAR/ZIT\nBILLI\nBLACK AND WHITE\nEIEFITS\nWETBLACK\nジャンケンズ\nハリケーンNEO丸\n\nRYOTA presents\nBIG FUCKIN PARTY\n@中野MOONSTEP
URL:https://nakano-dynamite.com/moonstep/event/2024-12-29/
LOCATION:中野MOONSTEP\, 中野区中央5-39-16\, 東京\, 日本
CATEGORIES:CRAZY PARTY,LOW CHARGE
ATTACH;FMTTYPE=image/jpeg:https://nakano-dynamite.com/moonstep/wp-content/uploads/2024/11/44432205-1730471897782.jpg
END:VEVENT
BEGIN:VEVENT
DTSTART;TZID=Asia/Tokyo:20240917T183000
DTEND;TZID=Asia/Tokyo:20240917T220000
DTSTAMP:20260424T091410
CREATED:20240706T113138Z
LAST-MODIFIED:20240706T113347Z
UID:4061-1726597800-1726610400@nakano-dynamite.com
SUMMARY:S.H.I.T - Across the Mutilated Vista Japan Tour 2024
DESCRIPTION:2024.09.17(Tue)\nOPEN 18:30 / START 19:00\nDOOR 2400yen\n+1 drink 600yen\n\n出演:\nS.H.I.T\nUMBRO\nSOLVENT COBALT\nKLONNS\n\nMOONSTEP presents\nS.H.I.T - Across the Mutilated Vista Japan Tour 2024\n@中野MOONSTEP
URL:https://nakano-dynamite.com/moonstep/event/2024-09-17/
LOCATION:中野MOONSTEP\, 中野区中央5-39-16\, 東京\, 日本
CATEGORIES:CRAZY PARTY
ATTACH;FMTTYPE=image/jpeg:https://nakano-dynamite.com/moonstep/wp-content/uploads/2024/07/0-1720128425319.jpg
END:VEVENT
END:VCALENDAR