BEGIN:VCALENDAR
VERSION:2.0
PRODID:-//Nakano Moonstep - ECPv6.15.20//NONSGML v1.0//EN
CALSCALE:GREGORIAN
METHOD:PUBLISH
X-WR-CALNAME:Nakano Moonstep
X-ORIGINAL-URL:https://nakano-dynamite.com/moonstep
X-WR-CALDESC:Nakano Moonstep のイベント
REFRESH-INTERVAL;VALUE=DURATION:PT1H
X-Robots-Tag:noindex
X-PUBLISHED-TTL:PT1H
BEGIN:VTIMEZONE
TZID:Asia/Tokyo
BEGIN:STANDARD
TZOFFSETFROM:+0900
TZOFFSETTO:+0900
TZNAME:JST
DTSTART:20220101T000000
END:STANDARD
END:VTIMEZONE
BEGIN:VEVENT
DTSTART;TZID=Asia/Tokyo:20250128T183000
DTEND;TZID=Asia/Tokyo:20250128T220000
DTSTAMP:20260424T194508
CREATED:20241215T124113Z
LAST-MODIFIED:20250111T071945Z
UID:4563-1738089000-1738101600@nakano-dynamite.com
SUMMARY:WINDBREAK POWER
DESCRIPTION:2025.01.28(tue)\nOPEN 18:30 / START 19:00\nDOOR only 1500yen\n+1 Drink 600yen\n出演：\n<LIVE>\nWET BLACK\n光分解\ncalque\n#STDRUMS\n家畜\n<DJ>\noqbo\ny2n\n\nMORISHIMA & HARUNA presents\nWINDBREAK POWER\n@中野MOONSTEP
URL:https://nakano-dynamite.com/moonstep/event/2025-01-28/
LOCATION:中野MOONSTEP\, 中野区中央5-39-16\, 東京\, 日本
CATEGORIES:CRAZY PARTY,LOW CHARGE
ATTACH;FMTTYPE=image/jpeg:https://nakano-dynamite.com/moonstep/wp-content/uploads/2024/12/0-1735979327757.jpg
END:VEVENT
BEGIN:VEVENT
DTSTART;TZID=Asia/Tokyo:20231110T183000
DTEND;TZID=Asia/Tokyo:20231110T220000
DTSTAMP:20260424T194508
CREATED:20231024T023744Z
LAST-MODIFIED:20231024T023744Z
UID:1636-1699641000-1699653600@nakano-dynamite.com
SUMMARY:現代着火 vol.3
DESCRIPTION:2023.11.10(fri)\nOpen 18:30 / Start 19:00\nadv 1400yen +1D\n出演：\nABOS\nWET BLACK \nTORO\nFLOATERS\n\n\n\n\nMr.chiba PRESENTS\n現代着火 vol.3\n@中野MOONSTEP
URL:https://nakano-dynamite.com/moonstep/event/2023-11-10/
LOCATION:中野MOONSTEP\, 中野区中央5-39-16\, 東京\, 日本
CATEGORIES:CRAZY PARTY
ATTACH;FMTTYPE=image/jpeg:https://nakano-dynamite.com/moonstep/wp-content/uploads/2023/10/20231110.jpg
END:VEVENT
BEGIN:VEVENT
DTSTART;TZID=Asia/Tokyo:20230430T173000
DTEND;TZID=Asia/Tokyo:20230430T220000
DTSTAMP:20260424T194508
CREATED:20230323T151758Z
LAST-MODIFIED:20230323T151815Z
UID:1196-1682875800-1682892000@nakano-dynamite.com
SUMMARY:KILLING NOISE JAPAN TOUR 2023
DESCRIPTION:2023.04.30(sun)\nOpen 17:30 / Start 18:00\nADV. 2500yen +1D / DOOR 3000yen +1D\n\nKILLING NOISE\nCRISPY NUTS\nBOMB FACTORY\nWET BLACK\nJACKED UP\nSCrap nOise childReN\n\nCRISPY NUTS PRESENTS\nKILLING NOISE JAPAN TOUR 2023\n@中野MOONSTEP
URL:https://nakano-dynamite.com/moonstep/event/2023-04-30/
LOCATION:中野MOONSTEP\, 中野区中央5-39-16\, 東京\, 日本
CATEGORIES:CRAZY PARTY
ATTACH;FMTTYPE=image/jpeg:https://nakano-dynamite.com/moonstep/wp-content/uploads/2023/03/20230430.jpg
END:VEVENT
BEGIN:VEVENT
DTSTART;TZID=Asia/Tokyo:20230414T183000
DTEND;TZID=Asia/Tokyo:20230414T220000
DTSTAMP:20260424T194508
CREATED:20230323T124817Z
LAST-MODIFIED:20230323T124840Z
UID:1152-1681497000-1681509600@nakano-dynamite.com
SUMMARY:CUT-RATE DRUGGIST JAPAN BULLET TOUR 2023
DESCRIPTION:2023.04.14(fri)\nOPEN 18:30 / START 19:00\nADV.2500yen +1D / Door 3000yen +1D\n\nCUT-RATE DRUGGIST(OAKLAND\, CA)\nteensmoker\nthe slowmotions \nWET BLACK\nVINDICTIVES\n\nMOONSTEP PRESENTS\nCUT-RATE DRUGGIST JAPAN BULLET TOUR 2023\n@中野MOONSTEP
URL:https://nakano-dynamite.com/moonstep/event/2023-04-14/
LOCATION:中野MOONSTEP\, 中野区中央5-39-16\, 東京\, 日本
CATEGORIES:CRAZY PARTY
ATTACH;FMTTYPE=image/jpeg:https://nakano-dynamite.com/moonstep/wp-content/uploads/2023/03/20230414.jpg
END:VEVENT
END:VCALENDAR