BEGIN:VCALENDAR
VERSION:2.0
PRODID:-//Nakano Moonstep - ECPv6.15.20//NONSGML v1.0//EN
CALSCALE:GREGORIAN
METHOD:PUBLISH
X-WR-CALNAME:Nakano Moonstep
X-ORIGINAL-URL:https://nakano-dynamite.com/moonstep
X-WR-CALDESC:Nakano Moonstep のイベント
REFRESH-INTERVAL;VALUE=DURATION:PT1H
X-Robots-Tag:noindex
X-PUBLISHED-TTL:PT1H
BEGIN:VTIMEZONE
TZID:Asia/Tokyo
BEGIN:STANDARD
TZOFFSETFROM:+0900
TZOFFSETTO:+0900
TZNAME:JST
DTSTART:20220101T000000
END:STANDARD
END:VTIMEZONE
BEGIN:VEVENT
DTSTART;TZID=Asia/Tokyo:20240522T173000
DTEND;TZID=Asia/Tokyo:20240522T220000
DTSTAMP:20260425T213116
CREATED:20240420T073115Z
LAST-MODIFIED:20240420T073147Z
UID:3850-1716399000-1716415200@nakano-dynamite.com
SUMMARY:savage vol.4
DESCRIPTION:2024.05.22(wed)\nOPEN/START 17:30\nMale 2\,000yen / Female 1\,000yen\n+1 Drink 600yen\n\n出演：\n達磨\n万事屋陽ちゃん\nendless summer\nANGEL\nジャンケンズ\nおつゆ\n\nDJ\ny2n\n乗り鉄\nるなしー\nKUN\n\nsavage presents\nsavage vol.4\n@中野MOONSTEP
URL:https://nakano-dynamite.com/moonstep/event/2024-05-22/
LOCATION:中野MOONSTEP\, 中野区中央5-39-16\, 東京\, 日本
CATEGORIES:CRAZY PARTY
ATTACH;FMTTYPE=image/jpeg:https://nakano-dynamite.com/moonstep/wp-content/uploads/2024/04/20240522.jpg
END:VEVENT
BEGIN:VEVENT
DTSTART;TZID=Asia/Tokyo:20230522T183000
DTEND;TZID=Asia/Tokyo:20230522T220000
DTSTAMP:20260425T213116
CREATED:20230504T140652Z
LAST-MODIFIED:20230504T140652Z
UID:1272-1684780200-1684792800@nakano-dynamite.com
SUMMARY:オレにうたわせろ！
DESCRIPTION:2023.05.07(sun)\nOpen 18:30 / Start 19:00\nCHARGE 1000yen +1D\n\n【LIVE】\nマキオ\n三浦和峰\nダイナマイト山本\n冨井祐輔\nダルマシンゴ鵺\n\n【ダンスショー】\nキューティー・コムちゃん\n213\n\n【DJ】\nY2N \n\nダイナマイト山本 PRESENTS\nオレにうたわせろ！\n＠中野MOONSTEP
URL:https://nakano-dynamite.com/moonstep/event/2023-05-22/
LOCATION:中野MOONSTEP\, 中野区中央5-39-16\, 東京\, 日本
CATEGORIES:2F BAR SPACE LIVE,CRAZY PARTY,LOW CHARGE
ATTACH;FMTTYPE=image/jpeg:https://nakano-dynamite.com/moonstep/wp-content/uploads/2023/05/20230522.jpg
END:VEVENT
END:VCALENDAR