BEGIN:VCALENDAR
VERSION:2.0
PRODID:-//Nakano Moonstep - ECPv6.15.20//NONSGML v1.0//EN
CALSCALE:GREGORIAN
METHOD:PUBLISH
X-ORIGINAL-URL:https://nakano-dynamite.com/moonstep
X-WR-CALDESC:Nakano Moonstep のイベント
REFRESH-INTERVAL;VALUE=DURATION:PT1H
X-Robots-Tag:noindex
X-PUBLISHED-TTL:PT1H
BEGIN:VTIMEZONE
TZID:Asia/Tokyo
BEGIN:STANDARD
TZOFFSETFROM:+0900
TZOFFSETTO:+0900
TZNAME:JST
DTSTART:20230101T000000
END:STANDARD
END:VTIMEZONE
BEGIN:VEVENT
DTSTART;TZID=Asia/Tokyo:20240321T190000
DTEND;TZID=Asia/Tokyo:20240321T220000
DTSTAMP:20260422T143401
CREATED:20240219T163140Z
LAST-MODIFIED:20240220T053044Z
UID:3631-1711047600-1711058400@nakano-dynamite.com
SUMMARY:UTAMORI
DESCRIPTION:2024.03.21(thu)\nOPEN & START 19:00\nentrance 1000yen\n+1 Drink 600yen\n\n出演:\n川上テルヒサ\n一色厚\nダルマシンゴ鵺\n\nDJ:\ny2n\n\nMOONSTEP presents\nUTAMORI\n@中野MOONSTEP
URL:https://nakano-dynamite.com/moonstep/event/2024-03-21/
LOCATION:中野MOONSTEP\, 中野区中央5-39-16\, 東京\, 日本
CATEGORIES:2F BAR SPACE LIVE,LOW CHARGE
ATTACH;FMTTYPE=image/jpeg:https://nakano-dynamite.com/moonstep/wp-content/uploads/2024/02/20240321-1.jpg
END:VEVENT
BEGIN:VEVENT
DTSTART;TZID=Asia/Tokyo:20240827T183000
DTEND;TZID=Asia/Tokyo:20240827T220000
DTSTAMP:20260422T143401
CREATED:20240806T135813Z
LAST-MODIFIED:20240806T135813Z
UID:4148-1724783400-1724796000@nakano-dynamite.com
SUMMARY:砂斬黒巣
DESCRIPTION:2024.08.27(Tue)\nOPEN 18:30 / START 19:00\nDOOR 1000yen\n+1 Drink 600yen\n\n出演:\nサザンクロズ\nダルマシンゴ鵺\nFUCKER\nクーズーズ\n一色厚 (ガンフロンティア)\nDJ Y2N\n\nサザンクロズ presents\n砂斬黒巣\n@中野MOONSTEP
URL:https://nakano-dynamite.com/moonstep/event/2024-08-27/
LOCATION:中野MOONSTEP\, 中野区中央5-39-16\, 東京\, 日本
CATEGORIES:CRAZY PARTY,LOW CHARGE
ATTACH;FMTTYPE=image/jpeg:https://nakano-dynamite.com/moonstep/wp-content/uploads/2024/08/0-1722703264753.jpg
END:VEVENT
END:VCALENDAR