BEGIN:VCALENDAR
VERSION:2.0
PRODID:-//Nakano Moonstep - ECPv6.15.20//NONSGML v1.0//EN
CALSCALE:GREGORIAN
METHOD:PUBLISH
X-WR-CALNAME:Nakano Moonstep
X-ORIGINAL-URL:https://nakano-dynamite.com/moonstep
X-WR-CALDESC:Nakano Moonstep のイベント
REFRESH-INTERVAL;VALUE=DURATION:PT1H
X-Robots-Tag:noindex
X-PUBLISHED-TTL:PT1H
BEGIN:VTIMEZONE
TZID:Asia/Tokyo
BEGIN:STANDARD
TZOFFSETFROM:+0900
TZOFFSETTO:+0900
TZNAME:JST
DTSTART:20230101T000000
END:STANDARD
END:VTIMEZONE
BEGIN:VEVENT
DTSTART;TZID=Asia/Tokyo:20240503T180000
DTEND;TZID=Asia/Tokyo:20240503T220000
DTSTAMP:20260425T115843
CREATED:20240330T052348Z
LAST-MODIFIED:20240419T070448Z
UID:3784-1714759200-1714773600@nakano-dynamite.com
SUMMARY:The Prim JAPAN TOUR - May 2024
DESCRIPTION:2024.05.03(fri)\nOPEN 18:00 / START 18:30\nAdv 2400yen / Door 2900yen\n+1 Drink 600yen\n\n出演：\nThe Prim (from Germany)\nMORE NOISE FOR LIFE\nLimited Express(has gone?)\nLittle Bastards\nDUSTPAN\nVxNx\n\n中野MOONSTEP presents\nThe Prim JAPAN TOUR - May 2024\n@中野MOONSTEP
URL:https://nakano-dynamite.com/moonstep/event/2024-05-03/
LOCATION:中野MOONSTEP\, 中野区中央5-39-16\, 東京\, 日本
ATTACH;FMTTYPE=image/jpeg:https://nakano-dynamite.com/moonstep/wp-content/uploads/2024/03/44432205-1711631085262.jpg
END:VEVENT
BEGIN:VEVENT
DTSTART;TZID=Asia/Tokyo:20240505T160000
DTEND;TZID=Asia/Tokyo:20240505T220000
DTSTAMP:20260425T115843
CREATED:20240420T054505Z
LAST-MODIFIED:20240420T054521Z
UID:3830-1714924800-1714946400@nakano-dynamite.com
SUMMARY:JUMBO
DESCRIPTION:2024.05.05(sun)\nOPEN/START 16:20\n1900yen\n+1 Drink 600yen\n～Bands～\nFamilyMan\nマヴォ\nyokoThema\nReRun Lance\nBUMPED HIS HEAD\nFLIPOUT A.A\n～DJ～\nMUM\nMAED\nさ千葉\nLINDY\n～POP UP STORE～\nLOCAL SKIN\n\nあーちゃん＆さやか＆ハリケーンNEO丸 presents\nJUMBO\n@中野MOONSTEP
URL:https://nakano-dynamite.com/moonstep/event/2024-05-05/
LOCATION:中野MOONSTEP\, 中野区中央5-39-16\, 東京\, 日本
CATEGORIES:CRAZY PARTY
ATTACH;FMTTYPE=image/jpeg:https://nakano-dynamite.com/moonstep/wp-content/uploads/2024/04/20240505.jpg
END:VEVENT
BEGIN:VEVENT
DTSTART;TZID=Asia/Tokyo:20240506T160000
DTEND;TZID=Asia/Tokyo:20240506T220000
DTSTAMP:20260425T115843
CREATED:20240416T090204Z
LAST-MODIFIED:20240419T070440Z
UID:3804-1715011200-1715032800@nakano-dynamite.com
SUMMARY:FLY ME TO THE MOON
DESCRIPTION:2024.05.06(mon)\nOPEN 16:00 / START 16:20\nADV 2400yen / DOOR 2900yen\n+1 Drink 600yen\n\n出演:\nZん from Shizuoka\n天獄\nNK6\n0.001DAY\nYanni459(Butcher in the Fog) from UK\nTRES\nWITHOUT SYSTEM\n\n\n\n\nMOONSTEP presents\nFLY ME TO THE MOON\n@中野MOONSTEP
URL:https://nakano-dynamite.com/moonstep/event/2024-05-06/
LOCATION:中野MOONSTEP\, 中野区中央5-39-16\, 東京\, 日本
CATEGORIES:CRAZY PARTY
ATTACH;FMTTYPE=image/jpeg:https://nakano-dynamite.com/moonstep/wp-content/uploads/2024/04/44432205-1712956590179.jpg
END:VEVENT
BEGIN:VEVENT
DTSTART;TZID=Asia/Tokyo:20240507T190000
DTEND;TZID=Asia/Tokyo:20240507T230000
DTSTAMP:20260425T115843
CREATED:20240420T061549Z
LAST-MODIFIED:20240420T063017Z
UID:3836-1715108400-1715122800@nakano-dynamite.com
SUMMARY:BAR MOONSTEP
DESCRIPTION:2024.05.07(tue)\nOPEN/START 19:00\ncharge ¥1\,200 [2 DRINK]\n\nDJ：\nスカオジ / AYA / FUMI / NOZOMI / UK\n\n世界のSKAおじさん presents\nBAR MOONSTEP\n@中野MOONSTEP
URL:https://nakano-dynamite.com/moonstep/event/2024-05-07/
LOCATION:中野MOONSTEP\, 中野区中央5-39-16\, 東京\, 日本
CATEGORIES:BAR/SNACK NIGHT,CRAZY PARTY,DJ PARTY,LOW CHARGE
ATTACH;FMTTYPE=image/jpeg:https://nakano-dynamite.com/moonstep/wp-content/uploads/2024/04/20240507.jpg
END:VEVENT
BEGIN:VEVENT
DTSTART;TZID=Asia/Tokyo:20240508T193000
DTEND;TZID=Asia/Tokyo:20240508T220000
DTSTAMP:20260425T115843
CREATED:20240323T081300Z
LAST-MODIFIED:20240419T070433Z
UID:3760-1715196600-1715205600@nakano-dynamite.com
SUMMARY:METAMORPHOSE
DESCRIPTION:2024.05.08(wed)\nOPEN / 19:30 START / 20:00\nDoor 1000yen\n+ 1 Drink 600yen\n\n出演:\n<SHOP>\n猋噛武装 DOG GOD COMPLEX\nHachisu\n\n<FOOD>\nZAKURO\n\n<DJ`s>\nNozomi\nEmuchi\nHaruna\n\nHARUNA presents\nMETAMORPHOSE\n@中野MOONSTEP
URL:https://nakano-dynamite.com/moonstep/event/2024-05-08/
LOCATION:中野MOONSTEP\, 中野区中央5-39-16\, 東京\, 日本
CATEGORIES:2F BAR SPACE LIVE,CRAZY PARTY,LOW CHARGE
ATTACH;FMTTYPE=image/jpeg:https://nakano-dynamite.com/moonstep/wp-content/uploads/2024/03/0-1709822387106.jpg
END:VEVENT
BEGIN:VEVENT
DTSTART;TZID=Asia/Tokyo:20240510T180000
DTEND;TZID=Asia/Tokyo:20240510T220000
DTSTAMP:20260425T115843
CREATED:20240331T061206Z
LAST-MODIFIED:20240419T070427Z
UID:3790-1715364000-1715378400@nakano-dynamite.com
SUMMARY:VIOLENT PARTY
DESCRIPTION:2024.05.10(fri)\nOPEN 18:00 / START 18:30\nENTRANCE 3000yen\nin 1Drink 600yen\n\n<BAND>\nVAXINE(NY)\nRAW DISTRACTIONS\nC\nG.A.T.E.S\nCRUCIAL SECTION\nABERRATE\n<DJ>\nnAo12xu(†13th Moon†)\nSO(HARDCORE SURVIVES) \n\n梓 presents\nVIOLENT PARTY\n@中野MOONSTEP
URL:https://nakano-dynamite.com/moonstep/event/2024-05-10/
LOCATION:中野MOONSTEP\, 中野区中央5-39-16\, 東京\, 日本
CATEGORIES:CRAZY PARTY
ATTACH;FMTTYPE=image/jpeg:https://nakano-dynamite.com/moonstep/wp-content/uploads/2024/03/44432205-1711529031307-1.jpg
END:VEVENT
BEGIN:VEVENT
DTSTART;TZID=Asia/Tokyo:20240511T170000
DTEND;TZID=Asia/Tokyo:20240511T220000
DTSTAMP:20260425T115843
CREATED:20240321T140301Z
LAST-MODIFIED:20240419T070421Z
UID:3747-1715446800-1715464800@nakano-dynamite.com
SUMMARY:HOLY MARU!!
DESCRIPTION:2024.05.11(sat)\nOPEN / START 17:00\nDoor 3000yen\n+1 Drink 600yen\n\n出演:\n<BAND>\nVHSMAG "SHUT UP AND SKATE" 公開録音 ゲスト：石原繁さん\nガスケッツ\nKARAMUSHI and SEIMA\n伊藤雄和フォークソング倶楽部\nABOS\nRocky&TheSWEDEN\nPOSSESSED SHOE大抽選会\n<FOOD>\nYAMAPIZZA\n片山文太郎商店\n\n\npossessed shoe presents\nHOLY MARU!!\n@中野MOONSTEP
URL:https://nakano-dynamite.com/moonstep/event/2024-05-11/
LOCATION:中野MOONSTEP\, 中野区中央5-39-16\, 東京\, 日本
CATEGORIES:CRAZY PARTY
ATTACH;FMTTYPE=image/jpeg:https://nakano-dynamite.com/moonstep/wp-content/uploads/2024/03/0-1707461698996.jpg
END:VEVENT
BEGIN:VEVENT
DTSTART;TZID=Asia/Tokyo:20240512T160000
DTEND;TZID=Asia/Tokyo:20240512T220000
DTSTAMP:20260425T115843
CREATED:20240321T141233Z
LAST-MODIFIED:20240419T070409Z
UID:3753-1715529600-1715551200@nakano-dynamite.com
SUMMARY:HIPROCK5 + Koyankidesu展2024
DESCRIPTION:2024.05.12(sun)\nOPEN / 16:00 START / 16:30\nDoor 2000yen\n+1 Drink 600yen\n\n出演:\n三日月爆音団\n市ノ瀬瑠莉(新潟)\nゼビットC.C(甲府)\nTouch me(浜松)\nハラホログラム\n破壊光線\nFUKUBAKE\n雲雀\n\n三日月爆音団 x 雲雀 presents\nHIPROCK5 + Koyankidesu展2024\n@中野MOONSTEP
URL:https://nakano-dynamite.com/moonstep/event/2024-05-13/
LOCATION:中野MOONSTEP\, 中野区中央5-39-16\, 東京\, 日本
CATEGORIES:CRAZY PARTY
END:VEVENT
BEGIN:VEVENT
DTSTART;TZID=Asia/Tokyo:20240514T183000
DTEND;TZID=Asia/Tokyo:20240514T220000
DTSTAMP:20260425T115843
CREATED:20240512T065737Z
LAST-MODIFIED:20240512T084643Z
UID:3923-1715711400-1715724000@nakano-dynamite.com
SUMMARY:おつむてんてんクリニック
DESCRIPTION:2024.05.14(tue)\nOPEN / 18:30 START / 19:00\nCharge 2000yen (2ドリンク付き！)\n\n出演:\nサザンクロズ\nジャンケンズ\nJETヒロシ\n平成寅吉\nダーハマ\n\n中野MOONSTEP presents\nおつむてんてんクリニック\n@中野MOONSTEP
URL:https://nakano-dynamite.com/moonstep/event/2024-05-14/
LOCATION:中野MOONSTEP\, 中野区中央5-39-16\, 東京\, 日本
CATEGORIES:2F BAR SPACE LIVE,CRAZY PARTY,LOW CHARGE
ATTACH;FMTTYPE=image/jpeg:https://nakano-dynamite.com/moonstep/wp-content/uploads/2024/05/0-1714203200676.jpg
END:VEVENT
BEGIN:VEVENT
DTSTART;TZID=Asia/Tokyo:20240515T180000
DTEND;TZID=Asia/Tokyo:20240515T220000
DTSTAMP:20260425T115843
CREATED:20240420T063359Z
LAST-MODIFIED:20240420T070400Z
UID:3839-1715796000-1715810400@nakano-dynamite.com
SUMMARY:Belvedere JAPAN TOUR 2024
DESCRIPTION:2024.05.15(WED)\nOPEN 18:00 / START 18:30\nAdv 4000yen\n+1 Drink 600yen\n\n出演：\nBelvedere\nOWEAK\nDENY ONESELF\n\nRNR TOURS presents\nBelvedere JAPAN TOUR 2024\n@中野MOONSTEP
URL:https://nakano-dynamite.com/moonstep/event/2024-05-15/
LOCATION:中野MOONSTEP\, 中野区中央5-39-16\, 東京\, 日本
CATEGORIES:CRAZY PARTY
ATTACH;FMTTYPE=image/jpeg:https://nakano-dynamite.com/moonstep/wp-content/uploads/2024/04/20240515.jpg
END:VEVENT
BEGIN:VEVENT
DTSTART;TZID=Asia/Tokyo:20240517T173000
DTEND;TZID=Asia/Tokyo:20240517T220000
DTSTAMP:20260425T115843
CREATED:20240419T074147Z
LAST-MODIFIED:20240422T063114Z
UID:3808-1715967000-1715983200@nakano-dynamite.com
SUMMARY:着火現代 vol.6
DESCRIPTION:2024.05.17(Fri)\nOPEN 18:00 / START 18:30\nEntrance 1900yen\n+1 Drink 600yen\n\n出演:\n高倉健\nDxIxE\nNO VALUE\n0.001DAY\nBUMPED HIS HEAD\n\nSHIYUU presents\n着火現代vol.6\n@中野MOONSTEP
URL:https://nakano-dynamite.com/moonstep/event/2024-05-17/
LOCATION:中野MOONSTEP\, 中野区中央5-39-16\, 東京\, 日本
CATEGORIES:CRAZY PARTY,LOW CHARGE
ATTACH;FMTTYPE=image/jpeg:https://nakano-dynamite.com/moonstep/wp-content/uploads/2024/04/0-1713512020294.jpg
END:VEVENT
BEGIN:VEVENT
DTSTART;TZID=Asia/Tokyo:20240518T170000
DTEND;TZID=Asia/Tokyo:20240518T220000
DTSTAMP:20260425T115843
CREATED:20240419T075917Z
LAST-MODIFIED:20240419T081306Z
UID:3811-1716051600-1716069600@nakano-dynamite.com
SUMMARY:Bloody Nut Jams Vol.7
DESCRIPTION:2024.05.18(Sat)\nOPEN 17:00 / START 17:30\nADV 2000yen / DOOR　2500yen\n+1 Drink 600yen\n\n出演:\nASBESTOS\nDIGRAPHIA\nSAIGAN TERROR\nSO WHAT (静岡)\nSLAMMING AVOID NUTS\n\nSLAMMING AVOID NUTS presents\nBloody Nut Jams Vol.7\n@中野MOONSTEP
URL:https://nakano-dynamite.com/moonstep/event/2024-05-18/
LOCATION:中野MOONSTEP\, 中野区中央5-39-16\, 東京\, 日本
CATEGORIES:CRAZY PARTY
ATTACH;FMTTYPE=image/jpeg:https://nakano-dynamite.com/moonstep/wp-content/uploads/2024/04/44432205-1712237645639.jpg
END:VEVENT
BEGIN:VEVENT
DTSTART;TZID=Asia/Tokyo:20240519T143000
DTEND;TZID=Asia/Tokyo:20240519T220000
DTSTAMP:20260425T115843
CREATED:20240419T082336Z
LAST-MODIFIED:20240419T144003Z
UID:3819-1716129000-1716156000@nakano-dynamite.com
SUMMARY:PUNKWAGON SPRING 24
DESCRIPTION:2024.05.19(Sun)\nOPEN 14:30 / START 15:00\nADV 2400yen / DOOR 2900yen\n+1 Drink 600yen\n\n出演:\nIDIOTS(韓国)\nCHUNGYOILE(韓国)\nFeetrajec\nEVERYTHING SUXX\nBRAVE LION\nDIRTY OLD DRUNX\nmancho cancho\nmosimo\nFewww\nSTARVINGMAN\n\nFOOD:\n va ngoui bao ve\n\nまさっち presents\nPUNKWAGON SPRING 24\n@中野MOONSTEP
URL:https://nakano-dynamite.com/moonstep/event/2024-05-19/
LOCATION:中野MOONSTEP\, 中野区中央5-39-16\, 東京\, 日本
CATEGORIES:CRAZY PARTY
ATTACH;FMTTYPE=image/jpeg:https://nakano-dynamite.com/moonstep/wp-content/uploads/2024/04/44432205-1709627320809.jpg
END:VEVENT
BEGIN:VEVENT
DTSTART;TZID=Asia/Tokyo:20240521T183000
DTEND;TZID=Asia/Tokyo:20240521T220000
DTSTAMP:20260425T115843
CREATED:20240420T070730Z
LAST-MODIFIED:20240420T071525Z
UID:3844-1716316200-1716328800@nakano-dynamite.com
SUMMARY:IMPUNITY Live in Japan
DESCRIPTION:2024.05.21(tue)\nOPEN 18:30 / START 19:00\nAdv 3\,000yen / Door 3\,500yen\n+1 Drink 600yen\n\n出演：\nIMPUNITY (UK)\nDOMINATE\nSYNDIKATE\nYENFOR\n\nRETRIBUTE RECORDS presents\nIMPUNITY Live in Japan\n@中野MOONSTEP\n 
URL:https://nakano-dynamite.com/moonstep/event/2024-05-21/
LOCATION:中野MOONSTEP\, 中野区中央5-39-16\, 東京\, 日本
CATEGORIES:CRAZY PARTY
ATTACH;FMTTYPE=image/jpeg:https://nakano-dynamite.com/moonstep/wp-content/uploads/2024/04/20240521.jpg
END:VEVENT
BEGIN:VEVENT
DTSTART;TZID=Asia/Tokyo:20240522T173000
DTEND;TZID=Asia/Tokyo:20240522T220000
DTSTAMP:20260425T115843
CREATED:20240420T073115Z
LAST-MODIFIED:20240420T073147Z
UID:3850-1716399000-1716415200@nakano-dynamite.com
SUMMARY:savage vol.4
DESCRIPTION:2024.05.22(wed)\nOPEN/START 17:30\nMale 2\,000yen / Female 1\,000yen\n+1 Drink 600yen\n\n出演：\n達磨\n万事屋陽ちゃん\nendless summer\nANGEL\nジャンケンズ\nおつゆ\n\nDJ\ny2n\n乗り鉄\nるなしー\nKUN\n\nsavage presents\nsavage vol.4\n@中野MOONSTEP
URL:https://nakano-dynamite.com/moonstep/event/2024-05-22/
LOCATION:中野MOONSTEP\, 中野区中央5-39-16\, 東京\, 日本
CATEGORIES:CRAZY PARTY
ATTACH;FMTTYPE=image/jpeg:https://nakano-dynamite.com/moonstep/wp-content/uploads/2024/04/20240522.jpg
END:VEVENT
BEGIN:VEVENT
DTSTART;TZID=Asia/Tokyo:20240523T193000
DTEND;TZID=Asia/Tokyo:20240523T193000
DTSTAMP:20260425T115843
CREATED:20240323T082515Z
LAST-MODIFIED:20240419T070402Z
UID:3763-1716492600-1716492600@nakano-dynamite.com
SUMMARY:BLANK CANVAS vol.5
DESCRIPTION:2024.05.23(thu)\nOPEN 19:30 / START 20:00\nDoor 2500yen(in 1 Drink)\n\n出演:\nのっぺら\nkusabana\nおまえ\n\nHARUNA presents\nBLANK CANVAS vol.5\n@中野MOONSTEP
URL:https://nakano-dynamite.com/moonstep/event/2024-05-23/
LOCATION:中野MOONSTEP\, 中野区中央5-39-16\, 東京\, 日本
CATEGORIES:CRAZY PARTY
ATTACH;FMTTYPE=image/jpeg:https://nakano-dynamite.com/moonstep/wp-content/uploads/2024/03/0-1709224414119.jpg
END:VEVENT
BEGIN:VEVENT
DTSTART;TZID=Asia/Tokyo:20240525T173000
DTEND;TZID=Asia/Tokyo:20240525T173000
DTSTAMP:20260425T115843
CREATED:20240326T085657Z
LAST-MODIFIED:20240419T070355Z
UID:3770-1716658200-1716658200@nakano-dynamite.com
SUMMARY:U.N.R.U.C.H
DESCRIPTION:2024.05.25(sat)\nOPEN 17:30／START 18:00\nadv. 2000yen / door. 2500yen\n+ 1Drink 600yen\n※会場限定ファンジン付\n\n出演：\n<BAND>\nUNRUCH\ngloptin\nたたらの目\nデッドバンビーズ\nらすけべ \nNA/DA\n<FOOD>\nササノのごはん\n\nUNRUCH presents\nU.N.R.U.C.H
URL:https://nakano-dynamite.com/moonstep/event/2024-05-25/
LOCATION:中野MOONSTEP\, 中野区中央5-39-16\, 東京\, 日本
CATEGORIES:CRAZY PARTY
ATTACH;FMTTYPE=image/jpeg:https://nakano-dynamite.com/moonstep/wp-content/uploads/2024/03/44432205-1711357283460.jpg
END:VEVENT
BEGIN:VEVENT
DTSTART;TZID=Asia/Tokyo:20240526T160000
DTEND;TZID=Asia/Tokyo:20240526T220000
DTSTAMP:20260425T115843
CREATED:20240507T095834Z
LAST-MODIFIED:20240523T135654Z
UID:3893-1716739200-1716760800@nakano-dynamite.com
SUMMARY:abiuro x Green Tripe x Heteropsy 3-way split ゛Doom Dragon Rising゛Release show
DESCRIPTION:2024.05.26(sun)\nOPEN 16:00 / START 16:20\nDOOR only 2500yen\n+ 1 Drink order\n\n出演:\nAbiuro\nGreen Tripe\nHeteropsy\nHYLKO\nMUGANO\nOtherside\nSESTEAR\n六根 ROCCON\n\n\n\nabiuro presents\nabiuro x Green Tripe x Heteropsy 3-way split ゛Doom Dragon Rising゛Release show\n@中野MOONSTEP
URL:https://nakano-dynamite.com/moonstep/event/2024-05-26/
LOCATION:中野MOONSTEP\, 中野区中央5-39-16\, 東京\, 日本
CATEGORIES:CRAZY PARTY
ATTACH;FMTTYPE=image/jpeg:https://nakano-dynamite.com/moonstep/wp-content/uploads/2024/05/GM-PKPGaAAAoRNV.jpg
END:VEVENT
BEGIN:VEVENT
DTSTART;TZID=Asia/Tokyo:20240527T200000
DTEND;TZID=Asia/Tokyo:20240527T220000
DTSTAMP:20260425T115843
CREATED:20240507T100605Z
LAST-MODIFIED:20240522T102515Z
UID:3897-1716840000-1716847200@nakano-dynamite.com
SUMMARY:much love to you
DESCRIPTION:2024.05.27(sun)\nOPEN / START 20:00\nCHARGE ¥1000(1drink込み)\n\n出演:\n<BAND>\nNASTIE\nザ・バイキング\n<DJ>\nAZUSA\nHARUNA\n<FOOD>\nZAKURO\n\nkayo presents\nmuch love to you\n@中野MOONSTEP
URL:https://nakano-dynamite.com/moonstep/event/2024-05-27/
LOCATION:中野MOONSTEP\, 中野区中央5-39-16\, 東京\, 日本
CATEGORIES:CRAZY PARTY,LOW CHARGE
ATTACH;FMTTYPE=image/jpeg:https://nakano-dynamite.com/moonstep/wp-content/uploads/2024/05/0-1713945705225.jpg
END:VEVENT
BEGIN:VEVENT
DTSTART;TZID=Asia/Tokyo:20240528T190000
DTEND;TZID=Asia/Tokyo:20240528T223000
DTSTAMP:20260425T115843
CREATED:20240527T105503Z
LAST-MODIFIED:20240527T105534Z
UID:3939-1716922800-1716935400@nakano-dynamite.com
SUMMARY:JAM SESSION NIGHT
DESCRIPTION:2024.05.28(tue)\nOPEN & START 19:00\nCHARGE： 1 Drink order\n毎月最終火曜日はムーンステップの2Fバーでジャムセッション！飛び入り大歓迎！\n飲みにくるだけでも楽しいよ！ふらりと寄ってごゆるりとお楽しみください。\nJam session @ Moonstep Nakano.\nLast Tuesday every months. JOIN THE SESSION!!
URL:https://nakano-dynamite.com/moonstep/event/2024-05-28/
LOCATION:中野MOONSTEP\, 中野区中央5-39-16\, 東京\, 日本
CATEGORIES:2F BAR SPACE LIVE,FREE PARTY,LOW CHARGE,入場無料
END:VEVENT
BEGIN:VEVENT
DTSTART;TZID=Asia/Tokyo:20240529T180000
DTEND;TZID=Asia/Tokyo:20240529T220000
DTSTAMP:20260425T115843
CREATED:20240522T101855Z
LAST-MODIFIED:20240522T102022Z
UID:3928-1717005600-1717020000@nakano-dynamite.com
SUMMARY:Get It Up Vol.01
DESCRIPTION:2024.05.22(wed)\nOPEN 18:00 / START 19:00\nTICKET 1500yen \n+1 Drink 600yen\n\n出演：\n<BAND>\nKYOUDAI\nChecker Spiral\nザ　ニンクス\n<DJ>\nはっちゃん\n爆上げPOW太郎\n蘇我涼 (totemぽぉる)\n<盆栽＆コーヒー>\nYAH-MAN BONSAI./ COFFEE.\n<FOOD>\nそうちゃん水産\n\nKYOUDAI presents\nGet It Up Vol.01\n@中野MOONSTEP
URL:https://nakano-dynamite.com/moonstep/event/2024-05-29/
LOCATION:中野MOONSTEP\, 中野区中央5-39-16\, 東京\, 日本
CATEGORIES:CRAZY PARTY,DJ PARTY,LOW CHARGE
ATTACH;FMTTYPE=image/jpeg:https://nakano-dynamite.com/moonstep/wp-content/uploads/2024/05/44432205-1715598737713.jpg
END:VEVENT
BEGIN:VEVENT
DTSTART;TZID=Asia/Tokyo:20240530T180000
DTEND;TZID=Asia/Tokyo:20240530T220000
DTSTAMP:20260425T115843
CREATED:20240507T102138Z
LAST-MODIFIED:20240507T102407Z
UID:3901-1717092000-1717106400@nakano-dynamite.com
SUMMARY:SOFTSPOKEN JAPAN TOUR
DESCRIPTION:2024.05.30(thu)\nOPEN 18:00 / START 18:30\nADV 3000yen / DOOR 3500yen\n+1 drink 600yen\n\n出演:\nSoftspoken (USA)\nIn Denial\nClone of Vengeance\nSquall of Scream\n4 Roses\n\nRNR presents\nSOFTSPOKEN JAPAN TOUR\n@中野MOONSTEP
URL:https://nakano-dynamite.com/moonstep/event/2024-05-30/
LOCATION:中野MOONSTEP\, 中野区中央5-39-16\, 東京\, 日本
CATEGORIES:CRAZY PARTY
ATTACH;FMTTYPE=image/jpeg:https://nakano-dynamite.com/moonstep/wp-content/uploads/2024/05/0-1713970435353-1.jpg
END:VEVENT
BEGIN:VEVENT
DTSTART;TZID=Asia/Tokyo:20240531T183000
DTEND;TZID=Asia/Tokyo:20240531T220000
DTSTAMP:20260425T115843
CREATED:20240507T103234Z
LAST-MODIFIED:20240507T103234Z
UID:3905-1717180200-1717192800@nakano-dynamite.com
SUMMARY:MATATABI NIGHT vol.58
DESCRIPTION:2024.05.31(fri)\nOPEN 18:30 / START 19:00\nCHARGE FREE!!!!!\n\n出演:\n<BAND>\nえんだぶあ\ncorresponds to the predecessor\n<DJ>\nDJ BABIZØmbie\nDJ Wassi\noqbo
URL:https://nakano-dynamite.com/moonstep/event/2024-05-31/
LOCATION:中野MOONSTEP\, 中野区中央5-39-16\, 東京\, 日本
CATEGORIES:2F BAR SPACE LIVE,CRAZY PARTY,DJ PARTY,FREE PARTY,入場無料
ATTACH;FMTTYPE=image/jpeg:https://nakano-dynamite.com/moonstep/wp-content/uploads/2024/05/44432205-1714729958256.jpg
END:VEVENT
END:VCALENDAR