BEGIN:VCALENDAR
VERSION:2.0
PRODID:-//Livehouse Wall - ECPv6.15.20//NONSGML v1.0//EN
CALSCALE:GREGORIAN
METHOD:PUBLISH
X-WR-CALNAME:Livehouse Wall
X-ORIGINAL-URL:https://nakano-dynamite.com/wall
X-WR-CALDESC:Livehouse Wall のイベント
REFRESH-INTERVAL;VALUE=DURATION:PT1H
X-Robots-Tag:noindex
X-PUBLISHED-TTL:PT1H
BEGIN:VTIMEZONE
TZID:Asia/Tokyo
BEGIN:STANDARD
TZOFFSETFROM:+0900
TZOFFSETTO:+0900
TZNAME:JST
DTSTART:20230101T000000
END:STANDARD
END:VTIMEZONE
BEGIN:VEVENT
DTSTART;TZID=Asia/Tokyo:20260214T000000
DTEND;TZID=Asia/Tokyo:20260214T235959
DTSTAMP:20260422T152554
CREATED:20260116T143420Z
LAST-MODIFIED:20260116T143430Z
UID:4554-1771027200-1771113599@nakano-dynamite.com
SUMMARY:HALL RENTAL
DESCRIPTION:終日HALL RENTALになります
URL:https://nakano-dynamite.com/wall/event/2026-02-14/
LOCATION:初台WALL\, 西新宿　3-15-8-B1\, 新宿区\, 東京都\, 160-0023\, Japan
CATEGORIES:HALL RENTAL
END:VEVENT
BEGIN:VEVENT
DTSTART;TZID=Asia/Tokyo:20250725T193000
DTEND;TZID=Asia/Tokyo:20250725T220000
DTSTAMP:20260422T152554
CREATED:20250719T110013Z
LAST-MODIFIED:20250719T094308Z
UID:3918-1753471800-1753480800@nakano-dynamite.com
SUMMARY:ASK I FALL pre. 1st AL"BETWEEN WORLDS"release tour
DESCRIPTION:2025.07.25(fri)\nOPEN 19:30\nSTART 20:00\nADV ¥2\,400\nDOOR ¥2\,900\n+1D\n\nASK I FALL\nYMBRIUM\nJ-Boyz\n\n\nASK I FALL pre.\n1st AL"BETWEEN WORLDS"release tour\n@初台WALL
URL:https://nakano-dynamite.com/wall/event/2025-07-25/
LOCATION:初台WALL\, 西新宿　3-15-8-B1\, 新宿区\, 東京都\, 160-0023\, Japan
CATEGORIES:HALL RENTAL
ATTACH;FMTTYPE=image/jpeg:https://nakano-dynamite.com/wall/wp-content/uploads/2025/07/名称未設定-1-01-07-2025-13-47-20-1.jpg
END:VEVENT
BEGIN:VEVENT
DTSTART;TZID=Asia/Tokyo:20240315T000000
DTEND;TZID=Asia/Tokyo:20240315T235959
DTSTAMP:20260422T152554
CREATED:20240221T095827Z
LAST-MODIFIED:20240221T095827Z
UID:2369-1710460800-1710547199@nakano-dynamite.com
SUMMARY:HALL RENTAL
DESCRIPTION:当日はHALL RENTALとなっております
URL:https://nakano-dynamite.com/wall/event/2024-03-15/
LOCATION:初台WALL\, 西新宿　3-15-8-B1\, 新宿区\, 東京都\, 160-0023\, Japan
CATEGORIES:HALL RENTAL
END:VEVENT
BEGIN:VEVENT
DTSTART;TZID=Asia/Tokyo:20240313T000000
DTEND;TZID=Asia/Tokyo:20240313T235959
DTSTAMP:20260422T152554
CREATED:20240221T095536Z
LAST-MODIFIED:20240221T095536Z
UID:2367-1710288000-1710374399@nakano-dynamite.com
SUMMARY:RECORDING HALL RENTAL
DESCRIPTION:当日はRECORDING HALL RENTALとなっております
URL:https://nakano-dynamite.com/wall/event/2024-03-13/
LOCATION:初台WALL\, 西新宿　3-15-8-B1\, 新宿区\, 東京都\, 160-0023\, Japan
CATEGORIES:HALL RENTAL
END:VEVENT
BEGIN:VEVENT
DTSTART;TZID=Asia/Tokyo:20240312T000000
DTEND;TZID=Asia/Tokyo:20240312T235959
DTSTAMP:20260422T152554
CREATED:20240221T095316Z
LAST-MODIFIED:20240221T095316Z
UID:2365-1710201600-1710287999@nakano-dynamite.com
SUMMARY:RECORDING HALL RENTAL
DESCRIPTION:当日はRECORDING HALL RENTALとなっております
URL:https://nakano-dynamite.com/wall/event/2024-03-12/
LOCATION:初台WALL\, 西新宿　3-15-8-B1\, 新宿区\, 東京都\, 160-0023\, Japan
CATEGORIES:HALL RENTAL
END:VEVENT
BEGIN:VEVENT
DTSTART;TZID=Asia/Tokyo:20240310T000000
DTEND;TZID=Asia/Tokyo:20240310T235959
DTSTAMP:20260422T152554
CREATED:20240221T094530Z
LAST-MODIFIED:20240221T095900Z
UID:2363-1710028800-1710115199@nakano-dynamite.com
SUMMARY:HALL RENTAL
DESCRIPTION:当日は貸しきりホールレンタルとなっております
URL:https://nakano-dynamite.com/wall/event/2024-03-10/
LOCATION:初台WALL\, 西新宿　3-15-8-B1\, 新宿区\, 東京都\, 160-0023\, Japan
CATEGORIES:HALL RENTAL
END:VEVENT
END:VCALENDAR