BEGIN:VCALENDAR
VERSION:2.0
PRODID:-//Livehouse Wall - ECPv6.15.20//NONSGML v1.0//EN
CALSCALE:GREGORIAN
METHOD:PUBLISH
X-ORIGINAL-URL:https://nakano-dynamite.com/wall
X-WR-CALDESC:Livehouse Wall のイベント
REFRESH-INTERVAL;VALUE=DURATION:PT1H
X-Robots-Tag:noindex
X-PUBLISHED-TTL:PT1H
BEGIN:VTIMEZONE
TZID:Asia/Tokyo
BEGIN:STANDARD
TZOFFSETFROM:+0900
TZOFFSETTO:+0900
TZNAME:JST
DTSTART:20210101T000000
END:STANDARD
END:VTIMEZONE
BEGIN:VEVENT
DTSTART;TZID=Asia/Tokyo:20251210T190000
DTEND;TZID=Asia/Tokyo:20251210T220000
DTSTAMP:20260425T093407
CREATED:20251029T073905Z
LAST-MODIFIED:20251029T073905Z
UID:4363-1765393200-1765404000@nakano-dynamite.com
SUMMARY:初台オープンマイクショウ
DESCRIPTION:2025.12.10(wed)\nOPEN 19:00\nSTART 19:00\nNO CHARGE\n+2D(¥1200)\n\nプンマー・・・それは心のオアシス\nプンマー・・・それは愛の楽園\n飛び入り大歓迎！\n\n\nWALL pre.\n初台オープンマイクショウ\n@初台WALL
URL:https://nakano-dynamite.com/wall/event/2025-12-10/
LOCATION:初台WALL\, 西新宿　3-15-8-B1\, 新宿区\, 東京都\, 160-0023\, Japan
CATEGORIES:OPEN MIC
ATTACH;FMTTYPE=image/jpeg:https://nakano-dynamite.com/wall/wp-content/uploads/2025/09/20251023.jpg
END:VEVENT
BEGIN:VEVENT
DTSTART;TZID=Asia/Tokyo:20241229T173000
DTEND;TZID=Asia/Tokyo:20241229T220000
DTSTAMP:20260425T093407
CREATED:20241128T125929Z
LAST-MODIFIED:20241128T130728Z
UID:3205-1735493400-1735509600@nakano-dynamite.com
SUMMARY:宮原タクマロのGIG道楽 vol.22 -WALL OPEN MIC 忘年会 Special-
DESCRIPTION:2024.12.29(sun)\nOPEN 17:30\nSTART 18:00\nNO CHARGE \n+2D(¥1200)\n\n今年も1年ありがとうございました。\nオープンマイクだれでも参加大歓迎です！\n\n今年は当初四月いっぱいで閉店すると言われていましたが\nどうにか2年延期になり25周年の節目を迎えられたのも\n遊びに来てくれたり、気にかけて支援してくれる皆さまのおかげです。\n来年も最高の空間を作って参りますので\nまた遊びましょう！改めて感謝申し上げます。\n\n\n\n宮原タクマロ pre.\n宮原タクマロのGIG道楽 vol.22\n-WALL OPEN MIC 忘年会 SPECIAL-\n@初台WALL
URL:https://nakano-dynamite.com/wall/event/2024-12-29/
LOCATION:初台WALL\, 西新宿　3-15-8-B1\, 新宿区\, 東京都\, 160-0023\, Japan
CATEGORIES:OPEN MIC
ATTACH;FMTTYPE=image/jpeg:https://nakano-dynamite.com/wall/wp-content/uploads/2024/11/20241229.jpg
END:VEVENT
BEGIN:VEVENT
DTSTART;TZID=Asia/Tokyo:20240506T190000
DTEND;TZID=Asia/Tokyo:20240506T220000
DTSTAMP:20260425T093407
CREATED:20240416T113741Z
LAST-MODIFIED:20240419T065529Z
UID:2523-1715022000-1715032800@nakano-dynamite.com
SUMMARY:初台オープンマイクショウ
DESCRIPTION:2024.05.06(mon)\nOPEN 19:00\nSTART 20:00\n￥1200　(2D付)\n\n改装前に集まれ！プンマー軍団！\n\n\nWALL pre\n初台オープンマイクショウ\n@初台WALL
URL:https://nakano-dynamite.com/wall/event/2024-05-06/
LOCATION:初台WALL\, 西新宿　3-15-8-B1\, 新宿区\, 東京都\, 160-0023\, Japan
CATEGORIES:OPEN MIC
ATTACH;FMTTYPE=image/jpeg:https://nakano-dynamite.com/wall/wp-content/uploads/2024/04/20240506.jpg
END:VEVENT
BEGIN:VEVENT
DTSTART;TZID=Asia/Tokyo:20240410T190000
DTEND;TZID=Asia/Tokyo:20240410T220000
DTSTAMP:20260425T093407
CREATED:20240307T085343Z
LAST-MODIFIED:20240307T085343Z
UID:2436-1712775600-1712786400@nakano-dynamite.com
SUMMARY:初台オープンマイクショウ
DESCRIPTION:2024.04.10 (wed)\nOPEN 19:00  START 20:00\n￥1200　(2D付)\n\n気力じゃ駄目だ\n死力を尽くせ・・・\n\n\nWALL pre\n初台オープンマイクショウ\n@初台WALL
URL:https://nakano-dynamite.com/wall/event/2024-04-10/
LOCATION:初台WALL\, 西新宿　3-15-8-B1\, 新宿区\, 東京都\, 160-0023\, Japan
CATEGORIES:OPEN MIC
ATTACH;FMTTYPE=image/jpeg:https://nakano-dynamite.com/wall/wp-content/uploads/2024/03/20240410.jpg
END:VEVENT
BEGIN:VEVENT
DTSTART;TZID=Asia/Tokyo:20240307T190000
DTEND;TZID=Asia/Tokyo:20240307T220000
DTSTAMP:20260425T093407
CREATED:20240211T114048Z
LAST-MODIFIED:20240211T114150Z
UID:2346-1709838000-1709848800@nakano-dynamite.com
SUMMARY:初台オープンマイクショウ
DESCRIPTION:2024.03.07 (thu)\nOPEN 19:00  START 20:00\n￥1200　(2D付)\n\n悔しければ強くなれ・・・・\n\n\nWALL pre\n初台オープンマイクショウ\n@初台WALL
URL:https://nakano-dynamite.com/wall/event/2024-03-07/
LOCATION:初台WALL\, 西新宿　3-15-8-B1\, 新宿区\, 東京都\, 160-0023\, Japan
CATEGORIES:OPEN MIC
ATTACH;FMTTYPE=image/jpeg:https://nakano-dynamite.com/wall/wp-content/uploads/2024/02/20240307.jpg
END:VEVENT
BEGIN:VEVENT
DTSTART;TZID=Asia/Tokyo:20240208T190000
DTEND;TZID=Asia/Tokyo:20240208T220000
DTSTAMP:20260425T093407
CREATED:20240106T090853Z
LAST-MODIFIED:20240208T131410Z
UID:2244-1707418800-1707429600@nakano-dynamite.com
SUMMARY:初台オープンマイクショウ
DESCRIPTION:2024.02.08 (thu)\nOPEN 19:00  START 20:00\n￥1200　(2D付)\n\nこたつひとつのアパートで・・・・\n\n\nWALL pre\n初台オープンマイクショウ\n@初台WALL
URL:https://nakano-dynamite.com/wall/event/2023-02-08/
LOCATION:初台WALL\, 西新宿　3-15-8-B1\, 新宿区\, 東京都\, 160-0023\, Japan
CATEGORIES:OPEN MIC
ATTACH;FMTTYPE=image/jpeg:https://nakano-dynamite.com/wall/wp-content/uploads/2024/01/20240208.jpg
END:VEVENT
BEGIN:VEVENT
DTSTART;TZID=Asia/Tokyo:20240110T190000
DTEND;TZID=Asia/Tokyo:20240110T220000
DTSTAMP:20260425T093407
CREATED:20231209T044658Z
LAST-MODIFIED:20240110T121805Z
UID:2160-1704913200-1704924000@nakano-dynamite.com
SUMMARY:初台オープンマイクショウ
DESCRIPTION:2023.01.10 (wed)\nOPEN 19:00  START 20:00\n￥1200(3D付)\n\nやいやい、この見事に咲いた遠山桜、忘れたとは言わせねえぜ！\n\n\nWALL pre\n初台オープンマイクショウ\n@初台WALL
URL:https://nakano-dynamite.com/wall/event/2023-01-10/
LOCATION:初台WALL\, 西新宿　3-15-8-B1\, 新宿区\, 東京都\, 160-0023\, Japan
CATEGORIES:OPEN MIC
ATTACH;FMTTYPE=image/jpeg:https://nakano-dynamite.com/wall/wp-content/uploads/2023/12/20230110.jpg
END:VEVENT
BEGIN:VEVENT
DTSTART;TZID=Asia/Tokyo:20231227T190000
DTEND;TZID=Asia/Tokyo:20231227T220000
DTSTAMP:20260425T093407
CREATED:20231123T093728Z
LAST-MODIFIED:20231123T093728Z
UID:2095-1703703600-1703714400@nakano-dynamite.com
SUMMARY:年末オープンマイクショウ
DESCRIPTION:2023.12.27  (Wed)\nOPEN 19:00  START 20:00\n￥1200 (2D付)\n\n\n汚れつちまつた悲しみに\n今日も小雪の降りかかる\n汚れつちまつた悲しみに\n今日も風さへ吹きすぎる \n  \nＡＬＬ　ＮＩＧＨＴ　ＬＯＮＧ　♪ \n \nＷＡＬＬ　ｐｒｅ \n年末オープンマイクショウ\n@初台WALL
URL:https://nakano-dynamite.com/wall/event/2023-12-27/
LOCATION:東京都
CATEGORIES:OPEN MIC
ATTACH;FMTTYPE=image/jpeg:https://nakano-dynamite.com/wall/wp-content/uploads/2023/11/20231227.jpg
END:VEVENT
BEGIN:VEVENT
DTSTART;TZID=Asia/Tokyo:20231110T190000
DTEND;TZID=Asia/Tokyo:20231110T220000
DTSTAMP:20260425T093407
CREATED:20231018T100006Z
LAST-MODIFIED:20231018T100006Z
UID:1658-1699642800-1699653600@nakano-dynamite.com
SUMMARY:初台オープンマイクショウ
DESCRIPTION:2023.11.10 (fri)\nOPEN 19:00  START 20:00\nDOOR ¥1200(2D込)\n\nWALL pre\n初台オープンマイクショウ\n@初台WALL
URL:https://nakano-dynamite.com/wall/event/2023-11-10/
LOCATION:東京都
CATEGORIES:OPEN MIC
ATTACH;FMTTYPE=image/jpeg:https://nakano-dynamite.com/wall/wp-content/uploads/2023/10/20231110.jpg
END:VEVENT
BEGIN:VEVENT
DTSTART;TZID=Asia/Tokyo:20231006T190000
DTEND;TZID=Asia/Tokyo:20231006T220000
DTSTAMP:20260425T093407
CREATED:20230917T093401Z
LAST-MODIFIED:20230917T093401Z
UID:1565-1696618800-1696629600@nakano-dynamite.com
SUMMARY:初台OPEN MIC SHOW
DESCRIPTION:2023.10.6 (fri)\nOPEN 19:00  START 20:00\nDOOR ¥1200(2D込)\n\nWALL pre\n初台オープンマイクショウ\n@初台WALL
URL:https://nakano-dynamite.com/wall/event/2023-10-06/
LOCATION:初台WALL\, 西新宿　3-15-8-B1\, 新宿区\, 東京都\, 160-0023\, Japan
CATEGORIES:OPEN MIC
ATTACH;FMTTYPE=image/jpeg:https://nakano-dynamite.com/wall/wp-content/uploads/2023/09/20231006.jpg
END:VEVENT
BEGIN:VEVENT
DTSTART;TZID=Asia/Tokyo:20230915T190000
DTEND;TZID=Asia/Tokyo:20230915T220000
DTSTAMP:20260425T093407
CREATED:20230720T111729Z
LAST-MODIFIED:20230720T111729Z
UID:1435-1694804400-1694815200@nakano-dynamite.com
SUMMARY:初台オープンマイクショウ
DESCRIPTION:2023.9.15 (fri)\nOPEN 19:00  START 20:00\nDOOR ¥1200(2D込)\n\n処分♪　処分♪\n\n\nWALL pre\n初台オープンマイクショウ\n@初台WALL
URL:https://nakano-dynamite.com/wall/event/2023-09-15/
LOCATION:初台WALL\, 西新宿　3-15-8-B1\, 新宿区\, 東京都\, 160-0023\, Japan
CATEGORIES:OPEN MIC
ATTACH;FMTTYPE=image/jpeg:https://nakano-dynamite.com/wall/wp-content/uploads/2023/07/20230915.jpg
END:VEVENT
BEGIN:VEVENT
DTSTART;TZID=Asia/Tokyo:20230810T190000
DTEND;TZID=Asia/Tokyo:20230810T220000
DTSTAMP:20260425T093407
CREATED:20230617T082931Z
LAST-MODIFIED:20230617T082931Z
UID:1366-1691694000-1691704800@nakano-dynamite.com
SUMMARY:初台オープンマイクショウ
DESCRIPTION:2023.08.10　(Thu)\nOPEN 19:00  START 20:00\n¥1200(2D付)\n\nダメ、ゼッタイ。\n\n\nWALL pre\n初台オープンマイクショウ\n@初台WALL
URL:https://nakano-dynamite.com/wall/event/2023-08-10-2/
LOCATION:初台WALL\, 西新宿　3-15-8-B1\, 新宿区\, 東京都\, 160-0023\, Japan
CATEGORIES:OPEN MIC
ATTACH;FMTTYPE=image/png:https://nakano-dynamite.com/wall/wp-content/uploads/2023/06/20230810.png
END:VEVENT
BEGIN:VEVENT
DTSTART;TZID=Asia/Tokyo:20230714T190000
DTEND;TZID=Asia/Tokyo:20230714T220000
DTSTAMP:20260425T093407
CREATED:20230511T093727Z
LAST-MODIFIED:20230511T093727Z
UID:1280-1689361200-1689372000@nakano-dynamite.com
SUMMARY:初台オープンマイクショウ
DESCRIPTION:2023.07.14 (FRI)\nOPEN 19:00  START 20:00\n￥1200(2D込)\n\n飛び入り大歓迎！！\n\n文化の泉湧きいでし\n我が学び舎のある所\n\n\nWALL pre\n初台オープンマイクショウ\n@初台WALL
URL:https://nakano-dynamite.com/wall/event/2023-07-14/
LOCATION:初台WALL\, 西新宿　3-15-8-B1\, 新宿区\, 東京都\, 160-0023\, Japan
CATEGORIES:OPEN MIC
ATTACH;FMTTYPE=image/jpeg:https://nakano-dynamite.com/wall/wp-content/uploads/2023/05/20230714.jpg
END:VEVENT
BEGIN:VEVENT
DTSTART;TZID=Asia/Tokyo:20230616T190000
DTEND;TZID=Asia/Tokyo:20230616T220000
DTSTAMP:20260425T093407
CREATED:20230426T073219Z
LAST-MODIFIED:20230426T073219Z
UID:1206-1686942000-1686952800@nakano-dynamite.com
SUMMARY:初台オープンマイクショウ
DESCRIPTION:2023.6.16　(Fri)\nOPEN 19:00  START 20:00\nDOOR ￥1200(2D付)\n\n大統領や総理大臣には代わりがいるだろうがオレの代わりはいないんだ。\nby 勝新太郎\n\n\nWALL pre\n初台オープンマイクショウ\n@初台WALL
URL:https://nakano-dynamite.com/wall/event/2023-06-16/
LOCATION:初台WALL\, 西新宿　3-15-8-B1\, 新宿区\, 東京都\, 160-0023\, Japan
CATEGORIES:OPEN MIC
ATTACH;FMTTYPE=image/jpeg:https://nakano-dynamite.com/wall/wp-content/uploads/2023/04/20230616.jpg
END:VEVENT
BEGIN:VEVENT
DTSTART;TZID=Asia/Tokyo:20230512T190000
DTEND;TZID=Asia/Tokyo:20230512T220000
DTSTAMP:20260425T093407
CREATED:20230325T062121Z
LAST-MODIFIED:20230325T062121Z
UID:1106-1683918000-1683928800@nakano-dynamite.com
SUMMARY:初台オープンマイクショウ
DESCRIPTION:2023.05.12 (Fri)\nOPEN 19:00 START 20:00\n￥1000(2D付)\n\n飛び入り大歓迎！！！\n腹の底から歌いに来いや！！！\n\n\n\nWALL pre\n初台オープンマイクショウ\n@初台WALL
URL:https://nakano-dynamite.com/wall/event/2023-05-12/
LOCATION:初台WALL\, 西新宿　3-15-8-B1\, 新宿区\, 東京都\, 160-0023\, Japan
CATEGORIES:OPEN MIC
ATTACH;FMTTYPE=image/jpeg:https://nakano-dynamite.com/wall/wp-content/uploads/2023/03/20230512.jpg
END:VEVENT
BEGIN:VEVENT
DTSTART;TZID=Asia/Tokyo:20230421T190000
DTEND;TZID=Asia/Tokyo:20230421T200000
DTSTAMP:20260425T093407
CREATED:20230302T065624Z
LAST-MODIFIED:20230302T072536Z
UID:1032-1682103600-1682107200@nakano-dynamite.com
SUMMARY:初台オープンマイクショウ
DESCRIPTION:2023.04.21  (fri)\nOPEN 19:00 START 20:00\n￥1000(2D付)\n\n飛び入り大歓迎！！！\n腹の底から歌いに来いや！！！\n \nWALL pre\n初台オープンマイクショウ\n@初台WALL
URL:https://nakano-dynamite.com/wall/event/2023-04-21/
LOCATION:初台WALL\, 西新宿　3-15-8-B1\, 新宿区\, 東京都\, 160-0023\, Japan
CATEGORIES:OPEN MIC
ATTACH;FMTTYPE=image/jpeg:https://nakano-dynamite.com/wall/wp-content/uploads/2023/03/TimeTree_2023-03-02-15-50-56.jpg
END:VEVENT
BEGIN:VEVENT
DTSTART;TZID=Asia/Tokyo:20230303T190000
DTEND;TZID=Asia/Tokyo:20230303T220000
DTSTAMP:20260425T093407
CREATED:20230203T172814Z
LAST-MODIFIED:20230203T173653Z
UID:904-1677870000-1677880800@nakano-dynamite.com
SUMMARY:オープンマイク
DESCRIPTION:2023.03.03(fri)\nOPEN 19:00 START 20:00\n￥1000(2D込み)\n\n\n飛び入り大歓迎！\n\nOPEN MIKE SHOW\n@初台WALL
URL:https://nakano-dynamite.com/wall/event/2023-03-03/
LOCATION:初台WALL\, 西新宿　3-15-8-B1\, 新宿区\, 東京都\, 160-0023\, Japan
CATEGORIES:OPEN MIC
ATTACH;FMTTYPE=image/jpeg:https://nakano-dynamite.com/wall/wp-content/uploads/2023/02/20230303.jpg
END:VEVENT
BEGIN:VEVENT
DTSTART;TZID=Asia/Tokyo:20230203T190000
DTEND;TZID=Asia/Tokyo:20230203T220000
DTSTAMP:20260425T093407
CREATED:20211231T150057Z
LAST-MODIFIED:20230126T102933Z
UID:567-1675450800-1675461600@nakano-dynamite.com
SUMMARY:オープンマイク
DESCRIPTION:2023.02.03(fri)\nOPEN 19:00 START 20:00\n¥1000・2ドリンク付き\n\n参加者募集！\n\n\nオープンマイク\n@初台WALL
URL:https://nakano-dynamite.com/wall/event/2023-02-03/
LOCATION:初台WALL\, 西新宿　3-15-8-B1\, 新宿区\, 東京都\, 160-0023\, Japan
CATEGORIES:OPEN MIC
ATTACH;FMTTYPE=image/jpeg:https://nakano-dynamite.com/wall/wp-content/uploads/2022/01/2023-02-03.jpeg
END:VEVENT
BEGIN:VEVENT
DTSTART;TZID=Asia/Tokyo:20230106T000000
DTEND;TZID=Asia/Tokyo:20230106T235959
DTSTAMP:20260425T093407
CREATED:20221122T040418Z
LAST-MODIFIED:20221129T090530Z
UID:165-1672963200-1673049599@nakano-dynamite.com
SUMMARY:オープンマイク
DESCRIPTION:コンテンツは保護されています。
URL:https://nakano-dynamite.com/wall/event/2023-01-06/
LOCATION:初台WALL\, 西新宿　3-15-8-B1\, 新宿区\, 東京都\, 160-0023\, Japan
CATEGORIES:OPEN MIC
END:VEVENT
BEGIN:VEVENT
DTSTART;TZID=Asia/Tokyo:20221228T000000
DTEND;TZID=Asia/Tokyo:20221228T235959
DTSTAMP:20260425T093407
CREATED:20221122T035356Z
LAST-MODIFIED:20221129T090603Z
UID:159-1672185600-1672271999@nakano-dynamite.com
SUMMARY:年末オープンマイク
DESCRIPTION:コンテンツは保護されています。
URL:https://nakano-dynamite.com/wall/event/2022-12-28/
LOCATION:初台WALL\, 西新宿　3-15-8-B1\, 新宿区\, 東京都\, 160-0023\, Japan
CATEGORIES:OPEN MIC
END:VEVENT
END:VCALENDAR