BEGIN:VCALENDAR
VERSION:2.0
PRODID:-//Livehouse Wall - ECPv6.15.20//NONSGML v1.0//EN
CALSCALE:GREGORIAN
METHOD:PUBLISH
X-WR-CALNAME:Livehouse Wall
X-ORIGINAL-URL:https://nakano-dynamite.com/wall
X-WR-CALDESC:Livehouse Wall のイベント
REFRESH-INTERVAL;VALUE=DURATION:PT1H
X-Robots-Tag:noindex
X-PUBLISHED-TTL:PT1H
BEGIN:VTIMEZONE
TZID:Asia/Tokyo
BEGIN:STANDARD
TZOFFSETFROM:+0900
TZOFFSETTO:+0900
TZNAME:JST
DTSTART:20220101T000000
END:STANDARD
END:VTIMEZONE
BEGIN:VEVENT
DTSTART;TZID=Asia/Tokyo:20231014T170000
DTEND;TZID=Asia/Tokyo:20231014T220000
DTSTAMP:20260422T124523
CREATED:20230917T121009Z
LAST-MODIFIED:20230917T121009Z
UID:1580-1697302800-1697320800@nakano-dynamite.com
SUMMARY:POSITIVE FORCE
DESCRIPTION:2023.10.14 (sat)\nOPEN/START 17：00\nADV ￥2400＋1D\nBUMPED HIS HEAD\nACUTE(岡崎)\nAUTOROLL\nEIEFITS\nNO VALUE\nTRES\nDJ:oqbo\nDJ:垂れ流しカトー\n\n\nBUMEPED HIS HEAD pre \nPOSITIVE FORCE \n@初台WALL
URL:https://nakano-dynamite.com/wall/event/2023-10-14/
LOCATION:初台WALL\, 西新宿　3-15-8-B1\, 新宿区\, 東京都\, 160-0023\, Japan
CATEGORIES:POSITIVE FORCE
ATTACH;FMTTYPE=image/jpeg:https://nakano-dynamite.com/wall/wp-content/uploads/2023/09/20231014.jpg
END:VEVENT
END:VCALENDAR