BEGIN:VCALENDAR
VERSION:2.0
PRODID:-//Livehouse Wall - ECPv6.15.20//NONSGML v1.0//EN
CALSCALE:GREGORIAN
METHOD:PUBLISH
X-ORIGINAL-URL:https://nakano-dynamite.com/wall
X-WR-CALDESC:Livehouse Wall のイベント
REFRESH-INTERVAL;VALUE=DURATION:PT1H
X-Robots-Tag:noindex
X-PUBLISHED-TTL:PT1H
BEGIN:VTIMEZONE
TZID:Asia/Tokyo
BEGIN:STANDARD
TZOFFSETFROM:+0900
TZOFFSETTO:+0900
TZNAME:JST
DTSTART:20210101T000000
END:STANDARD
END:VTIMEZONE
BEGIN:VEVENT
DTSTART;TZID=Asia/Tokyo:20221216T000000
DTEND;TZID=Asia/Tokyo:20221216T235959
DTSTAMP:20260422T020221
CREATED:20221122T030503Z
LAST-MODIFIED:20221216T020404Z
UID:133-1671148800-1671235199@nakano-dynamite.com
SUMMARY:TBA
DESCRIPTION:2022.12.16(FRI)\nOPEN: 18:00\nTICKET: ¥1500 + 1D\n\nDJ: RNR (Shin\, Kosuke)\, banmi\, Gucci Baby ft 0 cross.\nSaad\, Sadie G\, HARINEZUMI\nLIVE: Tibetan Sky\, Faveriot\, sadbois\n\n\nRNR presents: EMO NIGHT\n@初台WALL
URL:https://nakano-dynamite.com/wall/event/2022-12-16/
LOCATION:初台WALL\, 西新宿　3-15-8-B1\, 新宿区\, 東京都\, 160-0023\, Japan
ATTACH;FMTTYPE=image/jpeg:https://nakano-dynamite.com/wall/wp-content/uploads/2022/11/2022-12-16.jpeg
END:VEVENT
END:VCALENDAR