BEGIN:VCALENDAR
VERSION:2.0
PRODID:-//Livehouse Wall - ECPv6.15.20//NONSGML v1.0//EN
CALSCALE:GREGORIAN
METHOD:PUBLISH
X-WR-CALNAME:Livehouse Wall
X-ORIGINAL-URL:https://nakano-dynamite.com/wall
X-WR-CALDESC:Livehouse Wall のイベント
REFRESH-INTERVAL;VALUE=DURATION:PT1H
X-Robots-Tag:noindex
X-PUBLISHED-TTL:PT1H
BEGIN:VTIMEZONE
TZID:Asia/Tokyo
BEGIN:STANDARD
TZOFFSETFROM:+0900
TZOFFSETTO:+0900
TZNAME:JST
DTSTART:20220101T000000
END:STANDARD
END:VTIMEZONE
BEGIN:VEVENT
DTSTART;TZID=Asia/Tokyo:20240426T193000
DTEND;TZID=Asia/Tokyo:20240426T200000
DTSTAMP:20260422T093218
CREATED:20240329T070455Z
LAST-MODIFIED:20240419T070144Z
UID:2500-1714159800-1714161600@nakano-dynamite.com
SUMMARY:High Power
DESCRIPTION:2024.04.26(fri)\nOPEN 19:30\nSTART 20:00\nADV￥2900\nDOOR￥3400\n+1D\nTHE DISASTER POINTS\nBAYONETS\nBUMPED HIS HEAD\n\nWALL pre\nHigh Power\n@初台WALL
URL:https://nakano-dynamite.com/wall/event/2024-04-26/
LOCATION:初台WALL\, 西新宿　3-15-8-B1\, 新宿区\, 東京都\, 160-0023\, Japan
ATTACH;FMTTYPE=image/jpeg:https://nakano-dynamite.com/wall/wp-content/uploads/2024/03/20240426.jpg
END:VEVENT
BEGIN:VEVENT
DTSTART;TZID=Asia/Tokyo:20230318T170000
DTEND;TZID=Asia/Tokyo:20230318T220000
DTSTAMP:20260422T093218
CREATED:20230204T131249Z
LAST-MODIFIED:20230204T131250Z
UID:935-1679158800-1679176800@nakano-dynamite.com
SUMMARY:初台大雲原
DESCRIPTION:2023.03.18(Sat)\nOPEN 17:00 START 17:30\nDOOR ￥2000+1D\n\nBAYONETS \nSLANGBOOGIE \nRAISE A FLAG　 \nSTIR UP SHIT (大阪)　 \nバビロンブレイカーズ(大阪)　\nHOW\n\n新・二天一流 pre\n初台大雲原\n@初台WALL
URL:https://nakano-dynamite.com/wall/event/2023-03-18/
LOCATION:初台WALL\, 西新宿　3-15-8-B1\, 新宿区\, 東京都\, 160-0023\, Japan
ATTACH;FMTTYPE=image/jpeg:https://nakano-dynamite.com/wall/wp-content/uploads/2023/02/20230318.jpg
END:VEVENT
END:VCALENDAR