BEGIN:VCALENDAR
VERSION:2.0
PRODID:-//Livehouse Wall - ECPv6.15.20//NONSGML v1.0//EN
CALSCALE:GREGORIAN
METHOD:PUBLISH
X-WR-CALNAME:Livehouse Wall
X-ORIGINAL-URL:https://nakano-dynamite.com/wall
X-WR-CALDESC:Livehouse Wall のイベント
REFRESH-INTERVAL;VALUE=DURATION:PT1H
X-Robots-Tag:noindex
X-PUBLISHED-TTL:PT1H
BEGIN:VTIMEZONE
TZID:Asia/Tokyo
BEGIN:STANDARD
TZOFFSETFROM:+0900
TZOFFSETTO:+0900
TZNAME:JST
DTSTART:20220101T000000
END:STANDARD
END:VTIMEZONE
BEGIN:VEVENT
DTSTART;TZID=Asia/Tokyo:20240602T163000
DTEND;TZID=Asia/Tokyo:20240602T220000
DTSTAMP:20260420T125920
CREATED:20240602T062603Z
LAST-MODIFIED:20240602T062603Z
UID:2537-1717345800-1717365600@nakano-dynamite.com
SUMMARY:VINTAGE
DESCRIPTION:2024.06.02(sun)\nOPEN 16:30\nSTART 17:00\nADV￥2400\nDOOR￥2900\n+1D\n\nRETROGRADE97\nPATROLTIME\nthe back pain(磐田)\nOaktails\nSHINING MOMENTS\nSxGxS\nBeforeme\n\n\n\nGNDM&WALL pre.\nVINTAGE\n@初台WALL
URL:https://nakano-dynamite.com/wall/event/2024-06-02/
LOCATION:初台WALL\, 西新宿　3-15-8-B1\, 新宿区\, 東京都\, 160-0023\, Japan
ATTACH;FMTTYPE=image/jpeg:https://nakano-dynamite.com/wall/wp-content/uploads/2024/06/20240602.jpg
END:VEVENT
BEGIN:VEVENT
DTSTART;TZID=Asia/Tokyo:20231112T150000
DTEND;TZID=Asia/Tokyo:20231112T220000
DTSTAMP:20260420T125920
CREATED:20231018T102313Z
LAST-MODIFIED:20231018T102313Z
UID:1661-1699801200-1699826400@nakano-dynamite.com
SUMMARY:OVERALL
DESCRIPTION:2023.11.12 (sun)\nOPEN 15:00  START 15:30\nDOOR ￥2400＋1D\n\nHOW\nBad Attack\nBeforeme\nTOMBOTORI\nBAKINGPOWDER\nGOOD DREAM\nLEEFMAN\nRASPUTIN\n\n\n\nOVERALL CREW pre\nOVERALL\n@初台WALL
URL:https://nakano-dynamite.com/wall/event/2023-11-12/
LOCATION:初台WALL\, 西新宿　3-15-8-B1\, 新宿区\, 東京都\, 160-0023\, Japan
CATEGORIES:OVER ALL
ATTACH;FMTTYPE=image/jpeg:https://nakano-dynamite.com/wall/wp-content/uploads/2023/10/20231112.jpg
END:VEVENT
END:VCALENDAR