BEGIN:VCALENDAR
VERSION:2.0
PRODID:-//Livehouse Wall - ECPv6.15.20//NONSGML v1.0//EN
CALSCALE:GREGORIAN
METHOD:PUBLISH
X-WR-CALNAME:Livehouse Wall
X-ORIGINAL-URL:https://nakano-dynamite.com/wall
X-WR-CALDESC:Livehouse Wall のイベント
REFRESH-INTERVAL;VALUE=DURATION:PT1H
X-Robots-Tag:noindex
X-PUBLISHED-TTL:PT1H
BEGIN:VTIMEZONE
TZID:Asia/Tokyo
BEGIN:STANDARD
TZOFFSETFROM:+0900
TZOFFSETTO:+0900
TZNAME:JST
DTSTART:20220101T000000
END:STANDARD
END:VTIMEZONE
BEGIN:VEVENT
DTSTART;TZID=Asia/Tokyo:20250220T183000
DTEND;TZID=Asia/Tokyo:20250220T220000
DTSTAMP:20260422T102729
CREATED:20250122T142747Z
LAST-MODIFIED:20250122T142747Z
UID:3354-1740076200-1740088800@nakano-dynamite.com
SUMMARY:DESTINY LAND
DESCRIPTION:2025.02.20(thu)\nOPEN 18:30\nSTART 19:00\nDOOR ¥2400\nU-23 ¥1400\n+1D\nやっほー\nA Virgin\nthat same street\n黄倉未来\nBISING\nニーハオ!!!!\n高倉健\nCOMMUTED\n\n\nやっほー pre.\nDESTINY LAND\n@初台WALL
URL:https://nakano-dynamite.com/wall/event/2025-02-20/
LOCATION:初台WALL\, 西新宿　3-15-8-B1\, 新宿区\, 東京都\, 160-0023\, Japan
ATTACH;FMTTYPE=image/jpeg:https://nakano-dynamite.com/wall/wp-content/uploads/2025/01/20250220.jpg
END:VEVENT
BEGIN:VEVENT
DTSTART;TZID=Asia/Tokyo:20241128T190000
DTEND;TZID=Asia/Tokyo:20241128T220000
DTSTAMP:20260422T102729
CREATED:20241115T145401Z
LAST-MODIFIED:20241120T124025Z
UID:3153-1732820400-1732831200@nakano-dynamite.com
SUMMARY:MAGICAL VIBES
DESCRIPTION:2024.11.28(thu)\nOPEN 19:00\nSTART 19:00\nDOOR ¥1900\n+1D\nポップコーン汗\nUNRUCH\nBISING\n煩悩バイブ\n\n-DJ-\nダイナマイト\nサマービューティー\n\n\n\nWALL pre.\nMAGICAL VIBES\n@初台WALL
URL:https://nakano-dynamite.com/wall/event/2024-11-28/
LOCATION:初台WALL\, 西新宿　3-15-8-B1\, 新宿区\, 東京都\, 160-0023\, Japan
ATTACH;FMTTYPE=image/jpeg:https://nakano-dynamite.com/wall/wp-content/uploads/2024/11/20241128-1.jpg
END:VEVENT
BEGIN:VEVENT
DTSTART;TZID=Asia/Tokyo:20240824T170000
DTEND;TZID=Asia/Tokyo:20240824T220000
DTSTAMP:20260422T102729
CREATED:20240727T103205Z
LAST-MODIFIED:20240730T081300Z
UID:2841-1724518800-1724536800@nakano-dynamite.com
SUMMARY:RAT RACE vol.??
DESCRIPTION:2024.08.24(sat)\nOPEN 17:00\nSTART 17:30\nADV ¥2000\nDOOR ¥2500\n+1D\n\nArcadian Starship(京都)\nWAR/ZIT\nTHE SMOG(大阪)\nWETNAP\nBISING\npenisboys\n\n-DJ-\nbisco\n\n\n\nDEBAUCH MOOD pre.\nRAT RACE vol.?? \n@初台WALL
URL:https://nakano-dynamite.com/wall/event/2024-08-24/
LOCATION:初台WALL\, 西新宿　3-15-8-B1\, 新宿区\, 東京都\, 160-0023\, Japan
ATTACH;FMTTYPE=image/jpeg:https://nakano-dynamite.com/wall/wp-content/uploads/2024/07/20240824.jpg
END:VEVENT
BEGIN:VEVENT
DTSTART;TZID=Asia/Tokyo:20231119T155000
DTEND;TZID=Asia/Tokyo:20231119T220000
DTSTAMP:20260422T102729
CREATED:20231018T115558Z
LAST-MODIFIED:20231018T115558Z
UID:1668-1700409000-1700431200@nakano-dynamite.com
SUMMARY:CONVINIUM vol.8
DESCRIPTION:2023.11.19 (sun)\nOPEN 15:50  START 16:20\nADV ￥2400 DOOR￥2900＋1D\n\nAbiuro\nBISING\nClient/server\nDoomsday\nDrastik Adhesive Force\nSkin Job\nNOIZEGOAT\n施餓鬼\n\n\nAbiuro pre\nCONVINIUM vol.8\n＠初台WALL
URL:https://nakano-dynamite.com/wall/event/2023-11-19/
LOCATION:初台WALL\, 西新宿　3-15-8-B1\, 新宿区\, 東京都\, 160-0023\, Japan
ATTACH;FMTTYPE=image/jpeg:https://nakano-dynamite.com/wall/wp-content/uploads/2023/10/20231119.jpg
END:VEVENT
END:VCALENDAR