BEGIN:VCALENDAR
VERSION:2.0
PRODID:-//Livehouse Wall - ECPv6.15.20//NONSGML v1.0//EN
CALSCALE:GREGORIAN
METHOD:PUBLISH
X-WR-CALNAME:Livehouse Wall
X-ORIGINAL-URL:https://nakano-dynamite.com/wall
X-WR-CALDESC:Livehouse Wall のイベント
REFRESH-INTERVAL;VALUE=DURATION:PT1H
X-Robots-Tag:noindex
X-PUBLISHED-TTL:PT1H
BEGIN:VTIMEZONE
TZID:Asia/Tokyo
BEGIN:STANDARD
TZOFFSETFROM:+0900
TZOFFSETTO:+0900
TZNAME:JST
DTSTART:20220101T000000
END:STANDARD
END:VTIMEZONE
BEGIN:VEVENT
DTSTART;TZID=Asia/Tokyo:20231020T183000
DTEND;TZID=Asia/Tokyo:20231020T220000
DTSTAMP:20260425T213909
CREATED:20231005T084907Z
LAST-MODIFIED:20231006T101730Z
UID:1611-1697826600-1697839200@nakano-dynamite.com
SUMMARY:SAMBO
DESCRIPTION:2023.10.20 (fri)\nOPEN 18:30  START 19:00\nDOOR￥2000＋1D\n\nZん(静岡)\nBUMPED HIS HEAD\nSHOTGUN PLAYBOYZ\nBOYCOTTT SENTENCE\nHORSE&DEER\n\n \nWALL pre\nSAMBO\n＠初台WALL
URL:https://nakano-dynamite.com/wall/event/2023-10-20/
LOCATION:初台WALL\, 西新宿　3-15-8-B1\, 新宿区\, 東京都\, 160-0023\, Japan
ATTACH;FMTTYPE=image/jpeg:https://nakano-dynamite.com/wall/wp-content/uploads/2023/10/20231020.jpg
END:VEVENT
END:VCALENDAR