BEGIN:VCALENDAR
VERSION:2.0
PRODID:-//Livehouse Wall - ECPv6.15.20//NONSGML v1.0//EN
CALSCALE:GREGORIAN
METHOD:PUBLISH
X-WR-CALNAME:Livehouse Wall
X-ORIGINAL-URL:https://nakano-dynamite.com/wall
X-WR-CALDESC:Livehouse Wall のイベント
REFRESH-INTERVAL;VALUE=DURATION:PT1H
X-Robots-Tag:noindex
X-PUBLISHED-TTL:PT1H
BEGIN:VTIMEZONE
TZID:Asia/Tokyo
BEGIN:STANDARD
TZOFFSETFROM:+0900
TZOFFSETTO:+0900
TZNAME:JST
DTSTART:20230101T000000
END:STANDARD
END:VTIMEZONE
BEGIN:VEVENT
DTSTART;TZID=Asia/Tokyo:20240626T190000
DTEND;TZID=Asia/Tokyo:20240626T220000
DTSTAMP:20260423T122755
CREATED:20240613T092535Z
LAST-MODIFIED:20240613T092535Z
UID:2606-1719428400-1719439200@nakano-dynamite.com
SUMMARY:much love to you
DESCRIPTION:2024.06.26(wed)\nOPEN 19:00\nSTART 19:30\nDOOR￥400\n+1D\n\nabiuro\nD×I×E\nBUMPUD HIS HEAD \n\n-DJ-\nセージーガガ\n\n-FOOD-\nZAKURO\n\nKAYO pre.\nmuch love to you\n@初台WALL
URL:https://nakano-dynamite.com/wall/event/2024-06-26/
LOCATION:初台WALL\, 西新宿　3-15-8-B1\, 新宿区\, 東京都\, 160-0023\, Japan
ATTACH;FMTTYPE=image/jpeg:https://nakano-dynamite.com/wall/wp-content/uploads/2024/06/20240626.jpg
END:VEVENT
END:VCALENDAR