BEGIN:VCALENDAR
VERSION:2.0
PRODID:-//Livehouse Wall - ECPv6.15.20//NONSGML v1.0//EN
CALSCALE:GREGORIAN
METHOD:PUBLISH
X-WR-CALNAME:Livehouse Wall
X-ORIGINAL-URL:https://nakano-dynamite.com/wall
X-WR-CALDESC:Livehouse Wall のイベント
REFRESH-INTERVAL;VALUE=DURATION:PT1H
X-Robots-Tag:noindex
X-PUBLISHED-TTL:PT1H
BEGIN:VTIMEZONE
TZID:Asia/Tokyo
BEGIN:STANDARD
TZOFFSETFROM:+0900
TZOFFSETTO:+0900
TZNAME:JST
DTSTART:20220101T000000
END:STANDARD
END:VTIMEZONE
BEGIN:VEVENT
DTSTART;TZID=Asia/Tokyo:20240727T173000
DTEND;TZID=Asia/Tokyo:20240727T220000
DTSTAMP:20260423T154014
CREATED:20240712T083813Z
LAST-MODIFIED:20240712T083813Z
UID:2771-1722101400-1722117600@nakano-dynamite.com
SUMMARY:"The Maestro" Vol.10 CAL - EP ”超道” Release SxGxS - 1st Full Album "Trajectory" Release tour
DESCRIPTION:2024.07.27(sat)\nOPEN 17:30\nSTART 18:00\nADV ¥2500\nDOOR ¥3000\n+1D\nAudinaries\nBLASTER KID\nCAL\nKYOUDAI\nSmoothy\nSxGxS\n\nAudinaries pre.\n"The Maestro" Vol.10\nCAL - EP ”超道” Release\nSxGxS - 1st Full Album "Trajectory" Release tour \n@初台WALL
URL:https://nakano-dynamite.com/wall/event/2024-07-27/
LOCATION:初台WALL\, 西新宿　3-15-8-B1\, 新宿区\, 東京都\, 160-0023\, Japan
ATTACH;FMTTYPE=image/jpeg:https://nakano-dynamite.com/wall/wp-content/uploads/2024/07/20240727.jpg
END:VEVENT
BEGIN:VEVENT
DTSTART;TZID=Asia/Tokyo:20240302T120000
DTEND;TZID=Asia/Tokyo:20240302T220000
DTSTAMP:20260423T154014
CREATED:20240211T124153Z
LAST-MODIFIED:20240221T080252Z
UID:2349-1709380800-1709416800@nakano-dynamite.com
SUMMARY:MUCH LOVE TO YOU
DESCRIPTION:2024.03.02(sat)\nOPEN 12:00\nSTART 12:30\nDOOR￥400\n+1D(￥1000)\n\nViolent Chemical\nHOW\nCAL\n\n-DJ-\nAZUSA\nセージーガガ\n\n-FOOD-\nTAKE FREE!!\n\n\n\n\n\nKayo pre\nMUCH LOVE TO YOU\n@初台WALL
URL:https://nakano-dynamite.com/wall/event/2024-03-02/
LOCATION:初台WALL\, 西新宿　3-15-8-B1\, 新宿区\, 東京都\, 160-0023\, Japan
ATTACH;FMTTYPE=image/jpeg:https://nakano-dynamite.com/wall/wp-content/uploads/2024/02/20240302-1.jpg
END:VEVENT
BEGIN:VEVENT
DTSTART;TZID=Asia/Tokyo:20240218T160000
DTEND;TZID=Asia/Tokyo:20240218T220000
DTSTAMP:20260423T154014
CREATED:20240208T144527Z
LAST-MODIFIED:20240208T144527Z
UID:2302-1708272000-1708293600@nakano-dynamite.com
SUMMARY:SUNDAY UN-FES
DESCRIPTION:2024.02.18(sun)\nOPEN 16:00 \nSTART 16:30\nADV&DOOR￥2000+1D\n*200円ウィスキー有り\n\nUNDONE\nAWAKED\nCAL\nEL JABALI\nPORNOSTATE\nRED ROLL BLASTER\n9991\n\n\n\n\nUNDONE pre\nSUNDAY UN-FES\n@初台WALL
URL:https://nakano-dynamite.com/wall/event/2024-02-18/
LOCATION:初台WALL\, 西新宿　3-15-8-B1\, 新宿区\, 東京都\, 160-0023\, Japan
CATEGORIES:SUNDAY UN-FES
ATTACH;FMTTYPE=image/jpeg:https://nakano-dynamite.com/wall/wp-content/uploads/2024/02/20240218.jpg
END:VEVENT
BEGIN:VEVENT
DTSTART;TZID=Asia/Tokyo:20231028T140000
DTEND;TZID=Asia/Tokyo:20231028T220000
DTSTAMP:20260423T154014
CREATED:20231009T064553Z
LAST-MODIFIED:20231009T064553Z
UID:1599-1698501600-1698530400@nakano-dynamite.com
SUMMARY:蜘蛛の巣
DESCRIPTION:2023.10.28 (sat)\nOPEN 14:00  START 14:15\nADV/DOOR￥2400＋1D\nUnder22age Free(ID Check)\n\nイェン・ツー・パオ\nBEKSIN DA CULT\nFLING THING\nKAiMMENTAi\n999999999\nモザイクス\n0.001DAY\nstench\nCAL\ni's \n\n-DJ-\n乗り鉄\nMitsuo Fukuda\n-FOOD-\nマザーアース\n\n\n\ni's pre\n蜘蛛の巣\n@初台WALL
URL:https://nakano-dynamite.com/wall/event/2023-10-28/
LOCATION:初台WALL\, 西新宿　3-15-8-B1\, 新宿区\, 東京都\, 160-0023\, Japan
ATTACH;FMTTYPE=image/jpeg:https://nakano-dynamite.com/wall/wp-content/uploads/2023/09/20231028.jpg
END:VEVENT
BEGIN:VEVENT
DTSTART;TZID=Asia/Tokyo:20230514T163000
DTEND;TZID=Asia/Tokyo:20230514T220000
DTSTAMP:20260423T154014
CREATED:20230506T172500Z
LAST-MODIFIED:20230506T172500Z
UID:1263-1684081800-1684101600@nakano-dynamite.com
SUMMARY:SHINKAI
DESCRIPTION:2023.05.07 (sun)\nOPEN 16:30  START 17:00\nADV¥2000　DOOR¥2500　+1D\n\nBAND \nCAL 　\ni's 　\n999999999 　\nNINJA BOYZ 　\nILIAS 　\nitami teeth \nmakeshift \n\nDJ 　\nえむち 　\nちぇじぇま \n　YU-RI(club zion)\n\nFOOD 　va nguoi bao ve \n\n\nCAL pre\nSHINKAI\n@初台WALL
URL:https://nakano-dynamite.com/wall/event/2023-05-07-2/
LOCATION:初台WALL\, 西新宿　3-15-8-B1\, 新宿区\, 東京都\, 160-0023\, Japan
ATTACH;FMTTYPE=image/jpeg:https://nakano-dynamite.com/wall/wp-content/uploads/2023/05/20230514.jpg
END:VEVENT
BEGIN:VEVENT
DTSTART;TZID=Asia/Tokyo:20230402T163000
DTEND;TZID=Asia/Tokyo:20230402T220000
DTSTAMP:20260423T154014
CREATED:20230302T063356Z
LAST-MODIFIED:20230302T063356Z
UID:1010-1680453000-1680472800@nakano-dynamite.com
SUMMARY:Loud & Proud Volume 4
DESCRIPTION:2023.04.02(sun)\nOPEN 16:30 START 17:15\nADV￥1500/DOOR￥2000+1D\n\n\nQUETZALCOATL\nYOUNG FOREVER\nCAL\nHOW\nSOMEOLD\nDISGUNDER\nUNDONE\n \nUNDONE Presents\nLoud & Proud Volume 4\n@初台WALL\n 
URL:https://nakano-dynamite.com/wall/event/20230402/
LOCATION:初台WALL\, 西新宿　3-15-8-B1\, 新宿区\, 東京都\, 160-0023\, Japan
ATTACH;FMTTYPE=image/jpeg:https://nakano-dynamite.com/wall/wp-content/uploads/2023/03/20230402.jpg
END:VEVENT
END:VCALENDAR