BEGIN:VCALENDAR
VERSION:2.0
PRODID:-//Livehouse Wall - ECPv6.15.20//NONSGML v1.0//EN
CALSCALE:GREGORIAN
METHOD:PUBLISH
X-ORIGINAL-URL:https://nakano-dynamite.com/wall
X-WR-CALDESC:Livehouse Wall のイベント
REFRESH-INTERVAL;VALUE=DURATION:PT1H
X-Robots-Tag:noindex
X-PUBLISHED-TTL:PT1H
BEGIN:VTIMEZONE
TZID:Asia/Tokyo
BEGIN:STANDARD
TZOFFSETFROM:+0900
TZOFFSETTO:+0900
TZNAME:JST
DTSTART:20250101T000000
END:STANDARD
END:VTIMEZONE
BEGIN:VEVENT
DTSTART;TZID=Asia/Tokyo:20260414T190000
DTEND;TZID=Asia/Tokyo:20260414T230000
DTSTAMP:20260419T225804
CREATED:20260228T110052Z
LAST-MODIFIED:20260410T120420Z
UID:4699-1776193200-1776207600@nakano-dynamite.com
SUMMARY:DOOM FUJIYAMA pre "Vinnum Sabatthi vol.9"
DESCRIPTION:2026.04.14(Tue)\nOPEN 19:00\nSTART 19:30\nADV ¥2400\nDOOR ¥2900\n+1D\n\nBOTTON BENJO\nDiPA\nTentacle Centipede\nNIRVANA420\n沈む鉛\nDJ:サバス田中\n \nDOOM FUJIYAMA\npre Vinnum Sabatthi vol.9\n@初台WALL
URL:https://nakano-dynamite.com/wall/event/2026-04-14/
LOCATION:初台WALL\, 西新宿　3-15-8-B1\, 新宿区\, 東京都\, 160-0023\, Japan
CATEGORIES:ALCOHOL BREAK
ATTACH;FMTTYPE=image/png:https://nakano-dynamite.com/wall/wp-content/uploads/2026/02/0414_TT.png
END:VEVENT
BEGIN:VEVENT
DTSTART;TZID=Asia/Tokyo:20260506T180000
DTEND;TZID=Asia/Tokyo:20260506T220000
DTSTAMP:20260419T225804
CREATED:20260408T150612Z
LAST-MODIFIED:20260408T150612Z
UID:4825-1778090400-1778104800@nakano-dynamite.com
SUMMARY:CATALANO JAPAN TOUR 2026
DESCRIPTION:2026.05.06(wed)\nOPEN 18:00\nSTART 18:30\nADV ¥2900\nDOOR ¥3400\n+1D\n\nCATALANO(from Australia)\nDIET OF DEATH\nDipa\nÖRDER\nThe Trench Hill\n\n\n\n\nWALL pre.\nCATALANO JAPAN TOUR 2026\n@初台WALL
URL:https://nakano-dynamite.com/wall/event/2026-05-06/
LOCATION:初台WALL\, 西新宿　3-15-8-B1\, 新宿区\, 東京都\, 160-0023\, Japan
ATTACH;FMTTYPE=image/jpeg:https://nakano-dynamite.com/wall/wp-content/uploads/2026/04/20260506.jpg
END:VEVENT
END:VCALENDAR